BEGIN:VCALENDAR
VERSION:2.0
PRODID:-//MS-U14Z-KVA//NONSGML kigkonsult.se iCalcreator 2.41.80//
CALSCALE:GREGORIAN
UID:34613861-6266-4466-b132-666335333935
BEGIN:VEVENT
UID:34353162-3064-4563-b962-363866633039
DTSTAMP:20260424T233519Z
DESCRIPTION:1/1 ŠSK Bílovec - TJ Sokol Frýdek - Místek B 2:0 (12\,8)
DTSTART;TZID=Europe/Berlin:20231007T090000
DTEND;TZID=Europe/Berlin:20231007T110000
LOCATION:Víceúčelová sportovní hala\,  Raškovice18
SUMMARY:MS-U14Z-KVA: ŠSK Bílovec-TJ Sokol Frýdek - Místek B
END:VEVENT
BEGIN:VEVENT
UID:66366636-3539-4332-b266-326334353432
DTSTAMP:20260424T233519Z
DESCRIPTION:2/2 VK Polanka nad Odrou A - SVK Nový Jičín B 1:2 (16\,-21\,-6)
DTSTART;TZID=Europe/Berlin:20231007T103000
DTEND;TZID=Europe/Berlin:20231007T123000
LOCATION:Víceúčelová sportovní hala\,  Raškovice18
SUMMARY:MS-U14Z-KVA: VK Polanka nad Odrou A-SVK Nový Jičín B
END:VEVENT
BEGIN:VEVENT
UID:61613432-6461-4966-a535-653763393765
DTSTAMP:20260424T233519Z
DESCRIPTION:3/3 VK Polanka nad Odrou A - TJ Sokol Frýdek - Místek B 2:0 (14
 \,9)
DTSTART;TZID=Europe/Berlin:20231007T120000
DTEND;TZID=Europe/Berlin:20231007T140000
LOCATION:Víceúčelová sportovní hala\,  Raškovice18
SUMMARY:MS-U14Z-KVA: VK Polanka nad Odrou A-TJ Sokol Frýdek - Místek B
END:VEVENT
BEGIN:VEVENT
UID:33326430-6362-4637-b863-313332633362
DTSTAMP:20260424T233519Z
DESCRIPTION:4/4 ŠSK Bílovec - SVK Nový Jičín B 2:0 (16\,8)
DTSTART;TZID=Europe/Berlin:20231007T133000
DTEND;TZID=Europe/Berlin:20231007T153000
LOCATION:Víceúčelová sportovní hala\,  Raškovice18
SUMMARY:MS-U14Z-KVA: ŠSK Bílovec-SVK Nový Jičín B
END:VEVENT
BEGIN:VEVENT
UID:64383233-3663-4134-b563-386333363831
DTSTAMP:20260424T233519Z
DESCRIPTION:5/5 ŠSK Bílovec - VK Polanka nad Odrou A 2:0 (12\,6)
DTSTART;TZID=Europe/Berlin:20231007T150000
DTEND;TZID=Europe/Berlin:20231007T170000
LOCATION:Víceúčelová sportovní hala\,  Raškovice18
SUMMARY:MS-U14Z-KVA: ŠSK Bílovec-VK Polanka nad Odrou A
END:VEVENT
BEGIN:VEVENT
UID:30323662-6138-4466-b831-353437623034
DTSTAMP:20260424T233519Z
DESCRIPTION:6/6 SVK Nový Jičín B - TJ Sokol Frýdek - Místek B 1:2 (24\,-18\
 ,-13)
DTSTART;TZID=Europe/Berlin:20231007T163000
DTEND;TZID=Europe/Berlin:20231007T183000
LOCATION:Víceúčelová sportovní hala\,  Raškovice18
SUMMARY:MS-U14Z-KVA: SVK Nový Jičín B-TJ Sokol Frýdek - Místek B
END:VEVENT
END:VCALENDAR
