BEGIN:VCALENDAR
VERSION:2.0
PRODID:-//1-M-A//NONSGML kigkonsult.se iCalcreator 2.41.80//
CALSCALE:GREGORIAN
UID:65356539-3361-4438-b837-336562393466
BEGIN:VEVENT
UID:61316637-6231-4462-b134-326430646138
DTSTAMP:20260422T182921Z
DESCRIPTION:1/12001 MFF Praha - ČZU Praha 0:3 (-22\,-17\,-17)
DTSTART;TZID=Europe/Berlin:20230922T190000
DTEND;TZID=Europe/Berlin:20230922T210000
LOCATION:Sportovní centrum UK\, Bruslařská 1132 Praha - Hostivař
SUMMARY:1-M-A: MFF Praha-ČZU Praha
END:VEVENT
BEGIN:VEVENT
UID:61653861-3934-4834-b835-623731623531
DTSTAMP:20260422T182921Z
DESCRIPTION:1/12003 Dobřichovice - Plzeň 3:0 (16\,21\,18)
DTSTART;TZID=Europe/Berlin:20230922T180000
DTEND;TZID=Europe/Berlin:20230922T200000
LOCATION:BIOS\, Pražská 375 Dobřichovice
SUMMARY:1-M-A: Dobřichovice-Plzeň
END:VEVENT
BEGIN:VEVENT
UID:65303830-3833-4138-a639-633030356337
DTSTAMP:20260422T182921Z
DESCRIPTION:1/12004 Liberec B - Lvi Praha B 3:0 (17\,23\,23)
DTSTART;TZID=Europe/Berlin:20230922T190000
DTEND;TZID=Europe/Berlin:20230922T210000
LOCATION:Dukla Liberec\, Jeronýmova 558 Liberec - Liberec VII-Horní Růžodol
SUMMARY:1-M-A: Liberec B-Lvi Praha B
END:VEVENT
BEGIN:VEVENT
UID:66333931-3435-4632-b831-613739356366
DTSTAMP:20260422T182921Z
DESCRIPTION:2/12005 ČZU Praha - Lvi Praha B 0:3 (-19\,-21\,-12)
DTSTART;TZID=Europe/Berlin:20230923T130000
DTEND;TZID=Europe/Berlin:20230923T150000
LOCATION:Sportcentrum Suchdol ČZU\, Sídlištní 1167 Praha - Suchdol
SUMMARY:1-M-A: ČZU Praha-Lvi Praha B
END:VEVENT
BEGIN:VEVENT
UID:33643862-3838-4433-b264-316663626464
DTSTAMP:20260422T182921Z
DESCRIPTION:2/12006 Plzeň - Liberec B 0:3 (-16\,-18\,-21)
DTSTART;TZID=Europe/Berlin:20230923T170000
DTEND;TZID=Europe/Berlin:20230923T190000
LOCATION:Hala PF ZČU Plzeň\, Klatovská třída 1736 Plzeň - Jižní Předměstí
SUMMARY:1-M-A: Plzeň-Liberec B
END:VEVENT
BEGIN:VEVENT
UID:65386561-6134-4539-b235-656338306632
DTSTAMP:20260422T182921Z
DESCRIPTION:2/12007 Č. Budějovice B - Dobřichovice 0:3 (-21\,-19\,-18)
DTSTART;TZID=Europe/Berlin:20230923T130000
DTEND;TZID=Europe/Berlin:20230923T150000
LOCATION:ZŠ Oskara Nedbala České Budějovice\, O. Nedbala 882 České Budějovi
 ce - České Budějovice 2
SUMMARY:1-M-A: Č. Budějovice B-Dobřichovice
END:VEVENT
BEGIN:VEVENT
UID:32316533-3332-4466-b334-393966386265
DTSTAMP:20260422T182921Z
DESCRIPTION:3/12010 Dobřichovice - MFF Praha 3:0 (23\,22\,24)
DTSTART;TZID=Europe/Berlin:20230930T170000
DTEND;TZID=Europe/Berlin:20230930T190000
LOCATION:BIOS\, Pražská 375 Dobřichovice
SUMMARY:1-M-A: Dobřichovice-MFF Praha
END:VEVENT
BEGIN:VEVENT
UID:64663032-6231-4264-a465-333465633633
DTSTAMP:20260422T182921Z
DESCRIPTION:3/12011 Liberec B - Č. Budějovice B 3:2 (20\,23\,-23\,-12\,13)
DTSTART;TZID=Europe/Berlin:20230929T190000
DTEND;TZID=Europe/Berlin:20230929T210000
LOCATION:Dukla Liberec\, Jeronýmova 558 Liberec - Liberec VII-Horní Růžodol
SUMMARY:1-M-A: Liberec B-Č. Budějovice B
END:VEVENT
BEGIN:VEVENT
UID:30356439-3635-4337-b238-356463373236
DTSTAMP:20260422T182921Z
DESCRIPTION:3/12012 Lvi Praha B - Plzeň 3:1 (14\,24\,-23\,18)
DTSTART;TZID=Europe/Berlin:20230929T180000
DTEND;TZID=Europe/Berlin:20230929T200000
LOCATION:Sportovní hala Lužiny\, Bellušova 1877 Praha - Stodůlky
SUMMARY:1-M-A: Lvi Praha B-Plzeň
END:VEVENT
BEGIN:VEVENT
UID:61383633-6232-4530-a266-386463366635
DTSTAMP:20260422T182921Z
DESCRIPTION:4/12013 ČZU Praha - Plzeň 3:0 (23\,23\,20)
DTSTART;TZID=Europe/Berlin:20231006T190000
DTEND;TZID=Europe/Berlin:20231006T210000
LOCATION:Sportcentrum Suchdol ČZU\, Sídlištní 1167 Praha - Suchdol
SUMMARY:1-M-A: ČZU Praha-Plzeň
END:VEVENT
BEGIN:VEVENT
UID:32636436-3363-4366-b632-626665633261
DTSTAMP:20260422T182921Z
DESCRIPTION:4/12014 Č. Budějovice B - Lvi Praha B 3:0 (16\,22\,20)
DTSTART;TZID=Europe/Berlin:20231006T190000
DTEND;TZID=Europe/Berlin:20231006T210000
LOCATION:ZŠ Oskara Nedbala České Budějovice\, O. Nedbala 882 České Budějovi
 ce - České Budějovice 2
SUMMARY:1-M-A: Č. Budějovice B-Lvi Praha B
END:VEVENT
BEGIN:VEVENT
UID:34643036-3662-4636-b638-613563313633
DTSTAMP:20260422T182921Z
DESCRIPTION:4/12015 MFF Praha - Liberec B 2:3 (-12\,23\,-16\,23\,-13)
DTSTART;TZID=Europe/Berlin:20231006T190000
DTEND;TZID=Europe/Berlin:20231006T210000
LOCATION:Sportovní centrum UK\, Bruslařská 1132 Praha - Hostivař
SUMMARY:1-M-A: MFF Praha-Liberec B
END:VEVENT
BEGIN:VEVENT
UID:36353266-6662-4234-b330-323734393161
DTSTAMP:20260422T182921Z
DESCRIPTION:5/12017 Dobřichovice - ČZU Praha 3:0 (11\,16\,13)
DTSTART;TZID=Europe/Berlin:20231007T170000
DTEND;TZID=Europe/Berlin:20231007T190000
LOCATION:BIOS\, Pražská 375 Dobřichovice
SUMMARY:1-M-A: Dobřichovice-ČZU Praha
END:VEVENT
BEGIN:VEVENT
UID:37636335-6236-4334-a437-323839613066
DTSTAMP:20260422T182921Z
DESCRIPTION:5/12019 Lvi Praha B - MFF Praha 0:3 (-24\,-23\,-22)
DTSTART;TZID=Europe/Berlin:20231007T170000
DTEND;TZID=Europe/Berlin:20231007T190000
LOCATION:Sportovní hala Lužiny\, Bellušova 1877 Praha - Stodůlky
SUMMARY:1-M-A: Lvi Praha B-MFF Praha
END:VEVENT
BEGIN:VEVENT
UID:34373231-3638-4164-a361-336437616365
DTSTAMP:20260422T182921Z
DESCRIPTION:5/12020 Plzeň - Č. Budějovice B 0:3 (-19\,-20\,-24)
DTSTART;TZID=Europe/Berlin:20231007T170000
DTEND;TZID=Europe/Berlin:20231007T190000
LOCATION:Hala PF ZČU Plzeň\, Klatovská třída 1736 Plzeň - Jižní Předměstí
SUMMARY:1-M-A: Plzeň-Č. Budějovice B
END:VEVENT
BEGIN:VEVENT
UID:66653336-3035-4435-b234-346234613732
DTSTAMP:20260422T182921Z
DESCRIPTION:6/12021 ČZU Praha - Č. Budějovice B 2:3 (-14\,-23\,19\,22\,-13)
DTSTART;TZID=Europe/Berlin:20231013T190000
DTEND;TZID=Europe/Berlin:20231013T210000
LOCATION:Sportcentrum Suchdol ČZU\, Sídlištní 1167 Praha - Suchdol
SUMMARY:1-M-A: ČZU Praha-Č. Budějovice B
END:VEVENT
BEGIN:VEVENT
UID:34666436-3539-4531-b663-366539383034
DTSTAMP:20260422T182922Z
DESCRIPTION:6/12022 MFF Praha - Plzeň 3:2 (19\,23\,-9\,-19\,10)
DTSTART;TZID=Europe/Berlin:20231013T190000
DTEND;TZID=Europe/Berlin:20231013T210000
LOCATION:Sportovní centrum UK\, Bruslařská 1132 Praha - Hostivař
SUMMARY:1-M-A: MFF Praha-Plzeň
END:VEVENT
BEGIN:VEVENT
UID:30666234-6632-4466-a631-353036373330
DTSTAMP:20260422T182922Z
DESCRIPTION:6/12024 Dobřichovice - Liberec B 1:3 (-27\,-21\,18\,-24)
DTSTART;TZID=Europe/Berlin:20231013T180000
DTEND;TZID=Europe/Berlin:20231013T200000
LOCATION:BIOS\, Pražská 375 Dobřichovice
SUMMARY:1-M-A: Dobřichovice-Liberec B
END:VEVENT
BEGIN:VEVENT
UID:62653335-6130-4565-b666-336333323032
DTSTAMP:20260422T182922Z
DESCRIPTION:7/12025 Liberec B - ČZU Praha 3:1 (18\,-25\,21\,17)
DTSTART;TZID=Europe/Berlin:20231020T190000
DTEND;TZID=Europe/Berlin:20231020T210000
LOCATION:Dukla Liberec\, Jeronýmova 558 Liberec - Liberec VII-Horní Růžodol
SUMMARY:1-M-A: Liberec B-ČZU Praha
END:VEVENT
BEGIN:VEVENT
UID:65303966-6131-4865-a632-373139656536
DTSTAMP:20260422T182922Z
DESCRIPTION:7/12026 Lvi Praha B - Dobřichovice 0:3 (-14\,-14\,-14)
DTSTART;TZID=Europe/Berlin:20231020T180000
DTEND;TZID=Europe/Berlin:20231020T200000
LOCATION:Sportovní hala Lužiny\, Bellušova 1877 Praha - Stodůlky
SUMMARY:1-M-A: Lvi Praha B-Dobřichovice
END:VEVENT
BEGIN:VEVENT
UID:62643161-6166-4934-b238-336136383465
DTSTAMP:20260422T182922Z
DESCRIPTION:7/12028 Č. Budějovice B - MFF Praha 3:0 (19\,18\,13)
DTSTART;TZID=Europe/Berlin:20231020T190000
DTEND;TZID=Europe/Berlin:20231020T210000
LOCATION:ZŠ Oskara Nedbala České Budějovice\, O. Nedbala 882 České Budějovi
 ce - České Budějovice 2
SUMMARY:1-M-A: Č. Budějovice B-MFF Praha
END:VEVENT
BEGIN:VEVENT
UID:64663964-3739-4938-b933-326665366561
DTSTAMP:20260422T182922Z
DESCRIPTION:8/12029 ČZU Praha - MFF Praha 3:1 (-23\,22\,17\,19)
DTSTART;TZID=Europe/Berlin:20231021T130000
DTEND;TZID=Europe/Berlin:20231021T150000
LOCATION:Sportcentrum Suchdol ČZU\, Sídlištní 1167 Praha - Suchdol
SUMMARY:1-M-A: ČZU Praha-MFF Praha
END:VEVENT
BEGIN:VEVENT
UID:33656236-3136-4139-b638-626365376434
DTSTAMP:20260422T182922Z
DESCRIPTION:8/12031 Plzeň - Dobřichovice 0:3 (-17\,-18\,-13)
DTSTART;TZID=Europe/Berlin:20231021T170000
DTEND;TZID=Europe/Berlin:20231021T190000
LOCATION:Hala PF ZČU Plzeň\, Klatovská třída 1736 Plzeň - Jižní Předměstí
SUMMARY:1-M-A: Plzeň-Dobřichovice
END:VEVENT
BEGIN:VEVENT
UID:34613864-3165-4163-a666-323938623366
DTSTAMP:20260422T182922Z
DESCRIPTION:8/12032 Lvi Praha B - Liberec B 3:2 (-9\,21\,19\,-15\,10)
DTSTART;TZID=Europe/Berlin:20231022T110000
DTEND;TZID=Europe/Berlin:20231022T130000
LOCATION:Sportovní hala Lužiny\, Bellušova 1877 Praha - Stodůlky
SUMMARY:1-M-A: Lvi Praha B-Liberec B
END:VEVENT
BEGIN:VEVENT
UID:30323361-6161-4861-a230-376166316464
DTSTAMP:20260422T182922Z
DESCRIPTION:9/12033 Lvi Praha B - ČZU Praha 3:2 (-20\,-20\,23\,21\,13)
DTSTART;TZID=Europe/Berlin:20231027T180000
DTEND;TZID=Europe/Berlin:20231027T200000
LOCATION:Sportovní hala Lužiny\, Bellušova 1877 Praha - Stodůlky
SUMMARY:1-M-A: Lvi Praha B-ČZU Praha
END:VEVENT
BEGIN:VEVENT
UID:62386364-3661-4863-a238-623563613733
DTSTAMP:20260422T182922Z
DESCRIPTION:9/12034 Liberec B - Plzeň 3:0 (22\,14\,17)
DTSTART;TZID=Europe/Berlin:20231027T190000
DTEND;TZID=Europe/Berlin:20231027T210000
LOCATION:Dukla Liberec\, Jeronýmova 558 Liberec - Liberec VII-Horní Růžodol
SUMMARY:1-M-A: Liberec B-Plzeň
END:VEVENT
BEGIN:VEVENT
UID:63643732-3162-4838-b936-373162643930
DTSTAMP:20260422T182922Z
DESCRIPTION:9/12035 Dobřichovice - Č. Budějovice B 3:0 (15\,16\,20)
DTSTART;TZID=Europe/Berlin:20231028T170000
DTEND;TZID=Europe/Berlin:20231028T190000
LOCATION:BIOS\, Pražská 375 Dobřichovice
SUMMARY:1-M-A: Dobřichovice-Č. Budějovice B
END:VEVENT
BEGIN:VEVENT
UID:32303661-3266-4364-b431-633032656637
DTSTAMP:20260422T182922Z
DESCRIPTION:10/12038 MFF Praha - Dobřichovice 3:0 (20\,21\,18)
DTSTART;TZID=Europe/Berlin:20231103T190000
DTEND;TZID=Europe/Berlin:20231103T210000
LOCATION:Sportovní centrum UK\, Bruslařská 1132 Praha - Hostivař
SUMMARY:1-M-A: MFF Praha-Dobřichovice
END:VEVENT
BEGIN:VEVENT
UID:37373735-6265-4639-b237-386562306562
DTSTAMP:20260422T182922Z
DESCRIPTION:10/12039 Č. Budějovice B - Liberec B 3:2 (-17\,22\,19\,-23\,6)
DTSTART;TZID=Europe/Berlin:20231103T190000
DTEND;TZID=Europe/Berlin:20231103T210000
LOCATION:ZŠ Oskara Nedbala České Budějovice\, O. Nedbala 882 České Budějovi
 ce - České Budějovice 2
SUMMARY:1-M-A: Č. Budějovice B-Liberec B
END:VEVENT
BEGIN:VEVENT
UID:62643437-3939-4230-b466-353663393064
DTSTAMP:20260422T182922Z
DESCRIPTION:10/12040 Plzeň - Lvi Praha B 3:0 (21\,23\,22)
DTSTART;TZID=Europe/Berlin:20231103T190000
DTEND;TZID=Europe/Berlin:20231103T210000
LOCATION:Hala PF ZČU Plzeň\, Klatovská třída 1736 Plzeň - Jižní Předměstí
SUMMARY:1-M-A: Plzeň-Lvi Praha B
END:VEVENT
BEGIN:VEVENT
UID:65393130-3637-4736-a531-373665333663
DTSTAMP:20260422T182922Z
DESCRIPTION:11/12041 Plzeň - ČZU Praha 3:1 (26\,14\,-22\,24)
DTSTART;TZID=Europe/Berlin:20231110T190000
DTEND;TZID=Europe/Berlin:20231110T210000
LOCATION:Hala PF ZČU Plzeň\, Klatovská třída 1736 Plzeň - Jižní Předměstí
SUMMARY:1-M-A: Plzeň-ČZU Praha
END:VEVENT
BEGIN:VEVENT
UID:39663437-6462-4062-b934-363566333533
DTSTAMP:20260422T182922Z
DESCRIPTION:11/12042 Lvi Praha B - Č. Budějovice B 0:3 (-21\,-21\,-14)
DTSTART;TZID=Europe/Berlin:20231110T180000
DTEND;TZID=Europe/Berlin:20231110T200000
LOCATION:Sportovní hala Lužiny\, Bellušova 1877 Praha - Stodůlky
SUMMARY:1-M-A: Lvi Praha B-Č. Budějovice B
END:VEVENT
BEGIN:VEVENT
UID:32633364-6330-4331-a231-633633393866
DTSTAMP:20260422T182922Z
DESCRIPTION:11/12043 Liberec B - MFF Praha 3:0 (20\,20\,22)
DTSTART;TZID=Europe/Berlin:20231110T190000
DTEND;TZID=Europe/Berlin:20231110T210000
LOCATION:Dukla Liberec\, Jeronýmova 558 Liberec - Liberec VII-Horní Růžodol
SUMMARY:1-M-A: Liberec B-MFF Praha
END:VEVENT
BEGIN:VEVENT
UID:35336237-6134-4161-a465-306532623661
DTSTAMP:20260422T182922Z
DESCRIPTION:12/12045 ČZU Praha - Dobřichovice 0:3 (-14\,-23\,-22)
DTSTART;TZID=Europe/Berlin:20231108T190000
DTEND;TZID=Europe/Berlin:20231108T210000
LOCATION:Sportcentrum Suchdol ČZU\, Sídlištní 1167 Praha - Suchdol
SUMMARY:1-M-A: ČZU Praha-Dobřichovice
END:VEVENT
BEGIN:VEVENT
UID:38386139-3938-4535-b033-313536623634
DTSTAMP:20260422T182922Z
DESCRIPTION:12/12047 MFF Praha - Lvi Praha B 3:0 (16\,22\,14)
DTSTART;TZID=Europe/Berlin:20231108T200000
DTEND;TZID=Europe/Berlin:20231108T220000
LOCATION:Sportovní centrum UK\, Bruslařská 1132 Praha - Hostivař
SUMMARY:1-M-A: MFF Praha-Lvi Praha B
END:VEVENT
BEGIN:VEVENT
UID:64643662-6236-4233-b534-653236326365
DTSTAMP:20260422T182922Z
DESCRIPTION:12/12048 Č. Budějovice B - Plzeň 3:0 (21\,19\,19)
DTSTART;TZID=Europe/Berlin:20231117T190000
DTEND;TZID=Europe/Berlin:20231117T210000
LOCATION:ZŠ Oskara Nedbala České Budějovice\, O. Nedbala 882 České Budějovi
 ce - České Budějovice 2
SUMMARY:1-M-A: Č. Budějovice B-Plzeň
END:VEVENT
BEGIN:VEVENT
UID:30636566-6261-4532-b764-643130346333
DTSTAMP:20260422T182922Z
DESCRIPTION:13/12049 Č. Budějovice B - ČZU Praha 3:0 (20\,18\,22)
DTSTART;TZID=Europe/Berlin:20231124T190000
DTEND;TZID=Europe/Berlin:20231124T210000
LOCATION:ZŠ Oskara Nedbala České Budějovice\, O. Nedbala 882 České Budějovi
 ce - České Budějovice 2
SUMMARY:1-M-A: Č. Budějovice B-ČZU Praha
END:VEVENT
BEGIN:VEVENT
UID:34343761-6336-4165-b235-666261613663
DTSTAMP:20260422T182922Z
DESCRIPTION:13/12050 Plzeň - MFF Praha 3:1 (20\,15\,-20\,17)
DTSTART;TZID=Europe/Berlin:20231124T190000
DTEND;TZID=Europe/Berlin:20231124T210000
LOCATION:Hala PF ZČU Plzeň\, Klatovská třída 1736 Plzeň - Jižní Předměstí
SUMMARY:1-M-A: Plzeň-MFF Praha
END:VEVENT
BEGIN:VEVENT
UID:64303235-6135-4063-a163-356536323431
DTSTAMP:20260422T182922Z
DESCRIPTION:13/12052 Liberec B - Dobřichovice 1:3 (25\,-17\,-15\,-13)
DTSTART;TZID=Europe/Berlin:20231124T190000
DTEND;TZID=Europe/Berlin:20231124T210000
LOCATION:Dukla Liberec\, Jeronýmova 558 Liberec - Liberec VII-Horní Růžodol
SUMMARY:1-M-A: Liberec B-Dobřichovice
END:VEVENT
BEGIN:VEVENT
UID:33636633-3363-4161-a533-336430643138
DTSTAMP:20260422T182922Z
DESCRIPTION:14/12053 ČZU Praha - Liberec B 3:0 (22\,26\,31)
DTSTART;TZID=Europe/Berlin:20231201T190000
DTEND;TZID=Europe/Berlin:20231201T210000
LOCATION:Sportcentrum Suchdol ČZU\, Sídlištní 1167 Praha - Suchdol
SUMMARY:1-M-A: ČZU Praha-Liberec B
END:VEVENT
BEGIN:VEVENT
UID:66313332-3230-4432-b762-663131373566
DTSTAMP:20260422T182922Z
DESCRIPTION:14/12054 Dobřichovice - Lvi Praha B 3:0 (18\,18\,13)
DTSTART;TZID=Europe/Berlin:20231128T190000
DTEND;TZID=Europe/Berlin:20231128T210000
LOCATION:BIOS\, Pražská 375 Dobřichovice
SUMMARY:1-M-A: Dobřichovice-Lvi Praha B
END:VEVENT
BEGIN:VEVENT
UID:63383038-3339-4531-b732-366237383165
DTSTAMP:20260422T182922Z
DESCRIPTION:14/12056 MFF Praha - Č. Budějovice B 1:3 (17\,-20\,-15\,-23)
DTSTART;TZID=Europe/Berlin:20231201T190000
DTEND;TZID=Europe/Berlin:20231201T210000
LOCATION:Sportovní centrum UK\, Bruslařská 1132 Praha - Hostivař
SUMMARY:1-M-A: MFF Praha-Č. Budějovice B
END:VEVENT
END:VCALENDAR
