BEGIN:VCALENDAR
VERSION:2.0
PRODID:-//CP-U16Z-V1A//NONSGML kigkonsult.se iCalcreator 2.41.80//
CALSCALE:GREGORIAN
UID:64323136-3435-4734-b338-653430336333
BEGIN:VEVENT
UID:30366666-6562-4563-a138-336465343064
DTSTAMP:20260422T182948Z
DESCRIPTION:1/1 TJ Slavia Hradec Králové - TJ Jiskra Jaroměř 2:0 (12\,14)\n
 kurt č.3
DTSTART;TZID=Europe/Berlin:20230923T100000
DTEND;TZID=Europe/Berlin:20230923T120000
LOCATION:TJ Slavia Hradec Králové\, Víta Nejedlého 1216 Hradec Králové
SUMMARY:CP-U16Z-V1A: TJ Slavia Hradec Králové-TJ Jiskra Jaroměř
END:VEVENT
BEGIN:VEVENT
UID:65333737-3937-4232-b630-643331663037
DTSTAMP:20260422T182948Z
DESCRIPTION:1/2 VO TJ Lanškroun B - TJ Jičín 0:2 (-6\,-24)\nkurt č.4
DTSTART;TZID=Europe/Berlin:20230923T100000
DTEND;TZID=Europe/Berlin:20230923T120000
LOCATION:SOŠ a SOU Lanškroun\, Sokolská 288 Lanškroun - Ostrovské Předměstí
SUMMARY:CP-U16Z-V1A: VO TJ Lanškroun B-TJ Jičín
END:VEVENT
BEGIN:VEVENT
UID:30616462-3038-4161-a561-333037336465
DTSTAMP:20260422T182948Z
DESCRIPTION:2/3 TJ Žďár nad Sázavou - TJ Jiskra Havlíčkův Brod 0:2 (-20\,-1
 8)\nkurt č. 3
DTSTART;TZID=Europe/Berlin:20230923T110000
DTEND;TZID=Europe/Berlin:20230923T130000
LOCATION:ZŠ Palachova\, Palachova 1757 Žďár nad Sázavou - Žďár nad Sázavou 
 6
SUMMARY:CP-U16Z-V1A: TJ Žďár nad Sázavou-TJ Jiskra Havlíčkův Brod
END:VEVENT
BEGIN:VEVENT
UID:66643835-3431-4439-a335-323038363835
DTSTAMP:20260422T182948Z
DESCRIPTION:3/4 TJ Slavia Hradec Králové - TJ Jičín 2:0 (12\,22)\nkurt č. 3
DTSTART;TZID=Europe/Berlin:20230923T120000
DTEND;TZID=Europe/Berlin:20230923T140000
LOCATION:TJ Slavia Hradec Králové\, Víta Nejedlého 1216 Hradec Králové
SUMMARY:CP-U16Z-V1A: TJ Slavia Hradec Králové-TJ Jičín
END:VEVENT
BEGIN:VEVENT
UID:32366466-3966-4431-a563-383261383464
DTSTAMP:20260422T182948Z
DESCRIPTION:4/5 TJ Žďár nad Sázavou - TJ Jiskra Jaroměř 0:2 (-13\,-15)\nkur
 t č. 3
DTSTART;TZID=Europe/Berlin:20230923T133000
DTEND;TZID=Europe/Berlin:20230923T153000
LOCATION:ZŠ Palachova\, Palachova 1757 Žďár nad Sázavou - Žďár nad Sázavou 
 6
SUMMARY:CP-U16Z-V1A: TJ Žďár nad Sázavou-TJ Jiskra Jaroměř
END:VEVENT
BEGIN:VEVENT
UID:31623938-3165-4061-a336-383738303432
DTSTAMP:20260422T182948Z
DESCRIPTION:4/6 VO TJ Lanškroun B - TJ Jiskra Havlíčkův Brod 0:2 (-22\,-17)
 \nkurt č.4
DTSTART;TZID=Europe/Berlin:20230923T133000
DTEND;TZID=Europe/Berlin:20230923T153000
LOCATION:SOŠ a SOU Lanškroun\, Sokolská 288 Lanškroun - Ostrovské Předměstí
SUMMARY:CP-U16Z-V1A: VO TJ Lanškroun B-TJ Jiskra Havlíčkův Brod
END:VEVENT
BEGIN:VEVENT
UID:30633930-3463-4433-b763-346530363931
DTSTAMP:20260422T182948Z
DESCRIPTION:5/7 TJ Jiskra Jaroměř - TJ Jičín 2:1 (-25\,22\,10)\nkurt č.3
DTSTART;TZID=Europe/Berlin:20230923T143000
DTEND;TZID=Europe/Berlin:20230923T163000
LOCATION:Hala SŠŘ\, Na Karlově 798 Jaroměř - Pražské Předměstí
SUMMARY:CP-U16Z-V1A: TJ Jiskra Jaroměř-TJ Jičín
END:VEVENT
BEGIN:VEVENT
UID:39333932-3936-4734-b736-623166613361
DTSTAMP:20260422T182948Z
DESCRIPTION:6/8 TJ Slavia Hradec Králové - TJ Jiskra Havlíčkův Brod 2:0 (11
 \,19)\nkurt č.3
DTSTART;TZID=Europe/Berlin:20230923T153000
DTEND;TZID=Europe/Berlin:20230923T173000
LOCATION:TJ Slavia Hradec Králové\, Víta Nejedlého 1216 Hradec Králové
SUMMARY:CP-U16Z-V1A: TJ Slavia Hradec Králové-TJ Jiskra Havlíčkův Brod
END:VEVENT
BEGIN:VEVENT
UID:30343562-3537-4538-b637-643465373030
DTSTAMP:20260422T182948Z
DESCRIPTION:6/9 VO TJ Lanškroun B - TJ Žďár nad Sázavou 2:1 (-19\,15\,11)\n
 kurt č.5
DTSTART;TZID=Europe/Berlin:20230923T153000
DTEND;TZID=Europe/Berlin:20230923T173000
LOCATION:SOŠ a SOU Lanškroun\, Sokolská 288 Lanškroun - Ostrovské Předměstí
SUMMARY:CP-U16Z-V1A: VO TJ Lanškroun B-TJ Žďár nad Sázavou
END:VEVENT
BEGIN:VEVENT
UID:64663635-3233-4437-a664-636235636433
DTSTAMP:20260422T182948Z
DESCRIPTION:7/10 TJ Žďár nad Sázavou - TJ Jičín 0:2 (-22\,-17)\nkurt č.3
DTSTART;TZID=Europe/Berlin:20230924T100000
DTEND;TZID=Europe/Berlin:20230924T120000
LOCATION:ZŠ Palachova\, Palachova 1757 Žďár nad Sázavou - Žďár nad Sázavou 
 6
SUMMARY:CP-U16Z-V1A: TJ Žďár nad Sázavou-TJ Jičín
END:VEVENT
BEGIN:VEVENT
UID:30356263-6530-4436-b032-363437373238
DTSTAMP:20260422T182948Z
DESCRIPTION:7/11 TJ Jiskra Jaroměř - TJ Jiskra Havlíčkův Brod 2:0 (23\,19)
 \nkurt č.4
DTSTART;TZID=Europe/Berlin:20230924T100000
DTEND;TZID=Europe/Berlin:20230924T120000
LOCATION:Hala SŠŘ\, Na Karlově 798 Jaroměř - Pražské Předměstí
SUMMARY:CP-U16Z-V1A: TJ Jiskra Jaroměř-TJ Jiskra Havlíčkův Brod
END:VEVENT
BEGIN:VEVENT
UID:36666131-6263-4462-b066-323233616662
DTSTAMP:20260422T182948Z
DESCRIPTION:7/12 VO TJ Lanškroun B - TJ Slavia Hradec Králové 0:2 (-11\,-14
 )\nkurt č.5
DTSTART;TZID=Europe/Berlin:20230924T100000
DTEND;TZID=Europe/Berlin:20230924T120000
LOCATION:SOŠ a SOU Lanškroun\, Sokolská 288 Lanškroun - Ostrovské Předměstí
SUMMARY:CP-U16Z-V1A: VO TJ Lanškroun B-TJ Slavia Hradec Králové
END:VEVENT
BEGIN:VEVENT
UID:31353061-3030-4363-b933-356134353738
DTSTAMP:20260422T182948Z
DESCRIPTION:8/13 VO TJ Lanškroun B - TJ Jiskra Jaroměř 0:2 (-8\,-12)\nkurt 
 č.3
DTSTART;TZID=Europe/Berlin:20230924T120000
DTEND;TZID=Europe/Berlin:20230924T140000
LOCATION:SOŠ a SOU Lanškroun\, Sokolská 288 Lanškroun - Ostrovské Předměstí
SUMMARY:CP-U16Z-V1A: VO TJ Lanškroun B-TJ Jiskra Jaroměř
END:VEVENT
BEGIN:VEVENT
UID:39376632-3934-4539-b634-663039343664
DTSTAMP:20260422T182948Z
DESCRIPTION:8/14 TJ Jiskra Havlíčkův Brod - TJ Jičín 2:1 (-20\,17\,12)\nkur
 t č.4
DTSTART;TZID=Europe/Berlin:20230924T120000
DTEND;TZID=Europe/Berlin:20230924T140000
LOCATION:Sportovní hala TJ Jiskra\, Ledečská 3028 Havlíčkův Brod
SUMMARY:CP-U16Z-V1A: TJ Jiskra Havlíčkův Brod-TJ Jičín
END:VEVENT
BEGIN:VEVENT
UID:34616139-6132-4165-a462-386435666337
DTSTAMP:20260422T182948Z
DESCRIPTION:8/15 TJ Slavia Hradec Králové - TJ Žďár nad Sázavou 2:0 (16\,9)
 \nkurt č.5
DTSTART;TZID=Europe/Berlin:20230924T120000
DTEND;TZID=Europe/Berlin:20230924T140000
LOCATION:TJ Slavia Hradec Králové\, Víta Nejedlého 1216 Hradec Králové
SUMMARY:CP-U16Z-V1A: TJ Slavia Hradec Králové-TJ Žďár nad Sázavou
END:VEVENT
END:VCALENDAR
