BEGIN:VCALENDAR
VERSION:2.0
PRODID:-//JC-U14Z-1C//NONSGML kigkonsult.se iCalcreator 2.41.80//
CALSCALE:GREGORIAN
UID:35386234-3838-4437-a530-666362646536
BEGIN:VEVENT
UID:62613234-3564-4366-a636-373363653335
DTSTAMP:20260422T164808Z
DESCRIPTION:1/1 SK Třebín A - Volejbal Tábor B 2:0 (20\,20)
DTSTART;TZID=Europe/Berlin:20231105T090000
DTEND;TZID=Europe/Berlin:20231105T110000
LOCATION:ZŠ Máj I\, M. Chlajna 1319 České Budějovice - České Budějovice 2
SUMMARY:JC-U14Z-1C: SK Třebín A-Volejbal Tábor B
END:VEVENT
BEGIN:VEVENT
UID:38306463-3837-4938-b637-643532386361
DTSTAMP:20260422T164808Z
DESCRIPTION:1/2 TJ Tatran Prachatice - VK Madeta B 0:2 (-12\,-14)
DTSTART;TZID=Europe/Berlin:20231105T100000
DTEND;TZID=Europe/Berlin:20231105T120000
LOCATION:, U Stadionu 764 Prachatice - Prachatice II
SUMMARY:JC-U14Z-1C: TJ Tatran Prachatice-VK Madeta B
END:VEVENT
BEGIN:VEVENT
UID:33386162-6661-4534-b934-616664656333
DTSTAMP:20260422T164808Z
DESCRIPTION:1/3 Volejbal Tábor B - VK Madeta B 0:2 (-22\,-5)
DTSTART;TZID=Europe/Berlin:20231105T110000
DTEND;TZID=Europe/Berlin:20231105T130000
LOCATION:Sportovní Hala Mír\, U Stadionu Míru 1579 Tábor
SUMMARY:JC-U14Z-1C: Volejbal Tábor B-VK Madeta B
END:VEVENT
BEGIN:VEVENT
UID:66643433-3933-4565-b363-316633653939
DTSTAMP:20260422T164808Z
DESCRIPTION:1/4 SK Třebín A - TJ Tatran Prachatice 2:0 (24\,18)
DTSTART;TZID=Europe/Berlin:20231105T120000
DTEND;TZID=Europe/Berlin:20231105T140000
LOCATION:ZŠ Máj I\, M. Chlajna 1319 České Budějovice - České Budějovice 2
SUMMARY:JC-U14Z-1C: SK Třebín A-TJ Tatran Prachatice
END:VEVENT
BEGIN:VEVENT
UID:31633565-3063-4235-b561-336264386264
DTSTAMP:20260422T164808Z
DESCRIPTION:1/5 TJ Tatran Prachatice - Volejbal Tábor B 1:2 (-13\,23\,-13)
DTSTART;TZID=Europe/Berlin:20231105T130000
DTEND;TZID=Europe/Berlin:20231105T150000
LOCATION:, U Stadionu 764 Prachatice - Prachatice II
SUMMARY:JC-U14Z-1C: TJ Tatran Prachatice-Volejbal Tábor B
END:VEVENT
BEGIN:VEVENT
UID:66386136-3937-4739-b935-653963333133
DTSTAMP:20260422T164808Z
DESCRIPTION:1/6 VK Madeta B - SK Třebín A 2:0 (15\,14)
DTSTART;TZID=Europe/Berlin:20231105T140000
DTEND;TZID=Europe/Berlin:20231105T160000
LOCATION:Sportovní hala\, Stromovka 1216 České Budějovice - České Budějovic
 e 2
SUMMARY:JC-U14Z-1C: VK Madeta B-SK Třebín A
END:VEVENT
END:VCALENDAR
