BEGIN:VCALENDAR
VERSION:2.0
PRODID:-//CP-U16Z-V1B//NONSGML kigkonsult.se iCalcreator 2.41.80//
CALSCALE:GREGORIAN
UID:66643565-6264-4163-a263-313132323631
BEGIN:VEVENT
UID:62326137-3262-4433-a164-306566333439
DTSTAMP:20260422T183001Z
DESCRIPTION:1/1 VoCe - SK Ruchadlo Zájezd 2:0 (3\,14)\nkurt č.2
DTSTART;TZID=Europe/Berlin:20230923T100000
DTEND;TZID=Europe/Berlin:20230923T120000
LOCATION:Tělocvična ZŠ Černčice\,  Černčice68
SUMMARY:CP-U16Z-V1B: VoCe-SK Ruchadlo Zájezd
END:VEVENT
BEGIN:VEVENT
UID:31653266-6461-4732-b266-353061326661
DTSTAMP:20260422T183001Z
DESCRIPTION:2/2 VO TJ Lanškroun A - VK Hronov 2:0 (8\,6)\nkurt č.2
DTSTART;TZID=Europe/Berlin:20230923T110000
DTEND;TZID=Europe/Berlin:20230923T130000
LOCATION:SOŠ a SOU Lanškroun\, Sokolská 288 Lanškroun - Ostrovské Předměstí
SUMMARY:CP-U16Z-V1B: VO TJ Lanškroun A-VK Hronov
END:VEVENT
BEGIN:VEVENT
UID:39353735-3138-4364-b433-373032376363
DTSTAMP:20260422T183001Z
DESCRIPTION:3/3 VO TJ Lanškroun A - SK Ruchadlo Zájezd 2:0 (17\,9)\nkurt č.
 2
DTSTART;TZID=Europe/Berlin:20230923T120000
DTEND;TZID=Europe/Berlin:20230923T140000
LOCATION:SOŠ a SOU Lanškroun\, Sokolská 288 Lanškroun - Ostrovské Předměstí
SUMMARY:CP-U16Z-V1B: VO TJ Lanškroun A-SK Ruchadlo Zájezd
END:VEVENT
BEGIN:VEVENT
UID:34306566-6636-4633-b230-616438373233
DTSTAMP:20260422T183001Z
DESCRIPTION:3/4 RÉMA Rychnov - Volejbal Rudolfov 0:2 (-13\,-20)\nkurt č.4
DTSTART;TZID=Europe/Berlin:20230923T120000
DTEND;TZID=Europe/Berlin:20230923T140000
LOCATION:VOŠ a SŠ zem.\, Komenského 873 Kostelec nad Orlicí
SUMMARY:CP-U16Z-V1B: RÉMA Rychnov-Volejbal Rudolfov
END:VEVENT
BEGIN:VEVENT
UID:39643861-3663-4132-a466-393339363166
DTSTAMP:20260422T183001Z
DESCRIPTION:4/5 VK Hronov - VoCe 0:2 (-13\,-14)\nkurt č.2
DTSTART;TZID=Europe/Berlin:20230923T133000
DTEND;TZID=Europe/Berlin:20230923T153000
LOCATION:ZŠ Hronov\, Palackého 162 Hronov
SUMMARY:CP-U16Z-V1B: VK Hronov-VoCe
END:VEVENT
BEGIN:VEVENT
UID:66316632-3934-4230-a531-353565343532
DTSTAMP:20260422T183001Z
DESCRIPTION:5/6 RÉMA Rychnov - SK Ruchadlo Zájezd 2:1 (11\,-24\,10)\nkurt č
 .2
DTSTART;TZID=Europe/Berlin:20230923T143000
DTEND;TZID=Europe/Berlin:20230923T163000
LOCATION:VOŠ a SŠ zem.\, Komenského 873 Kostelec nad Orlicí
SUMMARY:CP-U16Z-V1B: RÉMA Rychnov-SK Ruchadlo Zájezd
END:VEVENT
BEGIN:VEVENT
UID:65636131-3337-4166-b136-636366353036
DTSTAMP:20260422T183001Z
DESCRIPTION:5/7 VO TJ Lanškroun A - Volejbal Rudolfov 2:1 (22\,-20\,9)\nkur
 t č.4
DTSTART;TZID=Europe/Berlin:20230923T143000
DTEND;TZID=Europe/Berlin:20230923T163000
LOCATION:SOŠ a SOU Lanškroun\, Sokolská 288 Lanškroun - Ostrovské Předměstí
SUMMARY:CP-U16Z-V1B: VO TJ Lanškroun A-Volejbal Rudolfov
END:VEVENT
BEGIN:VEVENT
UID:32643361-3066-4164-b136-303938353437
DTSTAMP:20260422T183001Z
DESCRIPTION:6/8 RÉMA Rychnov - VK Hronov 2:0 (15\,23)\nkurt č.2
DTSTART;TZID=Europe/Berlin:20230923T153000
DTEND;TZID=Europe/Berlin:20230923T173000
LOCATION:VOŠ a SŠ zem.\, Komenského 873 Kostelec nad Orlicí
SUMMARY:CP-U16Z-V1B: RÉMA Rychnov-VK Hronov
END:VEVENT
BEGIN:VEVENT
UID:61393737-6635-4436-b336-613736626434
DTSTAMP:20260422T183001Z
DESCRIPTION:6/9 VoCe - Volejbal Rudolfov 0:2 (-16\,-7)\nkurt č.4
DTSTART;TZID=Europe/Berlin:20230923T153000
DTEND;TZID=Europe/Berlin:20230923T173000
LOCATION:Tělocvična ZŠ Černčice\,  Černčice68
SUMMARY:CP-U16Z-V1B: VoCe-Volejbal Rudolfov
END:VEVENT
BEGIN:VEVENT
UID:36393139-6534-4063-a565-373336653635
DTSTAMP:20260422T183001Z
DESCRIPTION:7/10 VK Hronov - Volejbal Rudolfov 0:2 (-7\,-18)\nkurt č.1
DTSTART;TZID=Europe/Berlin:20230924T090000
DTEND;TZID=Europe/Berlin:20230924T110000
LOCATION:ZŠ Hronov\, Palackého 162 Hronov
SUMMARY:CP-U16Z-V1B: VK Hronov-Volejbal Rudolfov
END:VEVENT
BEGIN:VEVENT
UID:64383839-3737-4837-a265-343431353630
DTSTAMP:20260422T183001Z
DESCRIPTION:7/11 RÉMA Rychnov - VO TJ Lanškroun A 0:2 (-6\,-19)\nkurt č.2
DTSTART;TZID=Europe/Berlin:20230924T090000
DTEND;TZID=Europe/Berlin:20230924T110000
LOCATION:VOŠ a SŠ zem.\, Komenského 873 Kostelec nad Orlicí
SUMMARY:CP-U16Z-V1B: RÉMA Rychnov-VO TJ Lanškroun A
END:VEVENT
BEGIN:VEVENT
UID:61616562-3039-4561-b234-313164373964
DTSTAMP:20260422T183001Z
DESCRIPTION:8/12 SK Ruchadlo Zájezd - Volejbal Rudolfov 0:2 (-16\,-12)\nkur
 t č.1
DTSTART;TZID=Europe/Berlin:20230924T100000
DTEND;TZID=Europe/Berlin:20230924T120000
LOCATION:Sportovní hala\, Sportovní 38 Česká Skalice
SUMMARY:CP-U16Z-V1B: SK Ruchadlo Zájezd-Volejbal Rudolfov
END:VEVENT
BEGIN:VEVENT
UID:30396163-6263-4339-b738-653563306633
DTSTAMP:20260422T183001Z
DESCRIPTION:8/13 VO TJ Lanškroun A - VoCe 2:0 (19\,15)\nkurt č.2
DTSTART;TZID=Europe/Berlin:20230924T100000
DTEND;TZID=Europe/Berlin:20230924T120000
LOCATION:SOŠ a SOU Lanškroun\, Sokolská 288 Lanškroun - Ostrovské Předměstí
SUMMARY:CP-U16Z-V1B: VO TJ Lanškroun A-VoCe
END:VEVENT
BEGIN:VEVENT
UID:37386562-6332-4939-b161-656334636131
DTSTAMP:20260422T183001Z
DESCRIPTION:9/14 VK Hronov - SK Ruchadlo Zájezd 0:2 (-13\,-20)\nkurt č.1
DTSTART;TZID=Europe/Berlin:20230924T110000
DTEND;TZID=Europe/Berlin:20230924T130000
LOCATION:ZŠ Hronov\, Palackého 162 Hronov
SUMMARY:CP-U16Z-V1B: VK Hronov-SK Ruchadlo Zájezd
END:VEVENT
BEGIN:VEVENT
UID:62653863-3837-4130-a531-616665366132
DTSTAMP:20260422T183001Z
DESCRIPTION:9/15 RÉMA Rychnov - VoCe 2:1 (23\,-23\,11)\nkurt č.2
DTSTART;TZID=Europe/Berlin:20230924T110000
DTEND;TZID=Europe/Berlin:20230924T130000
LOCATION:VOŠ a SŠ zem.\, Komenského 873 Kostelec nad Orlicí
SUMMARY:CP-U16Z-V1B: RÉMA Rychnov-VoCe
END:VEVENT
END:VCALENDAR
