BEGIN:VCALENDAR
VERSION:2.0
PRODID:-//JC-U16Z-1-B3//NONSGML kigkonsult.se iCalcreator 2.41.80//
CALSCALE:GREGORIAN
UID:63636364-6561-4264-b135-383564663863
BEGIN:VEVENT
UID:66336165-3236-4230-b031-366636376535
DTSTAMP:20260424T233313Z
DESCRIPTION:1/1 Škola volejbalu A - VK Madeta B 2:1 (14\,-24\,8)
DTSTART;TZID=Europe/Berlin:20231210T090000
DTEND;TZID=Europe/Berlin:20231210T110000
LOCATION:Sportovní hala Hrdějovice\,  Hrdějovice597
SUMMARY:JC-U16Z-1-B3: Škola volejbalu A-VK Madeta B
END:VEVENT
BEGIN:VEVENT
UID:33353765-6465-4364-a163-393331336331
DTSTAMP:20260424T233313Z
DESCRIPTION:1/2 VSK Český Krumlov A - TJ Slovan J. Hradec A 0:2 (-10\,-21)
DTSTART;TZID=Europe/Berlin:20231210T100000
DTEND;TZID=Europe/Berlin:20231210T120000
LOCATION:TĚLOVÝCHOVNÁ JEDNOTA LOKOMOTIVA z. s.\, Třebízského 1044 České Bud
 ějovice - České Budějovice 5
SUMMARY:JC-U16Z-1-B3: VSK Český Krumlov A-TJ Slovan J. Hradec A
END:VEVENT
BEGIN:VEVENT
UID:39343032-3764-4630-b333-373965303535
DTSTAMP:20260424T233313Z
DESCRIPTION:1/3 VK Madeta B - TJ Slovan J. Hradec A 0:2 (-16\,-21)
DTSTART;TZID=Europe/Berlin:20231210T110000
DTEND;TZID=Europe/Berlin:20231210T130000
LOCATION:Sportovní hala\, Stromovka 1216 České Budějovice - České Budějovic
 e 2
SUMMARY:JC-U16Z-1-B3: VK Madeta B-TJ Slovan J. Hradec A
END:VEVENT
BEGIN:VEVENT
UID:64316464-3465-4164-b632-373832666363
DTSTAMP:20260424T233313Z
DESCRIPTION:1/4 Škola volejbalu A - VSK Český Krumlov A 2:0 (4\,12)
DTSTART;TZID=Europe/Berlin:20231210T120000
DTEND;TZID=Europe/Berlin:20231210T140000
LOCATION:Sportovní hala Hrdějovice\,  Hrdějovice597
SUMMARY:JC-U16Z-1-B3: Škola volejbalu A-VSK Český Krumlov A
END:VEVENT
BEGIN:VEVENT
UID:61613666-3631-4230-b361-353033383538
DTSTAMP:20260424T233313Z
DESCRIPTION:1/5 VSK Český Krumlov A - VK Madeta B 2:1 (24\,-12\,5)
DTSTART;TZID=Europe/Berlin:20231210T130000
DTEND;TZID=Europe/Berlin:20231210T150000
LOCATION:TĚLOVÝCHOVNÁ JEDNOTA LOKOMOTIVA z. s.\, Třebízského 1044 České Bud
 ějovice - České Budějovice 5
SUMMARY:JC-U16Z-1-B3: VSK Český Krumlov A-VK Madeta B
END:VEVENT
BEGIN:VEVENT
UID:30343161-6263-4230-b437-616561306562
DTSTAMP:20260424T233313Z
DESCRIPTION:1/6 TJ Slovan J. Hradec A - Škola volejbalu A 0:2 (-13\,-17)
DTSTART;TZID=Europe/Berlin:20231210T140000
DTEND;TZID=Europe/Berlin:20231210T160000
LOCATION:Sportovní hala J. Hradec\, U Stadionu 1137 Jindřichův Hradec - Jin
 dřichův Hradec II
SUMMARY:JC-U16Z-1-B3: TJ Slovan J. Hradec A-Škola volejbalu A
END:VEVENT
END:VCALENDAR
