BEGIN:VCALENDAR
VERSION:2.0
PRODID:-//JC-U16Z-1-B4//NONSGML kigkonsult.se iCalcreator 2.41.80//
CALSCALE:GREGORIAN
UID:66373836-3636-4631-b732-346264636635
BEGIN:VEVENT
UID:35366330-6366-4562-b765-343766353836
DTSTAMP:20260422T202237Z
DESCRIPTION:1/1 TJ Slovan J. Hradec A - SK Třebín A 2:1 (19\,-19\,13)
DTSTART;TZID=Europe/Berlin:20240204T090000
DTEND;TZID=Europe/Berlin:20240204T110000
LOCATION:Sportovní hala J. Hradec\, U Stadionu 1137 Jindřichův Hradec - Jin
 dřichův Hradec II
SUMMARY:JC-U16Z-1-B4: TJ Slovan J. Hradec A-SK Třebín A
END:VEVENT
BEGIN:VEVENT
UID:38383366-6435-4635-a434-316162373831
DTSTAMP:20260422T202237Z
DESCRIPTION:1/2 VSK Český Krumlov A - TJ Tatran Prachatice A 0:2 (-14\,-23)
DTSTART;TZID=Europe/Berlin:20240204T101000
DTEND;TZID=Europe/Berlin:20240204T121000
LOCATION:TĚLOVÝCHOVNÁ JEDNOTA LOKOMOTIVA z. s.\, Třebízského 1044 České Bud
 ějovice - České Budějovice 5
SUMMARY:JC-U16Z-1-B4: VSK Český Krumlov A-TJ Tatran Prachatice A
END:VEVENT
BEGIN:VEVENT
UID:32613963-6135-4438-b733-336530303465
DTSTAMP:20260422T202237Z
DESCRIPTION:1/3 SK Třebín A - TJ Tatran Prachatice A 0:2 (-16\,-21)
DTSTART;TZID=Europe/Berlin:20240204T112000
DTEND;TZID=Europe/Berlin:20240204T132000
LOCATION:ZŠ Máj I\, M. Chlajna 1319 České Budějovice - České Budějovice 2
SUMMARY:JC-U16Z-1-B4: SK Třebín A-TJ Tatran Prachatice A
END:VEVENT
BEGIN:VEVENT
UID:66316161-6665-4536-b438-393163663839
DTSTAMP:20260422T202237Z
DESCRIPTION:1/4 TJ Slovan J. Hradec A - VSK Český Krumlov A 1:2 (-21\,9\,-1
 0)
DTSTART;TZID=Europe/Berlin:20240204T123000
DTEND;TZID=Europe/Berlin:20240204T143000
LOCATION:Sportovní hala J. Hradec\, U Stadionu 1137 Jindřichův Hradec - Jin
 dřichův Hradec II
SUMMARY:JC-U16Z-1-B4: TJ Slovan J. Hradec A-VSK Český Krumlov A
END:VEVENT
BEGIN:VEVENT
UID:35323130-6634-4563-b438-646539333836
DTSTAMP:20260422T202237Z
DESCRIPTION:1/5 VSK Český Krumlov A - SK Třebín A 0:2 (-24\,-15)
DTSTART;TZID=Europe/Berlin:20240204T134000
DTEND;TZID=Europe/Berlin:20240204T154000
LOCATION:TĚLOVÝCHOVNÁ JEDNOTA LOKOMOTIVA z. s.\, Třebízského 1044 České Bud
 ějovice - České Budějovice 5
SUMMARY:JC-U16Z-1-B4: VSK Český Krumlov A-SK Třebín A
END:VEVENT
BEGIN:VEVENT
UID:33343535-3332-4035-b361-623033373462
DTSTAMP:20260422T202237Z
DESCRIPTION:1/6 TJ Tatran Prachatice A - TJ Slovan J. Hradec A 1:2 (-18\,11
 \,-14)
DTSTART;TZID=Europe/Berlin:20240204T145000
DTEND;TZID=Europe/Berlin:20240204T165000
LOCATION:Sportovní hala TJ Netolice\, Tyršova 226 Netolice
SUMMARY:JC-U16Z-1-B4: TJ Tatran Prachatice A-TJ Slovan J. Hradec A
END:VEVENT
END:VCALENDAR
