BEGIN:VCALENDAR
VERSION:2.0
PRODID:-//JC-U16Z-1-C4//NONSGML kigkonsult.se iCalcreator 2.41.80//
CALSCALE:GREGORIAN
UID:62356139-6634-4164-b737-643230373863
BEGIN:VEVENT
UID:30353937-3263-4130-b264-623535636335
DTSTAMP:20260422T183106Z
DESCRIPTION:1/1 Volejbal Rudolfov B - VK Madeta B 1:2 (23\,-21\,-14)
DTSTART;TZID=Europe/Berlin:20240204T090000
DTEND;TZID=Europe/Berlin:20240204T110000
LOCATION:Sportovní hala Rudolfov\, Adamovská 511 Rudolfov
SUMMARY:JC-U16Z-1-C4: Volejbal Rudolfov B-VK Madeta B
END:VEVENT
BEGIN:VEVENT
UID:39626663-6262-4466-a565-353464333433
DTSTAMP:20260422T183106Z
DESCRIPTION:1/2 VSK Český Krumlov B - SK Třebín B 1:2 (-19\,20\,-10)
DTSTART;TZID=Europe/Berlin:20240204T101000
DTEND;TZID=Europe/Berlin:20240204T121000
LOCATION:TĚLOVÝCHOVNÁ JEDNOTA LOKOMOTIVA z. s.\, Třebízského 1044 České Bud
 ějovice - České Budějovice 5
SUMMARY:JC-U16Z-1-C4: VSK Český Krumlov B-SK Třebín B
END:VEVENT
BEGIN:VEVENT
UID:35383933-3430-4633-b036-363466653537
DTSTAMP:20260422T183106Z
DESCRIPTION:1/3 VK Madeta B - SK Třebín B 2:0 (13\,13)
DTSTART;TZID=Europe/Berlin:20240204T112000
DTEND;TZID=Europe/Berlin:20240204T132000
LOCATION:Sportovní hala\, Stromovka 1216 České Budějovice - České Budějovic
 e 2
SUMMARY:JC-U16Z-1-C4: VK Madeta B-SK Třebín B
END:VEVENT
BEGIN:VEVENT
UID:34646235-6333-4663-a532-333539633164
DTSTAMP:20260422T183106Z
DESCRIPTION:1/4 Volejbal Rudolfov B - VSK Český Krumlov B 2:0 (12\,14)
DTSTART;TZID=Europe/Berlin:20240204T123000
DTEND;TZID=Europe/Berlin:20240204T143000
LOCATION:Sportovní hala Rudolfov\, Adamovská 511 Rudolfov
SUMMARY:JC-U16Z-1-C4: Volejbal Rudolfov B-VSK Český Krumlov B
END:VEVENT
BEGIN:VEVENT
UID:39316164-6430-4364-a666-333663396264
DTSTAMP:20260422T183106Z
DESCRIPTION:1/5 VSK Český Krumlov B - VK Madeta B 0:2 (-17\,-16)
DTSTART;TZID=Europe/Berlin:20240204T134000
DTEND;TZID=Europe/Berlin:20240204T154000
LOCATION:TĚLOVÝCHOVNÁ JEDNOTA LOKOMOTIVA z. s.\, Třebízského 1044 České Bud
 ějovice - České Budějovice 5
SUMMARY:JC-U16Z-1-C4: VSK Český Krumlov B-VK Madeta B
END:VEVENT
BEGIN:VEVENT
UID:62386633-3630-4335-b166-323839643165
DTSTAMP:20260422T183106Z
DESCRIPTION:1/6 SK Třebín B - Volejbal Rudolfov B 0:2 (-19\,-17)
DTSTART;TZID=Europe/Berlin:20240204T145000
DTEND;TZID=Europe/Berlin:20240204T165000
LOCATION:ZŠ Máj I\, M. Chlajna 1319 České Budějovice - České Budějovice 2
SUMMARY:JC-U16Z-1-C4: SK Třebín B-Volejbal Rudolfov B
END:VEVENT
END:VCALENDAR
