BEGIN:VCALENDAR
VERSION:2.0
PRODID:-//ST-U14M-21D//NONSGML kigkonsult.se iCalcreator 2.41.80//
CALSCALE:GREGORIAN
UID:33323931-3739-4830-a664-313339643965
BEGIN:VEVENT
UID:32396361-6334-4563-b739-633738333335
DTSTAMP:20260422T053853Z
DESCRIPTION:1/3 Odolena Voda C - PODĚS B 0:2 (-23\,-18)\nPořadatel: v Benát
 kách n. Jiz.
DTSTART;TZID=Europe/Berlin:20231008T090000
DTEND;TZID=Europe/Berlin:20231008T110000
LOCATION:Sportovní hala\, Ke Stadionu 375 Odolena Voda
SUMMARY:ST-U14M-21D: Odolena Voda C-PODĚS B
END:VEVENT
BEGIN:VEVENT
UID:38343062-3637-4135-a132-613030663165
DTSTAMP:20260422T053853Z
DESCRIPTION:1/6 Kralupy - Kladno B 2:1 (-23\,19\,11)
DTSTART;TZID=Europe/Berlin:20231008T090000
DTEND;TZID=Europe/Berlin:20231008T110000
LOCATION:TJ KRALUPY\, z.s.\, Gen. Klapálka 1029 Kralupy nad Vltavou
SUMMARY:ST-U14M-21D: Kralupy-Kladno B
END:VEVENT
BEGIN:VEVENT
UID:35313330-6461-4466-b739-393133323861
DTSTAMP:20260422T053853Z
DESCRIPTION:1/7 PODĚS B - Kralupy 0:2 (-15\,-8)
DTSTART;TZID=Europe/Berlin:20231008T090000
DTEND;TZID=Europe/Berlin:20231008T110000
LOCATION:Tělocvična ZŠ J. Matiegky\, Pražská 2817 Mělník
SUMMARY:ST-U14M-21D: PODĚS B-Kralupy
END:VEVENT
BEGIN:VEVENT
UID:35393135-6661-4030-a363-386539303663
DTSTAMP:20260422T053853Z
DESCRIPTION:1/9 Odolena Voda C - Kladno B 0:2 (-16\,-18)
DTSTART;TZID=Europe/Berlin:20231008T090000
DTEND;TZID=Europe/Berlin:20231008T110000
LOCATION:Sportovní hala\, Ke Stadionu 375 Odolena Voda
SUMMARY:ST-U14M-21D: Odolena Voda C-Kladno B
END:VEVENT
BEGIN:VEVENT
UID:63303533-3431-4737-b438-373264656262
DTSTAMP:20260422T053853Z
DESCRIPTION:1/13 Kladno B - PODĚS B 2:0 (17\,20)
DTSTART;TZID=Europe/Berlin:20231008T090000
DTEND;TZID=Europe/Berlin:20231008T110000
LOCATION:Kladenská sportovní hala\, Sportovců 817 Kladno - Rozdělov
SUMMARY:ST-U14M-21D: Kladno B-PODĚS B
END:VEVENT
BEGIN:VEVENT
UID:38356634-3535-4139-a236-383332383561
DTSTAMP:20260422T053853Z
DESCRIPTION:1/14 Kralupy - Odolena Voda C 2:0 (18\,12)
DTSTART;TZID=Europe/Berlin:20231008T090000
DTEND;TZID=Europe/Berlin:20231008T110000
LOCATION:TJ KRALUPY\, z.s.\, Gen. Klapálka 1029 Kralupy nad Vltavou
SUMMARY:ST-U14M-21D: Kralupy-Odolena Voda C
END:VEVENT
END:VCALENDAR
