BEGIN:VCALENDAR
VERSION:2.0
PRODID:-//CP-U16M-V1C//NONSGML kigkonsult.se iCalcreator 2.41.80//
CALSCALE:GREGORIAN
UID:36653333-3566-4363-a463-613037643239
BEGIN:VEVENT
UID:33316336-3864-4235-a139-373333656432
DTSTAMP:20260425T035458Z
DESCRIPTION:1/1 Sportovní volejbalový klub Nový Jičín\, z.s. - VS Ostrava 0
 :2 (-24\,-22)
DTSTART;TZID=Europe/Berlin:20231014T090000
DTEND;TZID=Europe/Berlin:20231014T110000
LOCATION:Hala ABC\, Purkyňova 116 Nový Jičín
SUMMARY:CP-U16M-V1C: Sportovní volejbalový klub Nový Jičín\, z.s.-VS Ostrav
 a
END:VEVENT
BEGIN:VEVENT
UID:33623832-3939-4139-a435-616637373136
DTSTAMP:20260425T035458Z
DESCRIPTION:2/2 VSC Zlín - Spartak Velké Meziříčí 2:0 (24\,23)
DTSTART;TZID=Europe/Berlin:20231014T101500
DTEND;TZID=Europe/Berlin:20231014T121500
LOCATION:ZŠ Okružní Zlín\, Okružní 4685 Zlín
SUMMARY:CP-U16M-V1C: VSC Zlín-Spartak Velké Meziříčí
END:VEVENT
BEGIN:VEVENT
UID:39373230-3433-4738-b062-316638663531
DTSTAMP:20260425T035458Z
DESCRIPTION:3/3 Sportovní volejbalový klub Nový Jičín\, z.s. - Spartak Velk
 é Meziříčí 2:0 (17\,12)
DTSTART;TZID=Europe/Berlin:20231014T113000
DTEND;TZID=Europe/Berlin:20231014T133000
LOCATION:Hala ABC\, Purkyňova 116 Nový Jičín
SUMMARY:CP-U16M-V1C: Sportovní volejbalový klub Nový Jičín\, z.s.-Spartak V
 elké Meziříčí
END:VEVENT
BEGIN:VEVENT
UID:64386539-3635-4533-b233-626235353532
DTSTAMP:20260425T035458Z
DESCRIPTION:4/4 VSC Zlín - VS Ostrava 0:2 (-23\,-16)
DTSTART;TZID=Europe/Berlin:20231014T124500
DTEND;TZID=Europe/Berlin:20231014T144500
LOCATION:ZŠ Okružní Zlín\, Okružní 4685 Zlín
SUMMARY:CP-U16M-V1C: VSC Zlín-VS Ostrava
END:VEVENT
BEGIN:VEVENT
UID:32303563-6532-4861-a436-313761386466
DTSTAMP:20260425T035458Z
DESCRIPTION:5/5 Spartak Velké Meziříčí - VS Ostrava 0:2 (-20\,-18)
DTSTART;TZID=Europe/Berlin:20231014T140000
DTEND;TZID=Europe/Berlin:20231014T160000
LOCATION:ZŠ Komenského\, Komenského 1 Velké Meziříčí
SUMMARY:CP-U16M-V1C: Spartak Velké Meziříčí-VS Ostrava
END:VEVENT
BEGIN:VEVENT
UID:37353932-3636-4666-a364-643937386439
DTSTAMP:20260425T035458Z
DESCRIPTION:6/6 VSC Zlín - Sportovní volejbalový klub Nový Jičín\, z.s. 2:1
  (-17\,19\,12)
DTSTART;TZID=Europe/Berlin:20231014T151500
DTEND;TZID=Europe/Berlin:20231014T171500
LOCATION:ZŠ Okružní Zlín\, Okružní 4685 Zlín
SUMMARY:CP-U16M-V1C: VSC Zlín-Sportovní volejbalový klub Nový Jičín\, z.s.
END:VEVENT
END:VCALENDAR
