BEGIN:VCALENDAR
VERSION:2.0
PRODID:-//JM-U16Z-IIC//NONSGML kigkonsult.se iCalcreator 2.41.80//
CALSCALE:GREGORIAN
UID:39356136-3433-4834-a532-623331373965
BEGIN:VEVENT
UID:34326366-6134-4839-a231-653736306637
DTSTAMP:20260421T192004Z
DESCRIPTION:1/1 VS Drásov - ZŠ Milénova C 2:0 (15\,6)
DTSTART;TZID=Europe/Berlin:20231021T090000
DTEND;TZID=Europe/Berlin:20231021T110000
LOCATION:Hala u ZŠ TGM Drásov\, Školní 167 Drásov
SUMMARY:JM-U16Z-IIC: VS Drásov-ZŠ Milénova C
END:VEVENT
BEGIN:VEVENT
UID:63303735-6462-4135-b735-376663663461
DTSTAMP:20260421T192004Z
DESCRIPTION:2/2 VOLEJBAL VYŠKOV D - SK Beachvolleyball Slavkov\, spolek 2:0
  (17\,18)
DTSTART;TZID=Europe/Berlin:20231021T103000
DTEND;TZID=Europe/Berlin:20231021T123000
LOCATION:Hala u ZŠ TGM Drásov\, Školní 167 Drásov
SUMMARY:JM-U16Z-IIC: VOLEJBAL VYŠKOV D-SK Beachvolleyball Slavkov\, spolek
END:VEVENT
BEGIN:VEVENT
UID:65653263-3032-4635-b033-343731366230
DTSTAMP:20260421T192004Z
DESCRIPTION:3/3 ZŠ Milénova C - SK Beachvolleyball Slavkov\, spolek 1:2 (18
 \,-20\,-12)
DTSTART;TZID=Europe/Berlin:20231021T114500
DTEND;TZID=Europe/Berlin:20231021T134500
LOCATION:Hala u ZŠ TGM Drásov\, Školní 167 Drásov
SUMMARY:JM-U16Z-IIC: ZŠ Milénova C-SK Beachvolleyball Slavkov\, spolek
END:VEVENT
BEGIN:VEVENT
UID:31616165-6431-4339-b432-626665633231
DTSTAMP:20260421T192004Z
DESCRIPTION:4/4 VS Drásov - VOLEJBAL VYŠKOV D 2:0 (21\,14)
DTSTART;TZID=Europe/Berlin:20231021T130000
DTEND;TZID=Europe/Berlin:20231021T150000
LOCATION:Hala u ZŠ TGM Drásov\, Školní 167 Drásov
SUMMARY:JM-U16Z-IIC: VS Drásov-VOLEJBAL VYŠKOV D
END:VEVENT
BEGIN:VEVENT
UID:30396630-3263-4138-b830-653264643435
DTSTAMP:20260421T192004Z
DESCRIPTION:5/5 VOLEJBAL VYŠKOV D - ZŠ Milénova C 2:1 (-21\,17\,5)
DTSTART;TZID=Europe/Berlin:20231021T141500
DTEND;TZID=Europe/Berlin:20231021T161500
LOCATION:Hala u ZŠ TGM Drásov\, Školní 167 Drásov
SUMMARY:JM-U16Z-IIC: VOLEJBAL VYŠKOV D-ZŠ Milénova C
END:VEVENT
BEGIN:VEVENT
UID:33656261-3532-4231-a236-306131653533
DTSTAMP:20260421T192004Z
DESCRIPTION:6/6 SK Beachvolleyball Slavkov\, spolek - VS Drásov 2:0 (16\,18
 )
DTSTART;TZID=Europe/Berlin:20231021T153000
DTEND;TZID=Europe/Berlin:20231021T173000
LOCATION:Hala u ZŠ TGM Drásov\, Školní 167 Drásov
SUMMARY:JM-U16Z-IIC: SK Beachvolleyball Slavkov\, spolek-VS Drásov
END:VEVENT
END:VCALENDAR
