BEGIN:VCALENDAR
VERSION:2.0
PRODID:-//CP-U16Z-V3A//NONSGML kigkonsult.se iCalcreator 2.41.80//
CALSCALE:GREGORIAN
UID:66303335-3064-4466-b161-313735353730
BEGIN:VEVENT
UID:37323036-3264-4432-b334-396231383532
DTSTAMP:20260422T230104Z
DESCRIPTION:1/1 KP Brno A - VK UP Olomouc 2:0 (17\,15)
DTSTART;TZID=Europe/Berlin:20231118T100000
DTEND;TZID=Europe/Berlin:20231118T120000
LOCATION:Sportovní gymnázium Ludvíka Daňka\, Botanická 63 Brno - Ponava
SUMMARY:CP-U16Z-V3A: KP Brno A-VK UP Olomouc
END:VEVENT
BEGIN:VEVENT
UID:66333933-6563-4238-b936-643266313838
DTSTAMP:20260422T230104Z
DESCRIPTION:1/2 VO TJ Lanškroun A - VK Prostějov 2:0 (13\,20)
DTSTART;TZID=Europe/Berlin:20231118T100000
DTEND;TZID=Europe/Berlin:20231118T120000
LOCATION:SOŠ a SOU Lanškroun\, Sokolská 288 Lanškroun - Ostrovské Předměstí
SUMMARY:CP-U16Z-V3A: VO TJ Lanškroun A-VK Prostějov
END:VEVENT
BEGIN:VEVENT
UID:34383163-6634-4662-b236-386265333332
DTSTAMP:20260422T230104Z
DESCRIPTION:2/3 Volejbal Rudolfov - VK UP Olomouc 2:0 (20\,18)
DTSTART;TZID=Europe/Berlin:20231118T113000
DTEND;TZID=Europe/Berlin:20231118T133000
LOCATION:Sportovní hala Rudolfov\, Adamovská 511 Rudolfov
SUMMARY:CP-U16Z-V3A: Volejbal Rudolfov-VK UP Olomouc
END:VEVENT
BEGIN:VEVENT
UID:37373837-3337-4338-a334-613132623663
DTSTAMP:20260422T230104Z
DESCRIPTION:2/4 TJ Slavia Hradec Králové - VK Prostějov 0:2 (-17\,-10)
DTSTART;TZID=Europe/Berlin:20231118T113000
DTEND;TZID=Europe/Berlin:20231118T133000
LOCATION:TJ Slavia Hradec Králové\, Víta Nejedlého 1216 Hradec Králové
SUMMARY:CP-U16Z-V3A: TJ Slavia Hradec Králové-VK Prostějov
END:VEVENT
BEGIN:VEVENT
UID:61346233-3432-4439-a533-396331656331
DTSTAMP:20260422T230104Z
DESCRIPTION:3/5 TJ Slavia Hradec Králové - KP Brno A 0:2 (-12\,-12)
DTSTART;TZID=Europe/Berlin:20231118T124500
DTEND;TZID=Europe/Berlin:20231118T144500
LOCATION:TJ Slavia Hradec Králové\, Víta Nejedlého 1216 Hradec Králové
SUMMARY:CP-U16Z-V3A: TJ Slavia Hradec Králové-KP Brno A
END:VEVENT
BEGIN:VEVENT
UID:64306563-3439-4637-b334-366161623230
DTSTAMP:20260422T230104Z
DESCRIPTION:3/6 VO TJ Lanškroun A - SK Volejbal Kolín 2:0 (28\,22)
DTSTART;TZID=Europe/Berlin:20231118T124500
DTEND;TZID=Europe/Berlin:20231118T144500
LOCATION:SOŠ a SOU Lanškroun\, Sokolská 288 Lanškroun - Ostrovské Předměstí
SUMMARY:CP-U16Z-V3A: VO TJ Lanškroun A-SK Volejbal Kolín
END:VEVENT
BEGIN:VEVENT
UID:64613834-6437-4665-a335-623530333434
DTSTAMP:20260422T230104Z
DESCRIPTION:4/7 VK UP Olomouc - SK Volejbal Kolín 2:1 (18\,-21\,8)
DTSTART;TZID=Europe/Berlin:20231118T140000
DTEND;TZID=Europe/Berlin:20231118T160000
LOCATION:UP Olomouc\, U sportovní haly 38 Olomouc - Lazce
SUMMARY:CP-U16Z-V3A: VK UP Olomouc-SK Volejbal Kolín
END:VEVENT
BEGIN:VEVENT
UID:39346664-6566-4131-b337-336534303633
DTSTAMP:20260422T230104Z
DESCRIPTION:4/8 VK Prostějov - Volejbal Rudolfov 2:0 (17\,23)
DTSTART;TZID=Europe/Berlin:20231118T140000
DTEND;TZID=Europe/Berlin:20231118T160000
LOCATION:Národní sportovní centrum\, Za velodromem 4187 Prostějov
SUMMARY:CP-U16Z-V3A: VK Prostějov-Volejbal Rudolfov
END:VEVENT
BEGIN:VEVENT
UID:65396436-6435-4232-b736-316237303761
DTSTAMP:20260422T230104Z
DESCRIPTION:5/9 VK UP Olomouc - TJ Slavia Hradec Králové 0:2 (-11\,-16)
DTSTART;TZID=Europe/Berlin:20231118T151500
DTEND;TZID=Europe/Berlin:20231118T171500
LOCATION:UP Olomouc\, U sportovní haly 38 Olomouc - Lazce
SUMMARY:CP-U16Z-V3A: VK UP Olomouc-TJ Slavia Hradec Králové
END:VEVENT
BEGIN:VEVENT
UID:38376639-6430-4133-b237-643537323630
DTSTAMP:20260422T230104Z
DESCRIPTION:5/10 SK Volejbal Kolín - VK Prostějov 0:2 (-18\,-20)
DTSTART;TZID=Europe/Berlin:20231118T151500
DTEND;TZID=Europe/Berlin:20231118T171500
LOCATION:hala STAV\, SOŠ Kolín\, Brankovická 1417 Kolín - Kolín V
SUMMARY:CP-U16Z-V3A: SK Volejbal Kolín-VK Prostějov
END:VEVENT
BEGIN:VEVENT
UID:32323130-3062-4266-b862-326564386336
DTSTAMP:20260422T230104Z
DESCRIPTION:6/11 TJ Slavia Hradec Králové - Volejbal Rudolfov 0:2 (-23\,-18
 )
DTSTART;TZID=Europe/Berlin:20231118T163000
DTEND;TZID=Europe/Berlin:20231118T183000
LOCATION:TJ Slavia Hradec Králové\, Víta Nejedlého 1216 Hradec Králové
SUMMARY:CP-U16Z-V3A: TJ Slavia Hradec Králové-Volejbal Rudolfov
END:VEVENT
BEGIN:VEVENT
UID:36646666-6639-4234-a561-316464656332
DTSTAMP:20260422T230104Z
DESCRIPTION:6/12 KP Brno A - VO TJ Lanškroun A 1:2 (-22\,23\,-14)
DTSTART;TZID=Europe/Berlin:20231118T163000
DTEND;TZID=Europe/Berlin:20231118T183000
LOCATION:Sportovní gymnázium Ludvíka Daňka\, Botanická 63 Brno - Ponava
SUMMARY:CP-U16Z-V3A: KP Brno A-VO TJ Lanškroun A
END:VEVENT
BEGIN:VEVENT
UID:35376434-6263-4630-b562-306661393461
DTSTAMP:20260422T230104Z
DESCRIPTION:7/13 Volejbal Rudolfov - VO TJ Lanškroun A 0:2 (-17\,-12)
DTSTART;TZID=Europe/Berlin:20231118T174500
DTEND;TZID=Europe/Berlin:20231118T194500
LOCATION:Sportovní hala Rudolfov\, Adamovská 511 Rudolfov
SUMMARY:CP-U16Z-V3A: Volejbal Rudolfov-VO TJ Lanškroun A
END:VEVENT
BEGIN:VEVENT
UID:30636239-3039-4138-b663-383466386461
DTSTAMP:20260422T230104Z
DESCRIPTION:7/14 SK Volejbal Kolín - KP Brno A 0:2 (-20\,-12)
DTSTART;TZID=Europe/Berlin:20231118T174500
DTEND;TZID=Europe/Berlin:20231118T194500
LOCATION:hala STAV\, SOŠ Kolín\, Brankovická 1417 Kolín - Kolín V
SUMMARY:CP-U16Z-V3A: SK Volejbal Kolín-KP Brno A
END:VEVENT
BEGIN:VEVENT
UID:32396361-6433-4130-a166-303065383636
DTSTAMP:20260422T230104Z
DESCRIPTION:8/15 SK Volejbal Kolín - TJ Slavia Hradec Králové 0:2 (-16\,-20
 )
DTSTART;TZID=Europe/Berlin:20231119T090000
DTEND;TZID=Europe/Berlin:20231119T110000
LOCATION:hala STAV\, SOŠ Kolín\, Brankovická 1417 Kolín - Kolín V
SUMMARY:CP-U16Z-V3A: SK Volejbal Kolín-TJ Slavia Hradec Králové
END:VEVENT
BEGIN:VEVENT
UID:35356562-6666-4763-b936-313036303737
DTSTAMP:20260422T230104Z
DESCRIPTION:8/16 KP Brno A - Volejbal Rudolfov 2:1 (-17\,24\,7)
DTSTART;TZID=Europe/Berlin:20231119T090000
DTEND;TZID=Europe/Berlin:20231119T110000
LOCATION:Sportovní gymnázium Ludvíka Daňka\, Botanická 63 Brno - Ponava
SUMMARY:CP-U16Z-V3A: KP Brno A-Volejbal Rudolfov
END:VEVENT
BEGIN:VEVENT
UID:38353565-3138-4237-b365-663966336433
DTSTAMP:20260422T230104Z
DESCRIPTION:9/17 VK Prostějov - VK UP Olomouc 2:0 (24\,13)
DTSTART;TZID=Europe/Berlin:20231119T103000
DTEND;TZID=Europe/Berlin:20231119T123000
LOCATION:Národní sportovní centrum\, Za velodromem 4187 Prostějov
SUMMARY:CP-U16Z-V3A: VK Prostějov-VK UP Olomouc
END:VEVENT
BEGIN:VEVENT
UID:36613137-6332-4833-b138-313030393063
DTSTAMP:20260422T230104Z
DESCRIPTION:9/18 VO TJ Lanškroun A - TJ Slavia Hradec Králové 2:0 (22\,13)
DTSTART;TZID=Europe/Berlin:20231119T103000
DTEND;TZID=Europe/Berlin:20231119T123000
LOCATION:SOŠ a SOU Lanškroun\, Sokolská 288 Lanškroun - Ostrovské Předměstí
SUMMARY:CP-U16Z-V3A: VO TJ Lanškroun A-TJ Slavia Hradec Králové
END:VEVENT
BEGIN:VEVENT
UID:32633061-3762-4362-a633-623338393631
DTSTAMP:20260422T230104Z
DESCRIPTION:10/19 Volejbal Rudolfov - SK Volejbal Kolín 2:0 (22\,17)
DTSTART;TZID=Europe/Berlin:20231119T114500
DTEND;TZID=Europe/Berlin:20231119T134500
LOCATION:Sportovní hala Rudolfov\, Adamovská 511 Rudolfov
SUMMARY:CP-U16Z-V3A: Volejbal Rudolfov-SK Volejbal Kolín
END:VEVENT
BEGIN:VEVENT
UID:31363963-3539-4638-b164-656337613932
DTSTAMP:20260422T230104Z
DESCRIPTION:10/20 VK UP Olomouc - VO TJ Lanškroun A 0:2 (-13\,-18)
DTSTART;TZID=Europe/Berlin:20231119T114500
DTEND;TZID=Europe/Berlin:20231119T134500
LOCATION:UP Olomouc\, U sportovní haly 38 Olomouc - Lazce
SUMMARY:CP-U16Z-V3A: VK UP Olomouc-VO TJ Lanškroun A
END:VEVENT
BEGIN:VEVENT
UID:64363230-6638-4035-b835-626265393432
DTSTAMP:20260422T230104Z
DESCRIPTION:11/21 VK Prostějov - KP Brno A 0:2 (-21\,-21)
DTSTART;TZID=Europe/Berlin:20231119T130000
DTEND;TZID=Europe/Berlin:20231119T150000
LOCATION:Národní sportovní centrum\, Za velodromem 4187 Prostějov
SUMMARY:CP-U16Z-V3A: VK Prostějov-KP Brno A
END:VEVENT
END:VCALENDAR
