BEGIN:VCALENDAR
VERSION:2.0
PRODID:-//JM-U16Z-IIIC//NONSGML kigkonsult.se iCalcreator 2.41.80//
CALSCALE:GREGORIAN
UID:37363866-3933-4538-a364-383465623032
BEGIN:VEVENT
UID:64336333-3435-4062-b534-396564363064
DTSTAMP:20260421T210109Z
DESCRIPTION:1/1 SK Beachvolleyball Slavkov\, spolek - TJ Sokol Šlapanice A 
 0:2 (-21\,-17)
DTSTART;TZID=Europe/Berlin:20231111T090000
DTEND;TZID=Europe/Berlin:20231111T110000
LOCATION:Integrovaná střední škola\, Tyršova 479 Slavkov u Brna
SUMMARY:JM-U16Z-IIIC: SK Beachvolleyball Slavkov\, spolek-TJ Sokol Šlapanic
 e A
END:VEVENT
BEGIN:VEVENT
UID:35363364-6630-4237-b938-613637386435
DTSTAMP:20260421T210109Z
DESCRIPTION:2/2 Tělovýchovná jednota Sokol Újezd u Brna - VOLEJBAL VYŠKOV D
  2:1 (23\,-15\,12)
DTSTART;TZID=Europe/Berlin:20231111T103000
DTEND;TZID=Europe/Berlin:20231111T123000
LOCATION:Integrovaná střední škola\, Tyršova 479 Slavkov u Brna
SUMMARY:JM-U16Z-IIIC: Tělovýchovná jednota Sokol Újezd u Brna-VOLEJBAL VYŠK
 OV D
END:VEVENT
BEGIN:VEVENT
UID:31396534-6664-4634-b138-343363636236
DTSTAMP:20260421T210109Z
DESCRIPTION:3/3 TJ Sokol Šlapanice A - VOLEJBAL VYŠKOV D 2:0 (19\,21)
DTSTART;TZID=Europe/Berlin:20231111T114500
DTEND;TZID=Europe/Berlin:20231111T134500
LOCATION:Integrovaná střední škola\, Tyršova 479 Slavkov u Brna
SUMMARY:JM-U16Z-IIIC: TJ Sokol Šlapanice A-VOLEJBAL VYŠKOV D
END:VEVENT
BEGIN:VEVENT
UID:33316262-3539-4234-b965-306135393366
DTSTAMP:20260421T210109Z
DESCRIPTION:4/4 SK Beachvolleyball Slavkov\, spolek - Tělovýchovná jednota 
 Sokol Újezd u Brna 2:0 (24\,22)
DTSTART;TZID=Europe/Berlin:20231111T130000
DTEND;TZID=Europe/Berlin:20231111T150000
LOCATION:Integrovaná střední škola\, Tyršova 479 Slavkov u Brna
SUMMARY:JM-U16Z-IIIC: SK Beachvolleyball Slavkov\, spolek-Tělovýchovná jedn
 ota Sokol Újezd u Brna
END:VEVENT
BEGIN:VEVENT
UID:30363263-3237-4437-b035-663539633332
DTSTAMP:20260421T210109Z
DESCRIPTION:5/5 Tělovýchovná jednota Sokol Újezd u Brna - TJ Sokol Šlapanic
 e A 2:1 (24\,-15\,13)
DTSTART;TZID=Europe/Berlin:20231111T141500
DTEND;TZID=Europe/Berlin:20231111T161500
LOCATION:Integrovaná střední škola\, Tyršova 479 Slavkov u Brna
SUMMARY:JM-U16Z-IIIC: Tělovýchovná jednota Sokol Újezd u Brna-TJ Sokol Šlap
 anice A
END:VEVENT
BEGIN:VEVENT
UID:62623733-6262-4632-b930-393162623131
DTSTAMP:20260421T210109Z
DESCRIPTION:6/6 VOLEJBAL VYŠKOV D - SK Beachvolleyball Slavkov\, spolek 1:2
  (-21\,17\,-10)
DTSTART;TZID=Europe/Berlin:20231111T153000
DTEND;TZID=Europe/Berlin:20231111T173000
LOCATION:Integrovaná střední škola\, Tyršova 479 Slavkov u Brna
SUMMARY:JM-U16Z-IIIC: VOLEJBAL VYŠKOV D-SK Beachvolleyball Slavkov\, spolek
END:VEVENT
END:VCALENDAR
