BEGIN:VCALENDAR
VERSION:2.0
PRODID:-//JM-U16Z-IIIE//NONSGML kigkonsult.se iCalcreator 2.41.80//
CALSCALE:GREGORIAN
UID:63303033-3163-4063-a434-623330373139
BEGIN:VEVENT
UID:63363238-3531-4634-b938-326665363435
DTSTAMP:20260421T191959Z
DESCRIPTION:1/1 Lokomotiva Fosfa Břeclav B - VK Brno A\, z.s. 2:1 (25\,-18\
 ,12)
DTSTART;TZID=Europe/Berlin:20231111T090000
DTEND;TZID=Europe/Berlin:20231111T110000
LOCATION:TJ Lokomotiva Břeclav\, Veslařská 2753 Břeclav
SUMMARY:JM-U16Z-IIIE: Lokomotiva Fosfa Břeclav B-VK Brno A\, z.s.
END:VEVENT
BEGIN:VEVENT
UID:61643130-6535-4334-b535-346337666561
DTSTAMP:20260421T191959Z
DESCRIPTION:1/2 TJ Slovan Ivančice\, z.s. - VK Znojmo - Přímětice 'B' 0:2 (
 -21\,-16)
DTSTART;TZID=Europe/Berlin:20231111T090000
DTEND;TZID=Europe/Berlin:20231111T110000
LOCATION:TJ Lokomotiva Břeclav\, Veslařská 2753 Břeclav
SUMMARY:JM-U16Z-IIIE: TJ Slovan Ivančice\, z.s.-VK Znojmo - Přímětice 'B'
END:VEVENT
BEGIN:VEVENT
UID:66666339-3230-4961-a639-346235323464
DTSTAMP:20260421T191959Z
DESCRIPTION:2/3 VK Brno A\, z.s. - VK Znojmo - Přímětice 'B' 2:0 (14\,21)
DTSTART;TZID=Europe/Berlin:20231111T103000
DTEND;TZID=Europe/Berlin:20231111T123000
LOCATION:TJ Lokomotiva Břeclav\, Veslařská 2753 Břeclav
SUMMARY:JM-U16Z-IIIE: VK Brno A\, z.s.-VK Znojmo - Přímětice 'B'
END:VEVENT
BEGIN:VEVENT
UID:30353935-3732-4439-b436-333964333263
DTSTAMP:20260421T191959Z
DESCRIPTION:2/4 Lokomotiva Fosfa Břeclav B - TJ Slovan Ivančice\, z.s. 2:0 
 (17\,21)
DTSTART;TZID=Europe/Berlin:20231111T103000
DTEND;TZID=Europe/Berlin:20231111T123000
LOCATION:TJ Lokomotiva Břeclav\, Veslařská 2753 Břeclav
SUMMARY:JM-U16Z-IIIE: Lokomotiva Fosfa Břeclav B-TJ Slovan Ivančice\, z.s.
END:VEVENT
BEGIN:VEVENT
UID:66646230-3462-4730-b465-363432393465
DTSTAMP:20260421T191959Z
DESCRIPTION:3/5 TJ Slovan Ivančice\, z.s. - VK Brno A\, z.s. 0:2 (-21\,-17)
DTSTART;TZID=Europe/Berlin:20231111T114500
DTEND;TZID=Europe/Berlin:20231111T134500
LOCATION:TJ Lokomotiva Břeclav\, Veslařská 2753 Břeclav
SUMMARY:JM-U16Z-IIIE: TJ Slovan Ivančice\, z.s.-VK Brno A\, z.s.
END:VEVENT
BEGIN:VEVENT
UID:32336333-3765-4565-a663-383833336237
DTSTAMP:20260421T191959Z
DESCRIPTION:3/6 VK Znojmo - Přímětice 'B' - Lokomotiva Fosfa Břeclav B 2:0 
 (18\,21)
DTSTART;TZID=Europe/Berlin:20231111T114500
DTEND;TZID=Europe/Berlin:20231111T134500
LOCATION:TJ Lokomotiva Břeclav\, Veslařská 2753 Břeclav
SUMMARY:JM-U16Z-IIIE: VK Znojmo - Přímětice 'B'-Lokomotiva Fosfa Břeclav B
END:VEVENT
END:VCALENDAR
