BEGIN:VCALENDAR
VERSION:2.0
PRODID:-//JM-U16Z-IIIG//NONSGML kigkonsult.se iCalcreator 2.41.80//
CALSCALE:GREGORIAN
UID:39326365-6333-4231-a564-623466333438
BEGIN:VEVENT
UID:33636132-3231-4365-b666-656635353732
DTSTAMP:20260421T210124Z
DESCRIPTION:1/1 DDM Kuřim - KP Brno C 0:2 (-10\,-15)
DTSTART;TZID=Europe/Berlin:20231111T090000
DTEND;TZID=Europe/Berlin:20231111T110000
LOCATION:ZŠ Jungmannova Kuřim\, Jungmannova 813 Kuřim
SUMMARY:JM-U16Z-IIIG: DDM Kuřim-KP Brno C
END:VEVENT
BEGIN:VEVENT
UID:35346164-3466-4433-a234-343030666662
DTSTAMP:20260421T210124Z
DESCRIPTION:2/2 VOLEJBAL VYŠKOV E - Beach club Zlín\, z.s. 1:2 (-22\,18\,-1
 5)
DTSTART;TZID=Europe/Berlin:20231111T103000
DTEND;TZID=Europe/Berlin:20231111T123000
LOCATION:ZŠ Jungmannova Kuřim\, Jungmannova 813 Kuřim
SUMMARY:JM-U16Z-IIIG: VOLEJBAL VYŠKOV E-Beach club Zlín\, z.s.
END:VEVENT
BEGIN:VEVENT
UID:30366264-3364-4131-a631-343136323433
DTSTAMP:20260421T210124Z
DESCRIPTION:3/3 KP Brno C - Beach club Zlín\, z.s. 2:0 (22\,15)
DTSTART;TZID=Europe/Berlin:20231111T114500
DTEND;TZID=Europe/Berlin:20231111T134500
LOCATION:ZŠ Jungmannova Kuřim\, Jungmannova 813 Kuřim
SUMMARY:JM-U16Z-IIIG: KP Brno C-Beach club Zlín\, z.s.
END:VEVENT
BEGIN:VEVENT
UID:61336165-3165-4436-b066-623865646564
DTSTAMP:20260421T210124Z
DESCRIPTION:4/4 DDM Kuřim - VOLEJBAL VYŠKOV E 0:2 (-15\,-14)
DTSTART;TZID=Europe/Berlin:20231111T130000
DTEND;TZID=Europe/Berlin:20231111T150000
LOCATION:ZŠ Jungmannova Kuřim\, Jungmannova 813 Kuřim
SUMMARY:JM-U16Z-IIIG: DDM Kuřim-VOLEJBAL VYŠKOV E
END:VEVENT
BEGIN:VEVENT
UID:39303430-6566-4966-a261-633963613532
DTSTAMP:20260421T210124Z
DESCRIPTION:5/5 VOLEJBAL VYŠKOV E - KP Brno C 0:2 (-10\,-19)
DTSTART;TZID=Europe/Berlin:20231111T141500
DTEND;TZID=Europe/Berlin:20231111T161500
LOCATION:ZŠ Jungmannova Kuřim\, Jungmannova 813 Kuřim
SUMMARY:JM-U16Z-IIIG: VOLEJBAL VYŠKOV E-KP Brno C
END:VEVENT
BEGIN:VEVENT
UID:32343966-3230-4636-b963-333266386138
DTSTAMP:20260421T210124Z
DESCRIPTION:6/6 Beach club Zlín\, z.s. - DDM Kuřim 2:1 (-17\,23\,4)
DTSTART;TZID=Europe/Berlin:20231111T153000
DTEND;TZID=Europe/Berlin:20231111T173000
LOCATION:ZŠ Jungmannova Kuřim\, Jungmannova 813 Kuřim
SUMMARY:JM-U16Z-IIIG: Beach club Zlín\, z.s.-DDM Kuřim
END:VEVENT
END:VCALENDAR
