BEGIN:VCALENDAR
VERSION:2.0
PRODID:-//CP-U16M-Z2A//NONSGML kigkonsult.se iCalcreator 2.41.80//
CALSCALE:GREGORIAN
UID:39646465-3132-4530-b334-343235363739
BEGIN:VEVENT
UID:66376538-3363-4366-b832-653435373263
DTSTAMP:20260425T014643Z
DESCRIPTION:1/1 VK České Budějovice A - SK Volejbal Kolín\, z.s. 2:0 (19\,8
 )
DTSTART;TZID=Europe/Berlin:20231118T100000
DTEND;TZID=Europe/Berlin:20231118T120000
LOCATION:ZŠ Oskara Nedbala České Budějovice\, O. Nedbala 882 České Budějovi
 ce - České Budějovice 2
SUMMARY:CP-U16M-Z2A: VK České Budějovice A-SK Volejbal Kolín\, z.s.
END:VEVENT
BEGIN:VEVENT
UID:35316161-6338-4239-b561-383764393739
DTSTAMP:20260425T014643Z
DESCRIPTION:1/2 VK Jirkov - Sokol Mn. Hradiště 2:0 (13\,19)
DTSTART;TZID=Europe/Berlin:20231118T100000
DTEND;TZID=Europe/Berlin:20231118T120000
LOCATION:Sportovní hala MG a ZŠ Jirkov\, Krušnohorská 1675 Jirkov
SUMMARY:CP-U16M-Z2A: VK Jirkov-Sokol Mn. Hradiště
END:VEVENT
BEGIN:VEVENT
UID:61333730-6236-4465-b464-333062613065
DTSTAMP:20260425T014643Z
DESCRIPTION:2/3 VK Trox Příbram A - SK PROSEK A 2:0 (19\,20)
DTSTART;TZID=Europe/Berlin:20231118T110000
DTEND;TZID=Europe/Berlin:20231118T130000
LOCATION:Tělocvična ZŠ Balbínova\, Balbínova 328 Příbram - Příbram II
SUMMARY:CP-U16M-Z2A: VK Trox Příbram A-SK PROSEK A
END:VEVENT
BEGIN:VEVENT
UID:37613066-3539-4164-b033-323666623537
DTSTAMP:20260425T014643Z
DESCRIPTION:2/4 Orion Praha - VK Lvi Praha A 1:2 (-17\,22\,-4)
DTSTART;TZID=Europe/Berlin:20231118T110000
DTEND;TZID=Europe/Berlin:20231118T130000
LOCATION:ZŠ prof. Švejcara\, Mráčkova\, Mráčkova 3090 Praha - Modřany
SUMMARY:CP-U16M-Z2A: Orion Praha-VK Lvi Praha A
END:VEVENT
BEGIN:VEVENT
UID:33303430-6534-4538-b366-393938656362
DTSTAMP:20260425T014643Z
DESCRIPTION:3/5 Sokol Mn. Hradiště - VK České Budějovice A 1:2 (18\,-17\,-1
 3)
DTSTART;TZID=Europe/Berlin:20231118T120000
DTEND;TZID=Europe/Berlin:20231118T140000
LOCATION:Sportovní hala BIOS\, Sokolovská 254 Mnichovo Hradiště
SUMMARY:CP-U16M-Z2A: Sokol Mn. Hradiště-VK České Budějovice A
END:VEVENT
BEGIN:VEVENT
UID:35336534-3363-4363-a535-653662383135
DTSTAMP:20260425T014643Z
DESCRIPTION:3/6 VK Lvi Praha A - SK Volejbal Kolín\, z.s. 2:1 (-21\,18\,9)
DTSTART;TZID=Europe/Berlin:20231118T120000
DTEND;TZID=Europe/Berlin:20231118T140000
LOCATION:FZŠ Brdičkova\, Brdičkova 1878 Praha - Stodůlky
SUMMARY:CP-U16M-Z2A: VK Lvi Praha A-SK Volejbal Kolín\, z.s.
END:VEVENT
BEGIN:VEVENT
UID:35663465-6534-4163-b431-313834356239
DTSTAMP:20260425T014643Z
DESCRIPTION:4/7 SK PROSEK A - Orion Praha 2:0 (20\,12)
DTSTART;TZID=Europe/Berlin:20231118T130000
DTEND;TZID=Europe/Berlin:20231118T150000
LOCATION:SH SK Prosek\, Lovosická 559 Praha - Letňany
SUMMARY:CP-U16M-Z2A: SK PROSEK A-Orion Praha
END:VEVENT
BEGIN:VEVENT
UID:37313433-6135-4238-a564-356531373936
DTSTAMP:20260425T014643Z
DESCRIPTION:4/8 VK Jirkov - SK Volejbal Kolín\, z.s. 1:2 (-24\,23\,-6)
DTSTART;TZID=Europe/Berlin:20231118T130000
DTEND;TZID=Europe/Berlin:20231118T150000
LOCATION:Sportovní hala MG a ZŠ Jirkov\, Krušnohorská 1675 Jirkov
SUMMARY:CP-U16M-Z2A: VK Jirkov-SK Volejbal Kolín\, z.s.
END:VEVENT
BEGIN:VEVENT
UID:37373534-6636-4362-b135-383235393439
DTSTAMP:20260425T014643Z
DESCRIPTION:5/9 VK Trox Příbram A - Sokol Mn. Hradiště 2:0 (19\,23)
DTSTART;TZID=Europe/Berlin:20231118T140000
DTEND;TZID=Europe/Berlin:20231118T160000
LOCATION:Tělocvična ZŠ Balbínova\, Balbínova 328 Příbram - Příbram II
SUMMARY:CP-U16M-Z2A: VK Trox Příbram A-Sokol Mn. Hradiště
END:VEVENT
BEGIN:VEVENT
UID:32303365-6438-4263-b838-373366333664
DTSTAMP:20260425T014643Z
DESCRIPTION:5/10 Orion Praha - VK Jirkov 0:2 (-25\,-14)
DTSTART;TZID=Europe/Berlin:20231118T140000
DTEND;TZID=Europe/Berlin:20231118T160000
LOCATION:ZŠ prof. Švejcara\, Mráčkova\, Mráčkova 3090 Praha - Modřany
SUMMARY:CP-U16M-Z2A: Orion Praha-VK Jirkov
END:VEVENT
BEGIN:VEVENT
UID:39643733-6131-4530-b438-383466346163
DTSTAMP:20260425T014643Z
DESCRIPTION:6/11 VK České Budějovice A - VK Lvi Praha A 2:0 (11\,22)
DTSTART;TZID=Europe/Berlin:20231118T150000
DTEND;TZID=Europe/Berlin:20231118T170000
LOCATION:ZŠ Oskara Nedbala České Budějovice\, O. Nedbala 882 České Budějovi
 ce - České Budějovice 2
SUMMARY:CP-U16M-Z2A: VK České Budějovice A-VK Lvi Praha A
END:VEVENT
BEGIN:VEVENT
UID:63393564-3032-4837-b235-363732353565
DTSTAMP:20260425T014643Z
DESCRIPTION:6/12 SK Volejbal Kolín\, z.s. - SK PROSEK A 1:2 (18\,-16\,-10)
DTSTART;TZID=Europe/Berlin:20231118T150000
DTEND;TZID=Europe/Berlin:20231118T170000
LOCATION:hala STAV\, SOŠ Kolín\, Brankovická 1417 Kolín - Kolín V
SUMMARY:CP-U16M-Z2A: SK Volejbal Kolín\, z.s.-SK PROSEK A
END:VEVENT
BEGIN:VEVENT
UID:32623333-6634-4635-b862-656230353635
DTSTAMP:20260425T014643Z
DESCRIPTION:7/13 Sokol Mn. Hradiště - VK Lvi Praha A 0:2 (-21\,-20)
DTSTART;TZID=Europe/Berlin:20231118T160000
DTEND;TZID=Europe/Berlin:20231118T180000
LOCATION:Sportovní hala BIOS\, Sokolovská 254 Mnichovo Hradiště
SUMMARY:CP-U16M-Z2A: Sokol Mn. Hradiště-VK Lvi Praha A
END:VEVENT
BEGIN:VEVENT
UID:61626430-3030-4431-a338-396261386231
DTSTAMP:20260425T014643Z
DESCRIPTION:7/14 VK Trox Příbram A - Orion Praha 1:2 (21\,-17\,-13)
DTSTART;TZID=Europe/Berlin:20231118T160000
DTEND;TZID=Europe/Berlin:20231118T180000
LOCATION:Tělocvična ZŠ Balbínova\, Balbínova 328 Příbram - Příbram II
SUMMARY:CP-U16M-Z2A: VK Trox Příbram A-Orion Praha
END:VEVENT
BEGIN:VEVENT
UID:36663238-3561-4762-a231-353536323164
DTSTAMP:20260425T014643Z
DESCRIPTION:8/15 SK PROSEK A - VK České Budějovice A 0:2 (-16\,-14)
DTSTART;TZID=Europe/Berlin:20231118T170000
DTEND;TZID=Europe/Berlin:20231118T190000
LOCATION:SH SK Prosek\, Lovosická 559 Praha - Letňany
SUMMARY:CP-U16M-Z2A: SK PROSEK A-VK České Budějovice A
END:VEVENT
BEGIN:VEVENT
UID:31646436-6663-4663-b037-643264653037
DTSTAMP:20260425T014643Z
DESCRIPTION:8/16 VK Jirkov - VK Trox Příbram A 2:0 (17\,16)
DTSTART;TZID=Europe/Berlin:20231118T170000
DTEND;TZID=Europe/Berlin:20231118T190000
LOCATION:Sportovní hala MG a ZŠ Jirkov\, Krušnohorská 1675 Jirkov
SUMMARY:CP-U16M-Z2A: VK Jirkov-VK Trox Příbram A
END:VEVENT
BEGIN:VEVENT
UID:37366136-6163-4330-b861-663139383966
DTSTAMP:20260425T014643Z
DESCRIPTION:9/17 VK Lvi Praha A - SK PROSEK A 2:0 (24\,19)
DTSTART;TZID=Europe/Berlin:20231119T090000
DTEND;TZID=Europe/Berlin:20231119T110000
LOCATION:FZŠ Brdičkova\, Brdičkova 1878 Praha - Stodůlky
SUMMARY:CP-U16M-Z2A: VK Lvi Praha A-SK PROSEK A
END:VEVENT
BEGIN:VEVENT
UID:30333036-3736-4161-b136-323661613134
DTSTAMP:20260425T014643Z
DESCRIPTION:9/18 VK České Budějovice A - VK Jirkov 2:0 (25\,22)
DTSTART;TZID=Europe/Berlin:20231119T090000
DTEND;TZID=Europe/Berlin:20231119T110000
LOCATION:ZŠ Oskara Nedbala České Budějovice\, O. Nedbala 882 České Budějovi
 ce - České Budějovice 2
SUMMARY:CP-U16M-Z2A: VK České Budějovice A-VK Jirkov
END:VEVENT
BEGIN:VEVENT
UID:38363136-6461-4337-a236-376564636333
DTSTAMP:20260425T014643Z
DESCRIPTION:10/19 Orion Praha - Sokol Mn. Hradiště 0:2 (-21\,-21)
DTSTART;TZID=Europe/Berlin:20231119T100000
DTEND;TZID=Europe/Berlin:20231119T120000
LOCATION:ZŠ prof. Švejcara\, Mráčkova\, Mráčkova 3090 Praha - Modřany
SUMMARY:CP-U16M-Z2A: Orion Praha-Sokol Mn. Hradiště
END:VEVENT
BEGIN:VEVENT
UID:32613136-6234-4366-a639-656538303465
DTSTAMP:20260425T014643Z
DESCRIPTION:10/20 SK Volejbal Kolín\, z.s. - VK Trox Příbram A 0:2 (-16\,-1
 7)
DTSTART;TZID=Europe/Berlin:20231119T100000
DTEND;TZID=Europe/Berlin:20231119T120000
LOCATION:hala STAV\, SOŠ Kolín\, Brankovická 1417 Kolín - Kolín V
SUMMARY:CP-U16M-Z2A: SK Volejbal Kolín\, z.s.-VK Trox Příbram A
END:VEVENT
BEGIN:VEVENT
UID:37393739-3263-4633-b035-633162633563
DTSTAMP:20260425T014643Z
DESCRIPTION:11/21 Sokol Mn. Hradiště - SK PROSEK A 0:2 (-17\,-15)
DTSTART;TZID=Europe/Berlin:20231119T110000
DTEND;TZID=Europe/Berlin:20231119T130000
LOCATION:Sportovní hala BIOS\, Sokolovská 254 Mnichovo Hradiště
SUMMARY:CP-U16M-Z2A: Sokol Mn. Hradiště-SK PROSEK A
END:VEVENT
BEGIN:VEVENT
UID:31346539-3964-4333-b135-636339386361
DTSTAMP:20260425T014643Z
DESCRIPTION:11/22 VK Jirkov - VK Lvi Praha A 1:2 (20\,-11\,-7)
DTSTART;TZID=Europe/Berlin:20231119T110000
DTEND;TZID=Europe/Berlin:20231119T130000
LOCATION:Sportovní hala MG a ZŠ Jirkov\, Krušnohorská 1675 Jirkov
SUMMARY:CP-U16M-Z2A: VK Jirkov-VK Lvi Praha A
END:VEVENT
BEGIN:VEVENT
UID:34616439-6230-4764-a564-396166306332
DTSTAMP:20260425T014643Z
DESCRIPTION:12/23 VK Trox Příbram A - VK České Budějovice A 0:2 (-19\,-14)
DTSTART;TZID=Europe/Berlin:20231119T120000
DTEND;TZID=Europe/Berlin:20231119T140000
LOCATION:Tělocvična ZŠ Balbínova\, Balbínova 328 Příbram - Příbram II
SUMMARY:CP-U16M-Z2A: VK Trox Příbram A-VK České Budějovice A
END:VEVENT
BEGIN:VEVENT
UID:38616337-3834-4261-b237-656137353436
DTSTAMP:20260425T014643Z
DESCRIPTION:12/24 Orion Praha - SK Volejbal Kolín\, z.s. 0:2 (-17\,-21)
DTSTART;TZID=Europe/Berlin:20231119T120000
DTEND;TZID=Europe/Berlin:20231119T140000
LOCATION:ZŠ prof. Švejcara\, Mráčkova\, Mráčkova 3090 Praha - Modřany
SUMMARY:CP-U16M-Z2A: Orion Praha-SK Volejbal Kolín\, z.s.
END:VEVENT
BEGIN:VEVENT
UID:36666233-6436-4639-b132-333236353139
DTSTAMP:20260425T014643Z
DESCRIPTION:13/25 VK České Budějovice A - Orion Praha 2:0 (23\,19)
DTSTART;TZID=Europe/Berlin:20231119T130000
DTEND;TZID=Europe/Berlin:20231119T150000
LOCATION:ZŠ Oskara Nedbala České Budějovice\, O. Nedbala 882 České Budějovi
 ce - České Budějovice 2
SUMMARY:CP-U16M-Z2A: VK České Budějovice A-Orion Praha
END:VEVENT
BEGIN:VEVENT
UID:63393639-6334-4637-b036-663265656165
DTSTAMP:20260425T014643Z
DESCRIPTION:13/26 VK Jirkov - SK PROSEK A 2:0 (23\,21)
DTSTART;TZID=Europe/Berlin:20231119T130000
DTEND;TZID=Europe/Berlin:20231119T150000
LOCATION:Sportovní hala MG a ZŠ Jirkov\, Krušnohorská 1675 Jirkov
SUMMARY:CP-U16M-Z2A: VK Jirkov-SK PROSEK A
END:VEVENT
BEGIN:VEVENT
UID:36376336-6362-4465-a464-306664313836
DTSTAMP:20260425T014643Z
DESCRIPTION:14/27 VK Lvi Praha A - VK Trox Příbram A 2:1 (-12\,9\,9)
DTSTART;TZID=Europe/Berlin:20231119T140000
DTEND;TZID=Europe/Berlin:20231119T160000
LOCATION:FZŠ Brdičkova\, Brdičkova 1878 Praha - Stodůlky
SUMMARY:CP-U16M-Z2A: VK Lvi Praha A-VK Trox Příbram A
END:VEVENT
BEGIN:VEVENT
UID:39653064-6664-4131-b064-636635666330
DTSTAMP:20260425T014643Z
DESCRIPTION:14/28 SK Volejbal Kolín\, z.s. - Sokol Mn. Hradiště 2:1 (17\,-2
 2\,9)
DTSTART;TZID=Europe/Berlin:20231119T140000
DTEND;TZID=Europe/Berlin:20231119T160000
LOCATION:hala STAV\, SOŠ Kolín\, Brankovická 1417 Kolín - Kolín V
SUMMARY:CP-U16M-Z2A: SK Volejbal Kolín\, z.s.-Sokol Mn. Hradiště
END:VEVENT
END:VCALENDAR
