BEGIN:VCALENDAR
VERSION:2.0
PRODID:-//CP-U16Z-F1C//NONSGML kigkonsult.se iCalcreator 2.41.80//
CALSCALE:GREGORIAN
UID:65396665-6166-4234-b839-313963613566
BEGIN:VEVENT
UID:63383337-3539-4239-b862-646336326239
DTSTAMP:20260422T162912Z
DESCRIPTION:1/1 Nymburské BOMBY - TJ Ostrava 2:1 (-18\,21\,7)
DTSTART;TZID=Europe/Berlin:20240127T090000
DTEND;TZID=Europe/Berlin:20240127T110000
LOCATION:Bios\, V Kolonii 1804 Nymburk
SUMMARY:CP-U16Z-F1C: Nymburské BOMBY-TJ Ostrava
END:VEVENT
BEGIN:VEVENT
UID:33363330-3561-4239-a334-633939613131
DTSTAMP:20260422T162912Z
DESCRIPTION:1/2 BVC Chodov - Happy Sport Opava 2:0 (17\,19)
DTSTART;TZID=Europe/Berlin:20240127T090000
DTEND;TZID=Europe/Berlin:20240127T110000
LOCATION:Městská sportovní hala Chodov\, Tyršova 1201 Chodov
SUMMARY:CP-U16Z-F1C: BVC Chodov-Happy Sport Opava
END:VEVENT
BEGIN:VEVENT
UID:39363531-3337-4138-a364-336565666235
DTSTAMP:20260422T162912Z
DESCRIPTION:2/3 TJ Sokol Pardubice I. - TJ Svitavy 2:1 (-24\,22\,13)
DTSTART;TZID=Europe/Berlin:20240127T103000
DTEND;TZID=Europe/Berlin:20240127T123000
LOCATION:Sokolovna\, Jiráskova 29 Pardubice - Zelené Předměstí
SUMMARY:CP-U16Z-F1C: TJ Sokol Pardubice I.-TJ Svitavy
END:VEVENT
BEGIN:VEVENT
UID:31303265-3163-4236-b364-363364643634
DTSTAMP:20260422T162912Z
DESCRIPTION:2/4 Mikulova A - SK Volejbal Ústí n.L. 2:1 (26\,-18\,16)
DTSTART;TZID=Europe/Berlin:20240127T103000
DTEND;TZID=Europe/Berlin:20240127T123000
LOCATION:tělocvičny ZŠ Mikulova\, Mikulova 1594 Praha - Chodov
SUMMARY:CP-U16Z-F1C: Mikulova A-SK Volejbal Ústí n.L.
END:VEVENT
BEGIN:VEVENT
UID:38386133-3834-4532-b364-616662396466
DTSTAMP:20260422T162912Z
DESCRIPTION:3/5 TJ Ostrava - SK Volejbal Ústí n.L. 2:0 (16\,18)
DTSTART;TZID=Europe/Berlin:20240127T120000
DTEND;TZID=Europe/Berlin:20240127T140000
LOCATION:Hala mládeže\, Gajdošova 1893 Ostrava - Moravská Ostrava
SUMMARY:CP-U16Z-F1C: TJ Ostrava-SK Volejbal Ústí n.L.
END:VEVENT
BEGIN:VEVENT
UID:33343132-6162-4632-a633-653664376631
DTSTAMP:20260422T162912Z
DESCRIPTION:3/6 TJ Svitavy - Mikulova A 1:2 (-21\,25\,-13)
DTSTART;TZID=Europe/Berlin:20240127T120000
DTEND;TZID=Europe/Berlin:20240127T140000
LOCATION:Sportovní hala Na Střelnici\, Pražská 2162 Svitavy - Předměstí
SUMMARY:CP-U16Z-F1C: TJ Svitavy-Mikulova A
END:VEVENT
BEGIN:VEVENT
UID:39356339-6635-4839-b633-623265363962
DTSTAMP:20260422T162912Z
DESCRIPTION:4/7 Happy Sport Opava - TJ Sokol Pardubice I. 2:0 (29\,24)
DTSTART;TZID=Europe/Berlin:20240127T133000
DTEND;TZID=Europe/Berlin:20240127T153000
LOCATION:Sportovní hala Slezského gymnázia v Opavě\, Zámecký okruh 461 Opav
 a - Město
SUMMARY:CP-U16Z-F1C: Happy Sport Opava-TJ Sokol Pardubice I.
END:VEVENT
BEGIN:VEVENT
UID:62653132-3130-4237-b161-336430393835
DTSTAMP:20260422T162912Z
DESCRIPTION:4/8 Nymburské BOMBY - BVC Chodov 0:2 (-19\,-9)
DTSTART;TZID=Europe/Berlin:20240127T133000
DTEND;TZID=Europe/Berlin:20240127T153000
LOCATION:Bios\, V Kolonii 1804 Nymburk
SUMMARY:CP-U16Z-F1C: Nymburské BOMBY-BVC Chodov
END:VEVENT
BEGIN:VEVENT
UID:31636163-3661-4561-b036-393339303238
DTSTAMP:20260422T162912Z
DESCRIPTION:5/9 BVC Chodov - TJ Ostrava 2:0 (19\,21)
DTSTART;TZID=Europe/Berlin:20240127T150000
DTEND;TZID=Europe/Berlin:20240127T170000
LOCATION:Městská sportovní hala Chodov\, Tyršova 1201 Chodov
SUMMARY:CP-U16Z-F1C: BVC Chodov-TJ Ostrava
END:VEVENT
BEGIN:VEVENT
UID:38333164-3635-4365-b539-343636356361
DTSTAMP:20260422T162912Z
DESCRIPTION:5/10 TJ Sokol Pardubice I. - Nymburské BOMBY 1:2 (-14\,18\,-6)
DTSTART;TZID=Europe/Berlin:20240127T150000
DTEND;TZID=Europe/Berlin:20240127T170000
LOCATION:Sokolovna\, Jiráskova 29 Pardubice - Zelené Předměstí
SUMMARY:CP-U16Z-F1C: TJ Sokol Pardubice I.-Nymburské BOMBY
END:VEVENT
BEGIN:VEVENT
UID:33656538-3131-4333-b038-666133323666
DTSTAMP:20260422T162912Z
DESCRIPTION:6/11 Mikulova A - Happy Sport Opava 2:1 (22\,-18\,11)
DTSTART;TZID=Europe/Berlin:20240127T163000
DTEND;TZID=Europe/Berlin:20240127T183000
LOCATION:tělocvičny ZŠ Mikulova\, Mikulova 1594 Praha - Chodov
SUMMARY:CP-U16Z-F1C: Mikulova A-Happy Sport Opava
END:VEVENT
BEGIN:VEVENT
UID:39353836-3736-4334-a636-386538636564
DTSTAMP:20260422T162912Z
DESCRIPTION:6/12 SK Volejbal Ústí n.L. - TJ Svitavy 2:0 (19\,15)
DTSTART;TZID=Europe/Berlin:20240127T163000
DTEND;TZID=Europe/Berlin:20240127T183000
LOCATION:Základní škola Stříbrnická\, Stříbrnická 3031 Ústí nad Labem - Sev
 erní Terasa
SUMMARY:CP-U16Z-F1C: SK Volejbal Ústí n.L.-TJ Svitavy
END:VEVENT
BEGIN:VEVENT
UID:32663932-6632-4730-b830-623130613935
DTSTAMP:20260422T162912Z
DESCRIPTION:7/13 TJ Ostrava - TJ Svitavy 2:0 (23\,19)
DTSTART;TZID=Europe/Berlin:20240127T180000
DTEND;TZID=Europe/Berlin:20240127T200000
LOCATION:Hala mládeže\, Gajdošova 1893 Ostrava - Moravská Ostrava
SUMMARY:CP-U16Z-F1C: TJ Ostrava-TJ Svitavy
END:VEVENT
BEGIN:VEVENT
UID:37383633-6133-4461-b937-333765363035
DTSTAMP:20260422T162912Z
DESCRIPTION:7/14 Happy Sport Opava - SK Volejbal Ústí n.L. 1:2 (-20\,18\,-1
 0)
DTSTART;TZID=Europe/Berlin:20240127T180000
DTEND;TZID=Europe/Berlin:20240127T200000
LOCATION:Sportovní hala Slezského gymnázia v Opavě\, Zámecký okruh 461 Opav
 a - Město
SUMMARY:CP-U16Z-F1C: Happy Sport Opava-SK Volejbal Ústí n.L.
END:VEVENT
BEGIN:VEVENT
UID:62306132-6662-4639-a335-616163353837
DTSTAMP:20260422T162912Z
DESCRIPTION:8/15 TJ Svitavy - BVC Chodov 0:2 (-21\,-15)
DTSTART;TZID=Europe/Berlin:20240128T083000
DTEND;TZID=Europe/Berlin:20240128T103000
LOCATION:Sportovní hala Na Střelnici\, Pražská 2162 Svitavy - Předměstí
SUMMARY:CP-U16Z-F1C: TJ Svitavy-BVC Chodov
END:VEVENT
BEGIN:VEVENT
UID:39636464-3434-4637-b135-373764303834
DTSTAMP:20260422T162912Z
DESCRIPTION:8/16 Happy Sport Opava - Nymburské BOMBY 0:2 (-12\,-17)
DTSTART;TZID=Europe/Berlin:20240128T083000
DTEND;TZID=Europe/Berlin:20240128T103000
LOCATION:Sportovní hala Slezského gymnázia v Opavě\, Zámecký okruh 461 Opav
 a - Město
SUMMARY:CP-U16Z-F1C: Happy Sport Opava-Nymburské BOMBY
END:VEVENT
BEGIN:VEVENT
UID:64656165-3338-4666-a665-366135383866
DTSTAMP:20260422T162912Z
DESCRIPTION:9/17 TJ Sokol Pardubice I. - TJ Ostrava 0:2 (-23\,-12)
DTSTART;TZID=Europe/Berlin:20240128T100000
DTEND;TZID=Europe/Berlin:20240128T120000
LOCATION:Sokolovna\, Jiráskova 29 Pardubice - Zelené Předměstí
SUMMARY:CP-U16Z-F1C: TJ Sokol Pardubice I.-TJ Ostrava
END:VEVENT
BEGIN:VEVENT
UID:64333937-3965-4536-a639-626636336430
DTSTAMP:20260422T162912Z
DESCRIPTION:9/18 Mikulova A - BVC Chodov 2:1 (18\,-23\,14)
DTSTART;TZID=Europe/Berlin:20240128T100000
DTEND;TZID=Europe/Berlin:20240128T120000
LOCATION:tělocvičny ZŠ Mikulova\, Mikulova 1594 Praha - Chodov
SUMMARY:CP-U16Z-F1C: Mikulova A-BVC Chodov
END:VEVENT
BEGIN:VEVENT
UID:35653331-6233-4863-b635-343939376537
DTSTAMP:20260422T162912Z
DESCRIPTION:10/19 SK Volejbal Ústí n.L. - Nymburské BOMBY 2:1 (27\,-14\,13)
DTSTART;TZID=Europe/Berlin:20240128T113000
DTEND;TZID=Europe/Berlin:20240128T133000
LOCATION:Základní škola Stříbrnická\, Stříbrnická 3031 Ústí nad Labem - Sev
 erní Terasa
SUMMARY:CP-U16Z-F1C: SK Volejbal Ústí n.L.-Nymburské BOMBY
END:VEVENT
BEGIN:VEVENT
UID:33333733-3764-4333-a132-663739616434
DTSTAMP:20260422T162912Z
DESCRIPTION:10/20 TJ Svitavy - Happy Sport Opava 2:0 (22\,9)
DTSTART;TZID=Europe/Berlin:20240128T113000
DTEND;TZID=Europe/Berlin:20240128T133000
LOCATION:Sportovní hala Na Střelnici\, Pražská 2162 Svitavy - Předměstí
SUMMARY:CP-U16Z-F1C: TJ Svitavy-Happy Sport Opava
END:VEVENT
BEGIN:VEVENT
UID:32393564-3265-4335-a266-623132336162
DTSTAMP:20260422T162912Z
DESCRIPTION:11/21 TJ Ostrava - Happy Sport Opava 2:0 (8\,23)
DTSTART;TZID=Europe/Berlin:20240128T130000
DTEND;TZID=Europe/Berlin:20240128T150000
LOCATION:Hala mládeže\, Gajdošova 1893 Ostrava - Moravská Ostrava
SUMMARY:CP-U16Z-F1C: TJ Ostrava-Happy Sport Opava
END:VEVENT
BEGIN:VEVENT
UID:38353530-6166-4165-a331-306163396532
DTSTAMP:20260422T162912Z
DESCRIPTION:11/22 TJ Sokol Pardubice I. - Mikulova A 1:2 (23\,-8\,-13)
DTSTART;TZID=Europe/Berlin:20240128T130000
DTEND;TZID=Europe/Berlin:20240128T150000
LOCATION:Sokolovna\, Jiráskova 29 Pardubice - Zelené Předměstí
SUMMARY:CP-U16Z-F1C: TJ Sokol Pardubice I.-Mikulova A
END:VEVENT
BEGIN:VEVENT
UID:36366363-6466-4163-b565-306233316235
DTSTAMP:20260422T162912Z
DESCRIPTION:12/23 BVC Chodov - SK Volejbal Ústí n.L. 2:0 (14\,22)
DTSTART;TZID=Europe/Berlin:20240128T143000
DTEND;TZID=Europe/Berlin:20240128T163000
LOCATION:Městská sportovní hala Chodov\, Tyršova 1201 Chodov
SUMMARY:CP-U16Z-F1C: BVC Chodov-SK Volejbal Ústí n.L.
END:VEVENT
BEGIN:VEVENT
UID:65383063-3238-4133-a235-623431383261
DTSTAMP:20260422T162912Z
DESCRIPTION:12/24 Nymburské BOMBY - TJ Svitavy 2:0 (22\,21)
DTSTART;TZID=Europe/Berlin:20240128T143000
DTEND;TZID=Europe/Berlin:20240128T163000
LOCATION:Bios\, V Kolonii 1804 Nymburk
SUMMARY:CP-U16Z-F1C: Nymburské BOMBY-TJ Svitavy
END:VEVENT
BEGIN:VEVENT
UID:35353030-3137-4235-b736-656437643338
DTSTAMP:20260422T162912Z
DESCRIPTION:13/25 Mikulova A - TJ Ostrava 1:2 (-22\,14\,-10)
DTSTART;TZID=Europe/Berlin:20240128T160000
DTEND;TZID=Europe/Berlin:20240128T180000
LOCATION:tělocvičny ZŠ Mikulova\, Mikulova 1594 Praha - Chodov
SUMMARY:CP-U16Z-F1C: Mikulova A-TJ Ostrava
END:VEVENT
BEGIN:VEVENT
UID:62303034-3862-4663-b566-653630306639
DTSTAMP:20260422T162912Z
DESCRIPTION:13/26 BVC Chodov - TJ Sokol Pardubice I. 2:0 (23\,9)
DTSTART;TZID=Europe/Berlin:20240128T160000
DTEND;TZID=Europe/Berlin:20240128T180000
LOCATION:Městská sportovní hala Chodov\, Tyršova 1201 Chodov
SUMMARY:CP-U16Z-F1C: BVC Chodov-TJ Sokol Pardubice I.
END:VEVENT
BEGIN:VEVENT
UID:61653533-3732-4434-a134-396236313335
DTSTAMP:20260422T162912Z
DESCRIPTION:14/27 Nymburské BOMBY - Mikulova A 2:0 (11\,19)
DTSTART;TZID=Europe/Berlin:20240128T173000
DTEND;TZID=Europe/Berlin:20240128T193000
LOCATION:Bios\, V Kolonii 1804 Nymburk
SUMMARY:CP-U16Z-F1C: Nymburské BOMBY-Mikulova A
END:VEVENT
BEGIN:VEVENT
UID:33363966-3234-4835-b963-656137633865
DTSTAMP:20260422T162912Z
DESCRIPTION:14/28 SK Volejbal Ústí n.L. - TJ Sokol Pardubice I. 2:0 (23\,17
 )
DTSTART;TZID=Europe/Berlin:20240128T173000
DTEND;TZID=Europe/Berlin:20240128T193000
LOCATION:Základní škola Stříbrnická\, Stříbrnická 3031 Ústí nad Labem - Sev
 erní Terasa
SUMMARY:CP-U16Z-F1C: SK Volejbal Ústí n.L.-TJ Sokol Pardubice I.
END:VEVENT
END:VCALENDAR
