BEGIN:VCALENDAR
VERSION:2.0
PRODID:-//CP-U16Z-F1F//NONSGML kigkonsult.se iCalcreator 2.41.80//
CALSCALE:GREGORIAN
UID:39343031-3662-4931-b962-366235636337
BEGIN:VEVENT
UID:32353862-3935-4634-b031-343866663631
DTSTAMP:20260422T162851Z
DESCRIPTION:1/1 Volejbal Ústí n. L. - TJ Jičín 2:0 (21\,14)
DTSTART;TZID=Europe/Berlin:20240127T093000
DTEND;TZID=Europe/Berlin:20240127T113000
LOCATION:Tělocvična Gymnázia a Střední odborné školy dr. Václava Šmejkala\,
  Stará 3299 Ústí nad Labem - Severní Terasa
SUMMARY:CP-U16Z-F1F: Volejbal Ústí n. L.-TJ Jičín
END:VEVENT
BEGIN:VEVENT
UID:32343035-6661-4166-b462-626637636331
DTSTAMP:20260422T162851Z
DESCRIPTION:1/2 Střešovice - TJ Slovácká Slavia U. Hradiště 2:1 (24\,-15\,6
 )
DTSTART;TZID=Europe/Berlin:20240127T093000
DTEND;TZID=Europe/Berlin:20240127T113000
LOCATION:TJ Tatran Střešovice\, Sibeliova 368 Praha - Střešovice
SUMMARY:CP-U16Z-F1F: Střešovice-TJ Slovácká Slavia U. Hradiště
END:VEVENT
BEGIN:VEVENT
UID:65626239-3264-4462-a662-643131316464
DTSTAMP:20260422T162851Z
DESCRIPTION:1/3 TJ ABC Braník - TJ Jiskra Havlíčkův Brod 2:0 (18\,9)
DTSTART;TZID=Europe/Berlin:20240127T093000
DTEND;TZID=Europe/Berlin:20240127T113000
LOCATION:Sokolovna Braník\, Branická 275 Praha - Braník
SUMMARY:CP-U16Z-F1F: TJ ABC Braník-TJ Jiskra Havlíčkův Brod
END:VEVENT
BEGIN:VEVENT
UID:35396138-6461-4533-b332-643635663066
DTSTAMP:20260422T162851Z
DESCRIPTION:2/4 SK Španielka Řepy - Orel Letohrad 0:2 (-17\,-15)
DTSTART;TZID=Europe/Berlin:20240127T103000
DTEND;TZID=Europe/Berlin:20240127T123000
LOCATION:Tělocvična ZŠ\, Španielova 1111 Praha - Řepy
SUMMARY:CP-U16Z-F1F: SK Španielka Řepy-Orel Letohrad
END:VEVENT
BEGIN:VEVENT
UID:35613563-3135-4562-b539-653233366265
DTSTAMP:20260422T162851Z
DESCRIPTION:2/5 TJ Jičín - Střešovice 2:0 (22\,22)
DTSTART;TZID=Europe/Berlin:20240127T103000
DTEND;TZID=Europe/Berlin:20240127T123000
LOCATION:hala Masarykovy obchodní akademie\, 17. listopadu 220 Jičín - Vald
 ické Předměstí
SUMMARY:CP-U16Z-F1F: TJ Jičín-Střešovice
END:VEVENT
BEGIN:VEVENT
UID:62393363-6539-4536-a639-373436663033
DTSTAMP:20260422T162851Z
DESCRIPTION:2/6 TJ Jiskra Havlíčkův Brod - Volejbal Ústí n. L. 0:2 (-18\,-2
 1)
DTSTART;TZID=Europe/Berlin:20240127T103000
DTEND;TZID=Europe/Berlin:20240127T123000
LOCATION:Sportovní hala TJ Jiskra\, Ledečská 3028 Havlíčkův Brod
SUMMARY:CP-U16Z-F1F: TJ Jiskra Havlíčkův Brod-Volejbal Ústí n. L.
END:VEVENT
BEGIN:VEVENT
UID:63663764-6236-4632-b936-626538346233
DTSTAMP:20260422T162851Z
DESCRIPTION:3/7 TJ Slovácká Slavia U. Hradiště - SK Španielka Řepy 1:2 (-17
 \,23\,-11)
DTSTART;TZID=Europe/Berlin:20240127T113000
DTEND;TZID=Europe/Berlin:20240127T133000
LOCATION:Městská sportovní hala\, Stonky 860 Uherské Hradiště
SUMMARY:CP-U16Z-F1F: TJ Slovácká Slavia U. Hradiště-SK Španielka Řepy
END:VEVENT
BEGIN:VEVENT
UID:62313435-6664-4631-a437-343862306135
DTSTAMP:20260422T162851Z
DESCRIPTION:3/8 Orel Letohrad - TJ ABC Braník 2:1 (13\,-16\,14)
DTSTART;TZID=Europe/Berlin:20240127T113000
DTEND;TZID=Europe/Berlin:20240127T133000
LOCATION:TJ Spartak Letohrad\, Jilemnického 341 Letohrad
SUMMARY:CP-U16Z-F1F: Orel Letohrad-TJ ABC Braník
END:VEVENT
BEGIN:VEVENT
UID:36373031-3836-4733-a463-333337666461
DTSTAMP:20260422T162851Z
DESCRIPTION:3/9 TJ Jiskra Havlíčkův Brod - TJ Jičín 0:2 (-17\,-22)
DTSTART;TZID=Europe/Berlin:20240127T113000
DTEND;TZID=Europe/Berlin:20240127T133000
LOCATION:Sportovní hala TJ Jiskra\, Ledečská 3028 Havlíčkův Brod
SUMMARY:CP-U16Z-F1F: TJ Jiskra Havlíčkův Brod-TJ Jičín
END:VEVENT
BEGIN:VEVENT
UID:34336138-3232-4566-b661-373164643931
DTSTAMP:20260422T162851Z
DESCRIPTION:4/10 SK Španielka Řepy - Střešovice 2:0 (8\,15)
DTSTART;TZID=Europe/Berlin:20240127T130000
DTEND;TZID=Europe/Berlin:20240127T150000
LOCATION:Tělocvična ZŠ\, Španielova 1111 Praha - Řepy
SUMMARY:CP-U16Z-F1F: SK Španielka Řepy-Střešovice
END:VEVENT
BEGIN:VEVENT
UID:63636133-3666-4565-a664-383961386335
DTSTAMP:20260422T162851Z
DESCRIPTION:4/11 Volejbal Ústí n. L. - Orel Letohrad 2:0 (20\,13)
DTSTART;TZID=Europe/Berlin:20240127T130000
DTEND;TZID=Europe/Berlin:20240127T150000
LOCATION:Tělocvična Gymnázia a Střední odborné školy dr. Václava Šmejkala\,
  Stará 3299 Ústí nad Labem - Severní Terasa
SUMMARY:CP-U16Z-F1F: Volejbal Ústí n. L.-Orel Letohrad
END:VEVENT
BEGIN:VEVENT
UID:39633733-6332-4738-b139-376432323636
DTSTAMP:20260422T162851Z
DESCRIPTION:4/12 TJ ABC Braník - TJ Slovácká Slavia U. Hradiště 2:0 (22\,21
 )
DTSTART;TZID=Europe/Berlin:20240127T130000
DTEND;TZID=Europe/Berlin:20240127T150000
LOCATION:Sokolovna Braník\, Branická 275 Praha - Braník
SUMMARY:CP-U16Z-F1F: TJ ABC Braník-TJ Slovácká Slavia U. Hradiště
END:VEVENT
BEGIN:VEVENT
UID:61323263-3536-4164-a634-313064363833
DTSTAMP:20260422T162851Z
DESCRIPTION:5/13 TJ Jičín - SK Španielka Řepy 0:2 (-17\,-16)
DTSTART;TZID=Europe/Berlin:20240127T140000
DTEND;TZID=Europe/Berlin:20240127T160000
LOCATION:hala Masarykovy obchodní akademie\, 17. listopadu 220 Jičín - Vald
 ické Předměstí
SUMMARY:CP-U16Z-F1F: TJ Jičín-SK Španielka Řepy
END:VEVENT
BEGIN:VEVENT
UID:30316461-3264-4735-a261-313533623134
DTSTAMP:20260422T162851Z
DESCRIPTION:5/14 Orel Letohrad - TJ Jiskra Havlíčkův Brod 1:2 (-25\,16\,-13
 )
DTSTART;TZID=Europe/Berlin:20240127T140000
DTEND;TZID=Europe/Berlin:20240127T160000
LOCATION:TJ Spartak Letohrad\, Jilemnického 341 Letohrad
SUMMARY:CP-U16Z-F1F: Orel Letohrad-TJ Jiskra Havlíčkův Brod
END:VEVENT
BEGIN:VEVENT
UID:39376462-3338-4465-a633-616261646432
DTSTAMP:20260422T162851Z
DESCRIPTION:5/15 Střešovice - TJ ABC Braník 2:0 (21\,14)
DTSTART;TZID=Europe/Berlin:20240127T140000
DTEND;TZID=Europe/Berlin:20240127T160000
LOCATION:TJ Tatran Střešovice\, Sibeliova 368 Praha - Střešovice
SUMMARY:CP-U16Z-F1F: Střešovice-TJ ABC Braník
END:VEVENT
BEGIN:VEVENT
UID:35353066-6461-4263-b333-656536623931
DTSTAMP:20260422T162851Z
DESCRIPTION:6/16 TJ Slovácká Slavia U. Hradiště - Volejbal Ústí n. L. 0:2 (
 -15\,-23)
DTSTART;TZID=Europe/Berlin:20240127T150000
DTEND;TZID=Europe/Berlin:20240127T170000
LOCATION:Městská sportovní hala\, Stonky 860 Uherské Hradiště
SUMMARY:CP-U16Z-F1F: TJ Slovácká Slavia U. Hradiště-Volejbal Ústí n. L.
END:VEVENT
BEGIN:VEVENT
UID:33623930-3730-4734-a661-653863623334
DTSTAMP:20260422T162851Z
DESCRIPTION:6/17 Orel Letohrad - TJ Jičín 2:0 (20\,14)
DTSTART;TZID=Europe/Berlin:20240127T150000
DTEND;TZID=Europe/Berlin:20240127T170000
LOCATION:TJ Spartak Letohrad\, Jilemnického 341 Letohrad
SUMMARY:CP-U16Z-F1F: Orel Letohrad-TJ Jičín
END:VEVENT
BEGIN:VEVENT
UID:33356565-3038-4932-a661-336537663962
DTSTAMP:20260422T162851Z
DESCRIPTION:6/18 TJ ABC Braník - SK Španielka Řepy 2:0 (21\,19)
DTSTART;TZID=Europe/Berlin:20240127T150000
DTEND;TZID=Europe/Berlin:20240127T170000
LOCATION:Sokolovna Braník\, Branická 275 Praha - Braník
SUMMARY:CP-U16Z-F1F: TJ ABC Braník-SK Španielka Řepy
END:VEVENT
BEGIN:VEVENT
UID:35366532-3762-4965-b836-383430303635
DTSTAMP:20260422T162851Z
DESCRIPTION:7/19 TJ Jiskra Havlíčkův Brod - TJ Slovácká Slavia U. Hradiště 
 2:1 (16\,-13\,15)
DTSTART;TZID=Europe/Berlin:20240128T090000
DTEND;TZID=Europe/Berlin:20240128T110000
LOCATION:Sportovní hala TJ Jiskra\, Ledečská 3028 Havlíčkův Brod
SUMMARY:CP-U16Z-F1F: TJ Jiskra Havlíčkův Brod-TJ Slovácká Slavia U. Hradišt
 ě
END:VEVENT
BEGIN:VEVENT
UID:36346632-3239-4665-b734-353566643164
DTSTAMP:20260422T162851Z
DESCRIPTION:7/20 Volejbal Ústí n. L. - Střešovice 2:0 (21\,15)
DTSTART;TZID=Europe/Berlin:20240128T090000
DTEND;TZID=Europe/Berlin:20240128T110000
LOCATION:Tělocvična Gymnázia a Střední odborné školy dr. Václava Šmejkala\,
  Stará 3299 Ústí nad Labem - Severní Terasa
SUMMARY:CP-U16Z-F1F: Volejbal Ústí n. L.-Střešovice
END:VEVENT
BEGIN:VEVENT
UID:64346266-3536-4438-b837-306533393430
DTSTAMP:20260422T162851Z
DESCRIPTION:7/21 TJ Jičín - TJ ABC Braník 2:1 (24\,-15\,12)
DTSTART;TZID=Europe/Berlin:20240128T090000
DTEND;TZID=Europe/Berlin:20240128T110000
LOCATION:hala Masarykovy obchodní akademie\, 17. listopadu 220 Jičín - Vald
 ické Předměstí
SUMMARY:CP-U16Z-F1F: TJ Jičín-TJ ABC Braník
END:VEVENT
BEGIN:VEVENT
UID:30336235-3738-4236-b963-663062643733
DTSTAMP:20260422T162851Z
DESCRIPTION:8/22 TJ Slovácká Slavia U. Hradiště - Orel Letohrad 0:2 (-18\,-
 24)
DTSTART;TZID=Europe/Berlin:20240128T100000
DTEND;TZID=Europe/Berlin:20240128T120000
LOCATION:Městská sportovní hala\, Stonky 860 Uherské Hradiště
SUMMARY:CP-U16Z-F1F: TJ Slovácká Slavia U. Hradiště-Orel Letohrad
END:VEVENT
BEGIN:VEVENT
UID:32346335-6562-4464-b861-613363366237
DTSTAMP:20260422T162851Z
DESCRIPTION:8/23 SK Španielka Řepy - Volejbal Ústí n. L. 2:0 (24\,21)
DTSTART;TZID=Europe/Berlin:20240128T100000
DTEND;TZID=Europe/Berlin:20240128T120000
LOCATION:Tělocvična ZŠ\, Španielova 1111 Praha - Řepy
SUMMARY:CP-U16Z-F1F: SK Španielka Řepy-Volejbal Ústí n. L.
END:VEVENT
BEGIN:VEVENT
UID:65373164-6464-4530-a164-616132333439
DTSTAMP:20260422T162851Z
DESCRIPTION:8/24 Střešovice - TJ Jiskra Havlíčkův Brod 2:0 (17\,20)
DTSTART;TZID=Europe/Berlin:20240128T100000
DTEND;TZID=Europe/Berlin:20240128T120000
LOCATION:TJ Tatran Střešovice\, Sibeliova 368 Praha - Střešovice
SUMMARY:CP-U16Z-F1F: Střešovice-TJ Jiskra Havlíčkův Brod
END:VEVENT
BEGIN:VEVENT
UID:32303236-3565-4038-b265-356335636636
DTSTAMP:20260422T162851Z
DESCRIPTION:9/25 TJ Slovácká Slavia U. Hradiště - TJ Jičín 1:2 (-22\,19\,-1
 7)
DTSTART;TZID=Europe/Berlin:20240128T110000
DTEND;TZID=Europe/Berlin:20240128T130000
LOCATION:Městská sportovní hala\, Stonky 860 Uherské Hradiště
SUMMARY:CP-U16Z-F1F: TJ Slovácká Slavia U. Hradiště-TJ Jičín
END:VEVENT
BEGIN:VEVENT
UID:35373966-6464-4137-a530-393764366566
DTSTAMP:20260422T162851Z
DESCRIPTION:9/26 Volejbal Ústí n. L. - TJ ABC Braník 2:0 (23\,19)
DTSTART;TZID=Europe/Berlin:20240128T110000
DTEND;TZID=Europe/Berlin:20240128T130000
LOCATION:Tělocvična Gymnázia a Střední odborné školy dr. Václava Šmejkala\,
  Stará 3299 Ústí nad Labem - Severní Terasa
SUMMARY:CP-U16Z-F1F: Volejbal Ústí n. L.-TJ ABC Braník
END:VEVENT
BEGIN:VEVENT
UID:35663364-6237-4964-a230-383561373661
DTSTAMP:20260422T162851Z
DESCRIPTION:9/27 Orel Letohrad - Střešovice 2:0 (16\,16)
DTSTART;TZID=Europe/Berlin:20240128T110000
DTEND;TZID=Europe/Berlin:20240128T130000
LOCATION:TJ Spartak Letohrad\, Jilemnického 341 Letohrad
SUMMARY:CP-U16Z-F1F: Orel Letohrad-Střešovice
END:VEVENT
BEGIN:VEVENT
UID:66383463-6230-4662-a233-653363613431
DTSTAMP:20260422T162851Z
DESCRIPTION:10/28 TJ Jiskra Havlíčkův Brod - SK Španielka Řepy 0:2 (-19\,-1
 3)
DTSTART;TZID=Europe/Berlin:20240128T120000
DTEND;TZID=Europe/Berlin:20240128T140000
LOCATION:Sportovní hala TJ Jiskra\, Ledečská 3028 Havlíčkův Brod
SUMMARY:CP-U16Z-F1F: TJ Jiskra Havlíčkův Brod-SK Španielka Řepy
END:VEVENT
END:VCALENDAR
