BEGIN:VCALENDAR
VERSION:2.0
PRODID:-//CP-U16Z-F1H//NONSGML kigkonsult.se iCalcreator 2.41.80//
CALSCALE:GREGORIAN
UID:65616333-3766-4336-b566-383561303366
BEGIN:VEVENT
UID:38643037-3465-4130-b966-613263376464
DTSTAMP:20260424T233610Z
DESCRIPTION:1/1 VO TJ Lanškroun B - Lokomotiva Fosfa Břeclav 0:2 (-10\,-23)
DTSTART;TZID=Europe/Berlin:20240127T090000
DTEND;TZID=Europe/Berlin:20240127T110000
LOCATION:SOŠ a SOU Lanškroun\, Sokolská 288 Lanškroun - Ostrovské Předměstí
SUMMARY:CP-U16Z-F1H: VO TJ Lanškroun B-Lokomotiva Fosfa Břeclav
END:VEVENT
BEGIN:VEVENT
UID:38656532-3661-4166-b663-343238623136
DTSTAMP:20260424T233610Z
DESCRIPTION:1/2 Volejbal Vyškov D - SK Ještědská Liberec 2:1 (-23\,17\,7)
DTSTART;TZID=Europe/Berlin:20240127T090000
DTEND;TZID=Europe/Berlin:20240127T110000
LOCATION:Tělocvična ZŠ Nádražní\, Nádražní 5 Vyškov - Vyškov-Město
SUMMARY:CP-U16Z-F1H: Volejbal Vyškov D-SK Ještědská Liberec
END:VEVENT
BEGIN:VEVENT
UID:30313537-6665-4135-b337-363833653137
DTSTAMP:20260424T233610Z
DESCRIPTION:2/3 VK Karlovy Vary B - VK Madeta 2:0 (16\,20)
DTSTART;TZID=Europe/Berlin:20240127T101500
DTEND;TZID=Europe/Berlin:20240127T121500
LOCATION:Mattoni Arena Hala míčových sportů\, Západní 1812 Karlovy Vary
SUMMARY:CP-U16Z-F1H: VK Karlovy Vary B-VK Madeta
END:VEVENT
BEGIN:VEVENT
UID:66316166-3665-4436-b833-386239363636
DTSTAMP:20260424T233610Z
DESCRIPTION:2/4 SC SPIRIT Říčany - Sokol Pouchov 0:2 (-15\,-21)
DTSTART;TZID=Europe/Berlin:20240127T101500
DTEND;TZID=Europe/Berlin:20240127T121500
LOCATION:Sportovní hala Světice\, U Hřiště 151 Světice
SUMMARY:CP-U16Z-F1H: SC SPIRIT Říčany-Sokol Pouchov
END:VEVENT
BEGIN:VEVENT
UID:65663963-6563-4430-b064-353438343462
DTSTAMP:20260424T233610Z
DESCRIPTION:3/5 Sokol Pouchov - VO TJ Lanškroun B 0:2 (-23\,-20)
DTSTART;TZID=Europe/Berlin:20240127T113000
DTEND;TZID=Europe/Berlin:20240127T133000
LOCATION:Hala Pouchov\, K Sokolovně 544 Hradec Králové - Pouchov
SUMMARY:CP-U16Z-F1H: Sokol Pouchov-VO TJ Lanškroun B
END:VEVENT
BEGIN:VEVENT
UID:37386338-3230-4635-b361-396537653464
DTSTAMP:20260424T233610Z
DESCRIPTION:3/6 Volejbal Vyškov D - VK Karlovy Vary B 2:0 (18\,14)
DTSTART;TZID=Europe/Berlin:20240127T113000
DTEND;TZID=Europe/Berlin:20240127T133000
LOCATION:Tělocvična ZŠ Nádražní\, Nádražní 5 Vyškov - Vyškov-Město
SUMMARY:CP-U16Z-F1H: Volejbal Vyškov D-VK Karlovy Vary B
END:VEVENT
BEGIN:VEVENT
UID:36646634-3634-4733-b161-353562643337
DTSTAMP:20260424T233610Z
DESCRIPTION:4/7 SK Ještědská Liberec - Lokomotiva Fosfa Břeclav 2:0 (18\,18
 )
DTSTART;TZID=Europe/Berlin:20240127T124500
DTEND;TZID=Europe/Berlin:20240127T144500
LOCATION:ZŠ Ještědská\, Ještědská 354 Liberec - Liberec VIII-Dolní Hanychov
SUMMARY:CP-U16Z-F1H: SK Ještědská Liberec-Lokomotiva Fosfa Břeclav
END:VEVENT
BEGIN:VEVENT
UID:32306564-3230-4535-b730-663337653136
DTSTAMP:20260424T233610Z
DESCRIPTION:4/8 VK Madeta - SC SPIRIT Říčany 2:1 (-16\,24\,6)
DTSTART;TZID=Europe/Berlin:20240127T124500
DTEND;TZID=Europe/Berlin:20240127T144500
LOCATION:Sportovní hala\, Stromovka 1216 České Budějovice - České Budějovic
 e 2
SUMMARY:CP-U16Z-F1H: VK Madeta-SC SPIRIT Říčany
END:VEVENT
BEGIN:VEVENT
UID:66346365-3832-4637-b731-306562366338
DTSTAMP:20260424T233610Z
DESCRIPTION:5/9 VO TJ Lanškroun B - SK Ještědská Liberec 0:2 (-21\,-20)
DTSTART;TZID=Europe/Berlin:20240127T140000
DTEND;TZID=Europe/Berlin:20240127T160000
LOCATION:SOŠ a SOU Lanškroun\, Sokolská 288 Lanškroun - Ostrovské Předměstí
SUMMARY:CP-U16Z-F1H: VO TJ Lanškroun B-SK Ještědská Liberec
END:VEVENT
BEGIN:VEVENT
UID:34613634-3232-4031-a133-626532383162
DTSTAMP:20260424T233610Z
DESCRIPTION:5/10 Sokol Pouchov - VK Madeta 1:2 (-26\,17\,-13)
DTSTART;TZID=Europe/Berlin:20240127T140000
DTEND;TZID=Europe/Berlin:20240127T160000
LOCATION:Hala Pouchov\, K Sokolovně 544 Hradec Králové - Pouchov
SUMMARY:CP-U16Z-F1H: Sokol Pouchov-VK Madeta
END:VEVENT
BEGIN:VEVENT
UID:66633961-3866-4365-b433-373830373632
DTSTAMP:20260424T233610Z
DESCRIPTION:6/11 VK Karlovy Vary B - Lokomotiva Fosfa Břeclav 2:1 (13\,-19\
 ,14)
DTSTART;TZID=Europe/Berlin:20240127T151500
DTEND;TZID=Europe/Berlin:20240127T171500
LOCATION:Mattoni Arena Hala míčových sportů\, Západní 1812 Karlovy Vary
SUMMARY:CP-U16Z-F1H: VK Karlovy Vary B-Lokomotiva Fosfa Břeclav
END:VEVENT
BEGIN:VEVENT
UID:30636266-6239-4436-b066-633663303666
DTSTAMP:20260424T233610Z
DESCRIPTION:6/12 SC SPIRIT Říčany - Volejbal Vyškov D 1:2 (-12\,23\,-13)
DTSTART;TZID=Europe/Berlin:20240127T151500
DTEND;TZID=Europe/Berlin:20240127T171500
LOCATION:Sportovní hala Světice\, U Hřiště 151 Světice
SUMMARY:CP-U16Z-F1H: SC SPIRIT Říčany-Volejbal Vyškov D
END:VEVENT
BEGIN:VEVENT
UID:35303465-6530-4261-b830-363534353039
DTSTAMP:20260424T233610Z
DESCRIPTION:7/13 Lokomotiva Fosfa Břeclav - SC SPIRIT Říčany 2:0 (19\,17)
DTSTART;TZID=Europe/Berlin:20240127T163000
DTEND;TZID=Europe/Berlin:20240127T183000
LOCATION:TJ Lokomotiva Břeclav\, Veslařská 2753 Břeclav
SUMMARY:CP-U16Z-F1H: Lokomotiva Fosfa Břeclav-SC SPIRIT Říčany
END:VEVENT
BEGIN:VEVENT
UID:39663632-3636-4234-a330-613736393239
DTSTAMP:20260424T233610Z
DESCRIPTION:7/14 SK Ještědská Liberec - VK Karlovy Vary B 2:0 (7\,23)
DTSTART;TZID=Europe/Berlin:20240127T163000
DTEND;TZID=Europe/Berlin:20240127T183000
LOCATION:ZŠ Ještědská\, Ještědská 354 Liberec - Liberec VIII-Dolní Hanychov
SUMMARY:CP-U16Z-F1H: SK Ještědská Liberec-VK Karlovy Vary B
END:VEVENT
BEGIN:VEVENT
UID:32623037-6636-4334-b130-333930626232
DTSTAMP:20260424T233610Z
DESCRIPTION:8/15 VK Madeta - VO TJ Lanškroun B 2:0 (11\,9)
DTSTART;TZID=Europe/Berlin:20240127T174500
DTEND;TZID=Europe/Berlin:20240127T194500
LOCATION:Sportovní hala\, Stromovka 1216 České Budějovice - České Budějovic
 e 2
SUMMARY:CP-U16Z-F1H: VK Madeta-VO TJ Lanškroun B
END:VEVENT
BEGIN:VEVENT
UID:65663236-6561-4538-b765-333536343236
DTSTAMP:20260424T233610Z
DESCRIPTION:8/16 Volejbal Vyškov D - Sokol Pouchov 2:1 (17\,-17\,17)
DTSTART;TZID=Europe/Berlin:20240127T174500
DTEND;TZID=Europe/Berlin:20240127T194500
LOCATION:Tělocvična ZŠ Nádražní\, Nádražní 5 Vyškov - Vyškov-Město
SUMMARY:CP-U16Z-F1H: Volejbal Vyškov D-Sokol Pouchov
END:VEVENT
BEGIN:VEVENT
UID:64303261-3065-4464-b738-633565613239
DTSTAMP:20260424T233610Z
DESCRIPTION:9/17 VK Madeta - Volejbal Vyškov D 2:0 (23\,13)
DTSTART;TZID=Europe/Berlin:20240127T190000
DTEND;TZID=Europe/Berlin:20240127T210000
LOCATION:Sportovní hala\, Stromovka 1216 České Budějovice - České Budějovic
 e 2
SUMMARY:CP-U16Z-F1H: VK Madeta-Volejbal Vyškov D
END:VEVENT
BEGIN:VEVENT
UID:38323736-3334-4938-b536-653134633535
DTSTAMP:20260424T233610Z
DESCRIPTION:9/18 SC SPIRIT Říčany - SK Ještědská Liberec 0:2 (-22\,-10)
DTSTART;TZID=Europe/Berlin:20240127T190000
DTEND;TZID=Europe/Berlin:20240127T210000
LOCATION:Sportovní hala Světice\, U Hřiště 151 Světice
SUMMARY:CP-U16Z-F1H: SC SPIRIT Říčany-SK Ještědská Liberec
END:VEVENT
BEGIN:VEVENT
UID:31386331-3166-4635-b534-343738626335
DTSTAMP:20260424T233610Z
DESCRIPTION:10/19 Sokol Pouchov - Lokomotiva Fosfa Břeclav 0:2 (-18\,-26)
DTSTART;TZID=Europe/Berlin:20240128T090000
DTEND;TZID=Europe/Berlin:20240128T110000
LOCATION:Hala Pouchov\, K Sokolovně 544 Hradec Králové - Pouchov
SUMMARY:CP-U16Z-F1H: Sokol Pouchov-Lokomotiva Fosfa Břeclav
END:VEVENT
BEGIN:VEVENT
UID:62333536-6561-4163-b837-303261613632
DTSTAMP:20260424T233610Z
DESCRIPTION:10/20 VK Karlovy Vary B - VO TJ Lanškroun B 2:0 (18\,21)
DTSTART;TZID=Europe/Berlin:20240128T090000
DTEND;TZID=Europe/Berlin:20240128T110000
LOCATION:Mattoni Arena Hala míčových sportů\, Západní 1812 Karlovy Vary
SUMMARY:CP-U16Z-F1H: VK Karlovy Vary B-VO TJ Lanškroun B
END:VEVENT
BEGIN:VEVENT
UID:34353434-3461-4864-a466-316564626364
DTSTAMP:20260424T233610Z
DESCRIPTION:11/21 SK Ještědská Liberec - Sokol Pouchov 2:0 (13\,15)
DTSTART;TZID=Europe/Berlin:20240128T101500
DTEND;TZID=Europe/Berlin:20240128T121500
LOCATION:ZŠ Ještědská\, Ještědská 354 Liberec - Liberec VIII-Dolní Hanychov
SUMMARY:CP-U16Z-F1H: SK Ještědská Liberec-Sokol Pouchov
END:VEVENT
BEGIN:VEVENT
UID:62363436-3963-4432-b066-613234346438
DTSTAMP:20260424T233610Z
DESCRIPTION:11/22 VK Karlovy Vary B - SC SPIRIT Říčany 2:0 (21\,18)
DTSTART;TZID=Europe/Berlin:20240128T101500
DTEND;TZID=Europe/Berlin:20240128T121500
LOCATION:Mattoni Arena Hala míčových sportů\, Západní 1812 Karlovy Vary
SUMMARY:CP-U16Z-F1H: VK Karlovy Vary B-SC SPIRIT Říčany
END:VEVENT
BEGIN:VEVENT
UID:61346562-3465-4362-b464-383436323864
DTSTAMP:20260424T233610Z
DESCRIPTION:12/23 VO TJ Lanškroun B - Volejbal Vyškov D 0:2 (-22\,-19)
DTSTART;TZID=Europe/Berlin:20240128T113000
DTEND;TZID=Europe/Berlin:20240128T133000
LOCATION:SOŠ a SOU Lanškroun\, Sokolská 288 Lanškroun - Ostrovské Předměstí
SUMMARY:CP-U16Z-F1H: VO TJ Lanškroun B-Volejbal Vyškov D
END:VEVENT
BEGIN:VEVENT
UID:32313433-3465-4331-a637-396534316336
DTSTAMP:20260424T233610Z
DESCRIPTION:12/24 Lokomotiva Fosfa Břeclav - VK Madeta 0:2 (-22\,-24)
DTSTART;TZID=Europe/Berlin:20240128T113000
DTEND;TZID=Europe/Berlin:20240128T133000
LOCATION:TJ Lokomotiva Břeclav\, Veslařská 2753 Břeclav
SUMMARY:CP-U16Z-F1H: Lokomotiva Fosfa Břeclav-VK Madeta
END:VEVENT
BEGIN:VEVENT
UID:30346164-3464-4439-a531-643361376162
DTSTAMP:20260424T233610Z
DESCRIPTION:13/25 Sokol Pouchov - VK Karlovy Vary B 2:1 (23\,-23\,6)
DTSTART;TZID=Europe/Berlin:20240128T124500
DTEND;TZID=Europe/Berlin:20240128T144500
LOCATION:Hala Pouchov\, K Sokolovně 544 Hradec Králové - Pouchov
SUMMARY:CP-U16Z-F1H: Sokol Pouchov-VK Karlovy Vary B
END:VEVENT
BEGIN:VEVENT
UID:39383538-3162-4636-b939-383262333036
DTSTAMP:20260424T233610Z
DESCRIPTION:13/26 VK Madeta - SK Ještědská Liberec 1:2 (14\,-19\,-7)
DTSTART;TZID=Europe/Berlin:20240128T124500
DTEND;TZID=Europe/Berlin:20240128T144500
LOCATION:Sportovní hala\, Stromovka 1216 České Budějovice - České Budějovic
 e 2
SUMMARY:CP-U16Z-F1H: VK Madeta-SK Ještědská Liberec
END:VEVENT
BEGIN:VEVENT
UID:31663537-3966-4665-b662-333062313630
DTSTAMP:20260424T233610Z
DESCRIPTION:14/27 SC SPIRIT Říčany - VO TJ Lanškroun B 2:0 (19\,21)
DTSTART;TZID=Europe/Berlin:20240128T140000
DTEND;TZID=Europe/Berlin:20240128T160000
LOCATION:Sportovní hala Světice\, U Hřiště 151 Světice
SUMMARY:CP-U16Z-F1H: SC SPIRIT Říčany-VO TJ Lanškroun B
END:VEVENT
BEGIN:VEVENT
UID:63663538-6638-4937-b864-343030313761
DTSTAMP:20260424T233610Z
DESCRIPTION:14/28 Volejbal Vyškov D - Lokomotiva Fosfa Břeclav 2:1 (-22\,11
 \,10)
DTSTART;TZID=Europe/Berlin:20240128T140000
DTEND;TZID=Europe/Berlin:20240128T160000
LOCATION:Tělocvična ZŠ Nádražní\, Nádražní 5 Vyškov - Vyškov-Město
SUMMARY:CP-U16Z-F1H: Volejbal Vyškov D-Lokomotiva Fosfa Břeclav
END:VEVENT
END:VCALENDAR
