BEGIN:VCALENDAR
VERSION:2.0
PRODID:-//CP-U16Z-F1I//NONSGML kigkonsult.se iCalcreator 2.41.80//
CALSCALE:GREGORIAN
UID:62313864-3935-4261-a534-613430613838
BEGIN:VEVENT
UID:33383263-6630-4934-a534-613261323532
DTSTAMP:20260422T093654Z
DESCRIPTION:1/1 Loko Plzeň   B - Volejbal Přerov 0:2 (-16\,-12)\nŠtěpán Pet
 rík
DTSTART;TZID=Europe/Berlin:20240127T090000
DTEND;TZID=Europe/Berlin:20240127T110000
LOCATION:Městská sportovní hala  -  hala 2\, Úslavská 2357 Plzeň - Východní
  Předměstí
SUMMARY:CP-U16Z-F1I: Loko Plzeň   B-Volejbal Přerov
END:VEVENT
BEGIN:VEVENT
UID:64366134-6466-4161-a438-333466373464
DTSTAMP:20260422T093654Z
DESCRIPTION:1/2 TJ Žďár nad Sázavou - Volejbal Vyškov C 2:1 (20\,-20\,11)\n
 František Lešek
DTSTART;TZID=Europe/Berlin:20240127T090000
DTEND;TZID=Europe/Berlin:20240127T110000
LOCATION:ZŠ Palachova\, Palachova 1757 Žďár nad Sázavou - Žďár nad Sázavou 
 6
SUMMARY:CP-U16Z-F1I: TJ Žďár nad Sázavou-Volejbal Vyškov C
END:VEVENT
BEGIN:VEVENT
UID:33393332-3031-4631-b266-643862666462
DTSTAMP:20260422T093654Z
DESCRIPTION:2/3 VSK Baník Sokolov - Mikulova C 2:0 (25\,16)\nŠtěpán Petrík
DTSTART;TZID=Europe/Berlin:20240127T102000
DTEND;TZID=Europe/Berlin:20240127T122000
LOCATION:Jiskra\, Maxima Gorkého 280 Sokolov
SUMMARY:CP-U16Z-F1I: VSK Baník Sokolov-Mikulova C
END:VEVENT
BEGIN:VEVENT
UID:39396535-3164-4330-b233-643464323761
DTSTAMP:20260422T093654Z
DESCRIPTION:2/4 Škola volejbalu - TJ Žďár nad Sázavou 2:0 (17\,15)\nJarosla
 v Paulík
DTSTART;TZID=Europe/Berlin:20240127T102000
DTEND;TZID=Europe/Berlin:20240127T122000
LOCATION:Sportovní hala Hrdějovice\,  Hrdějovice597
SUMMARY:CP-U16Z-F1I: Škola volejbalu-TJ Žďár nad Sázavou
END:VEVENT
BEGIN:VEVENT
UID:34623438-6435-4334-a535-373739393463
DTSTAMP:20260422T093654Z
DESCRIPTION:3/5 Loko Plzeň   B - Volejbal Vyškov C 2:0 (14\,6)\nFrantišek L
 ešek
DTSTART;TZID=Europe/Berlin:20240127T114000
DTEND;TZID=Europe/Berlin:20240127T134000
LOCATION:Městská sportovní hala  -  hala 2\, Úslavská 2357 Plzeň - Východní
  Předměstí
SUMMARY:CP-U16Z-F1I: Loko Plzeň   B-Volejbal Vyškov C
END:VEVENT
BEGIN:VEVENT
UID:66366132-6139-4663-b137-663165666439
DTSTAMP:20260422T093654Z
DESCRIPTION:3/6 Mikulova C - Volejbal Přerov 0:2 (-15\,-26)\nJaroslav Paulí
 k
DTSTART;TZID=Europe/Berlin:20240127T114000
DTEND;TZID=Europe/Berlin:20240127T134000
LOCATION:tělocvičny ZŠ Mikulova\, Mikulova 1594 Praha - Chodov
SUMMARY:CP-U16Z-F1I: Mikulova C-Volejbal Přerov
END:VEVENT
BEGIN:VEVENT
UID:36396262-6166-4165-a536-666266396536
DTSTAMP:20260422T093654Z
DESCRIPTION:4/7 Škola volejbalu - VSK Baník Sokolov 1:2 (22\,-20\,-16)\nFra
 ntišek Lešek
DTSTART;TZID=Europe/Berlin:20240127T130000
DTEND;TZID=Europe/Berlin:20240127T150000
LOCATION:Sportovní hala Hrdějovice\,  Hrdějovice597
SUMMARY:CP-U16Z-F1I: Škola volejbalu-VSK Baník Sokolov
END:VEVENT
BEGIN:VEVENT
UID:30643133-3466-4532-b832-356366333461
DTSTAMP:20260422T093654Z
DESCRIPTION:4/8 TJ Žďár nad Sázavou - Volejbal Přerov 0:2 (-15\,-29)\nŠtěpá
 n Petrík
DTSTART;TZID=Europe/Berlin:20240127T130000
DTEND;TZID=Europe/Berlin:20240127T150000
LOCATION:ZŠ Palachova\, Palachova 1757 Žďár nad Sázavou - Žďár nad Sázavou 
 6
SUMMARY:CP-U16Z-F1I: TJ Žďár nad Sázavou-Volejbal Přerov
END:VEVENT
BEGIN:VEVENT
UID:62343737-3561-4539-b666-316665363031
DTSTAMP:20260422T093654Z
DESCRIPTION:5/9 Loko Plzeň   B - Škola volejbalu 0:2 (-21\,-24)\nFrantišek 
 Lešek
DTSTART;TZID=Europe/Berlin:20240127T142000
DTEND;TZID=Europe/Berlin:20240127T162000
LOCATION:Městská sportovní hala  -  hala 2\, Úslavská 2357 Plzeň - Východní
  Předměstí
SUMMARY:CP-U16Z-F1I: Loko Plzeň   B-Škola volejbalu
END:VEVENT
BEGIN:VEVENT
UID:63393534-3766-4434-a163-363136383535
DTSTAMP:20260422T093654Z
DESCRIPTION:5/10 Mikulova C - Volejbal Vyškov C 2:1 (-16\,15\,11)\nŠtěpán P
 etrík
DTSTART;TZID=Europe/Berlin:20240127T142000
DTEND;TZID=Europe/Berlin:20240127T162000
LOCATION:tělocvičny ZŠ Mikulova\, Mikulova 1594 Praha - Chodov
SUMMARY:CP-U16Z-F1I: Mikulova C-Volejbal Vyškov C
END:VEVENT
BEGIN:VEVENT
UID:65303933-3066-4862-b334-616636346663
DTSTAMP:20260422T093654Z
DESCRIPTION:6/11 VSK Baník Sokolov - TJ Žďár nad Sázavou 2:0 (16\,22)\nJaro
 slav Paulík
DTSTART;TZID=Europe/Berlin:20240127T154000
DTEND;TZID=Europe/Berlin:20240127T174000
LOCATION:Jiskra\, Maxima Gorkého 280 Sokolov
SUMMARY:CP-U16Z-F1I: VSK Baník Sokolov-TJ Žďár nad Sázavou
END:VEVENT
BEGIN:VEVENT
UID:39383966-6133-4833-a232-323336346666
DTSTAMP:20260422T093654Z
DESCRIPTION:6/12 Volejbal Vyškov C - Volejbal Přerov 0:2 (-14\,-24)\nŠtěpán
  Petrík
DTSTART;TZID=Europe/Berlin:20240127T154000
DTEND;TZID=Europe/Berlin:20240127T174000
LOCATION:Tělocvična ZŠ Nádražní\, Nádražní 5 Vyškov - Vyškov-Město
SUMMARY:CP-U16Z-F1I: Volejbal Vyškov C-Volejbal Přerov
END:VEVENT
BEGIN:VEVENT
UID:30373238-3065-4961-b232-313037653930
DTSTAMP:20260422T093654Z
DESCRIPTION:7/13 Loko Plzeň   B - VSK Baník Sokolov 0:2 (-21\,-21)\nJarosla
 v Paulík
DTSTART;TZID=Europe/Berlin:20240127T170000
DTEND;TZID=Europe/Berlin:20240127T190000
LOCATION:Městská sportovní hala  -  hala 2\, Úslavská 2357 Plzeň - Východní
  Předměstí
SUMMARY:CP-U16Z-F1I: Loko Plzeň   B-VSK Baník Sokolov
END:VEVENT
BEGIN:VEVENT
UID:33353334-6136-4530-a465-346238666338
DTSTAMP:20260422T093654Z
DESCRIPTION:7/14 Škola volejbalu - Mikulova C 1:2 (-19\,11\,-9)\nFrantišek 
 Lešek
DTSTART;TZID=Europe/Berlin:20240127T170000
DTEND;TZID=Europe/Berlin:20240127T190000
LOCATION:Sportovní hala Hrdějovice\,  Hrdějovice597
SUMMARY:CP-U16Z-F1I: Škola volejbalu-Mikulova C
END:VEVENT
BEGIN:VEVENT
UID:63653039-3734-4066-b261-643633356535
DTSTAMP:20260422T093654Z
DESCRIPTION:8/15 Škola volejbalu - Volejbal Přerov 0:2 (-12\,-16)\nŠtěpánka
  Benešová
DTSTART;TZID=Europe/Berlin:20240128T090000
DTEND;TZID=Europe/Berlin:20240128T110000
LOCATION:Sportovní hala Hrdějovice\,  Hrdějovice597
SUMMARY:CP-U16Z-F1I: Škola volejbalu-Volejbal Přerov
END:VEVENT
BEGIN:VEVENT
UID:35323035-3530-4730-a664-633662656431
DTSTAMP:20260422T093654Z
DESCRIPTION:8/16 Volejbal Vyškov C - VSK Baník Sokolov 0:2 (-10\,-14)\nFran
 tišek Lešek
DTSTART;TZID=Europe/Berlin:20240128T090000
DTEND;TZID=Europe/Berlin:20240128T110000
LOCATION:Tělocvična ZŠ Nádražní\, Nádražní 5 Vyškov - Vyškov-Město
SUMMARY:CP-U16Z-F1I: Volejbal Vyškov C-VSK Baník Sokolov
END:VEVENT
BEGIN:VEVENT
UID:31316561-6466-4663-b433-623863356337
DTSTAMP:20260422T093654Z
DESCRIPTION:9/17 Loko Plzeň   B - TJ Žďár nad Sázavou 0:2 (-13\,-17)\nŠtěpá
 nka Benešová
DTSTART;TZID=Europe/Berlin:20240128T102000
DTEND;TZID=Europe/Berlin:20240128T122000
LOCATION:Městská sportovní hala  -  hala 2\, Úslavská 2357 Plzeň - Východní
  Předměstí
SUMMARY:CP-U16Z-F1I: Loko Plzeň   B-TJ Žďár nad Sázavou
END:VEVENT
BEGIN:VEVENT
UID:33383030-3234-4436-b933-373632346536
DTSTAMP:20260422T093654Z
DESCRIPTION:9/18 Volejbal Přerov - VSK Baník Sokolov 1:2 (-19\,16\,-9)\nFra
 ntišek Lešek
DTSTART;TZID=Europe/Berlin:20240128T102000
DTEND;TZID=Europe/Berlin:20240128T122000
LOCATION:Městská sportovní hala\, Petřivalského 2884 Přerov - Přerov I-Měst
 o
SUMMARY:CP-U16Z-F1I: Volejbal Přerov-VSK Baník Sokolov
END:VEVENT
BEGIN:VEVENT
UID:36666462-3130-4831-a533-363838303261
DTSTAMP:20260422T093654Z
DESCRIPTION:10/19 Škola volejbalu - Volejbal Vyškov C 2:0 (7\,14)\nŠtěpánka
  Benešová
DTSTART;TZID=Europe/Berlin:20240128T114000
DTEND;TZID=Europe/Berlin:20240128T134000
LOCATION:Sportovní hala Hrdějovice\,  Hrdějovice597
SUMMARY:CP-U16Z-F1I: Škola volejbalu-Volejbal Vyškov C
END:VEVENT
BEGIN:VEVENT
UID:39343334-3238-4035-b937-393733633232
DTSTAMP:20260422T093654Z
DESCRIPTION:10/20 TJ Žďár nad Sázavou - Mikulova C 1:2 (14\,-18\,-8)\nFrant
 išek Lešek
DTSTART;TZID=Europe/Berlin:20240128T114000
DTEND;TZID=Europe/Berlin:20240128T134000
LOCATION:ZŠ Palachova\, Palachova 1757 Žďár nad Sázavou - Žďár nad Sázavou 
 6
SUMMARY:CP-U16Z-F1I: TJ Žďár nad Sázavou-Mikulova C
END:VEVENT
BEGIN:VEVENT
UID:32363265-3737-4334-b436-633861333332
DTSTAMP:20260422T093654Z
DESCRIPTION:11/21 Loko Plzeň   B - Mikulova C 2:0 (10\,10)\nŠtěpánka Benešo
 vá
DTSTART;TZID=Europe/Berlin:20240128T130000
DTEND;TZID=Europe/Berlin:20240128T150000
LOCATION:Městská sportovní hala  -  hala 2\, Úslavská 2357 Plzeň - Východní
  Předměstí
SUMMARY:CP-U16Z-F1I: Loko Plzeň   B-Mikulova C
END:VEVENT
END:VCALENDAR
