BEGIN:VCALENDAR
VERSION:2.0
PRODID:-//ST-U16Z-S3A2//NONSGML kigkonsult.se iCalcreator 2.41.80//
CALSCALE:GREGORIAN
UID:31316462-3261-4265-b732-393864306431
BEGIN:VEVENT
UID:64373532-3462-4133-b236-353530386632
DTSTAMP:20260425T161737Z
DESCRIPTION:1/1 Kutná Hora - Kolín B 2:0 (19\,16)\nPořadatel: TJ Sparta Kut
 ná Hora
DTSTART;TZID=Europe/Berlin:20231126T084500
DTEND;TZID=Europe/Berlin:20231126T104500
LOCATION:Klimeška\, Čáslavská 274 Kutná Hora - Karlov
SUMMARY:ST-U16Z-S3A2: Kutná Hora-Kolín B
END:VEVENT
BEGIN:VEVENT
UID:30376134-3232-4536-a563-646131643961
DTSTAMP:20260425T161737Z
DESCRIPTION:1/2 Kostomlaty - Lysá nad Labem 2:0 (20\,15)\nPořadatel: 2 hřiš
 tě
DTSTART;TZID=Europe/Berlin:20231126T084500
DTEND;TZID=Europe/Berlin:20231126T104500
LOCATION:Bios\, Školní 402 Kostomlaty nad Labem
SUMMARY:ST-U16Z-S3A2: Kostomlaty-Lysá nad Labem
END:VEVENT
BEGIN:VEVENT
UID:33376136-3765-4038-b939-653033373838
DTSTAMP:20260425T161737Z
DESCRIPTION:1/3 Kutná Hora - VK Mladá Boleslav 2:0 (22\,21)
DTSTART;TZID=Europe/Berlin:20231126T094500
DTEND;TZID=Europe/Berlin:20231126T114500
LOCATION:Klimeška\, Čáslavská 274 Kutná Hora - Karlov
SUMMARY:ST-U16Z-S3A2: Kutná Hora-VK Mladá Boleslav
END:VEVENT
BEGIN:VEVENT
UID:61356239-3134-4361-b665-623635383065
DTSTAMP:20260425T161737Z
DESCRIPTION:1/4 Kostomlaty - Kolín B 2:0 (18\,14)
DTSTART;TZID=Europe/Berlin:20231126T094500
DTEND;TZID=Europe/Berlin:20231126T114500
LOCATION:Bios\, Školní 402 Kostomlaty nad Labem
SUMMARY:ST-U16Z-S3A2: Kostomlaty-Kolín B
END:VEVENT
BEGIN:VEVENT
UID:30316437-3766-4263-b930-643739356364
DTSTAMP:20260425T161737Z
DESCRIPTION:1/5 Kutná Hora - Lysá nad Labem 1:2 (-23\,14\,-12)
DTSTART;TZID=Europe/Berlin:20231126T104500
DTEND;TZID=Europe/Berlin:20231126T124500
LOCATION:Klimeška\, Čáslavská 274 Kutná Hora - Karlov
SUMMARY:ST-U16Z-S3A2: Kutná Hora-Lysá nad Labem
END:VEVENT
BEGIN:VEVENT
UID:39626165-3437-4464-b539-336561346432
DTSTAMP:20260425T161737Z
DESCRIPTION:1/6 Kostomlaty - VK Mladá Boleslav 2:0 (11\,22)
DTSTART;TZID=Europe/Berlin:20231126T104500
DTEND;TZID=Europe/Berlin:20231126T124500
LOCATION:Bios\, Školní 402 Kostomlaty nad Labem
SUMMARY:ST-U16Z-S3A2: Kostomlaty-VK Mladá Boleslav
END:VEVENT
BEGIN:VEVENT
UID:33643265-3263-4938-b265-356263626266
DTSTAMP:20260425T161737Z
DESCRIPTION:1/7 Brandýs nad Labem - Čelákovice 1:2 (23\,-14\,-13)\nPořadate
 l: TJ Sokol Brandýs nad Labem
DTSTART;TZID=Europe/Berlin:20231126T100000
DTEND;TZID=Europe/Berlin:20231126T120000
LOCATION:Sokolovna\, Zápská 329 Brandýs nad Labem-Stará Boleslav - Brandýs 
 nad Labem
SUMMARY:ST-U16Z-S3A2: Brandýs nad Labem-Čelákovice
END:VEVENT
BEGIN:VEVENT
UID:38373563-3533-4235-b634-383264373064
DTSTAMP:20260425T161737Z
DESCRIPTION:1/8 Kunice - Malibu Mladá Boleslav 2:0 (13\,16)\nPořadatel: 1 h
 řiště
DTSTART;TZID=Europe/Berlin:20231126T100000
DTEND;TZID=Europe/Berlin:20231126T120000
LOCATION:ZŠ Kunice\, Na Návsi 60 Kunice
SUMMARY:ST-U16Z-S3A2: Kunice-Malibu Mladá Boleslav
END:VEVENT
BEGIN:VEVENT
UID:65313830-3732-4264-b663-623162653738
DTSTAMP:20260425T161737Z
DESCRIPTION:1/9 Čelákovice - Kunice 2:0 (22\,18)
DTSTART;TZID=Europe/Berlin:20231126T100000
DTEND;TZID=Europe/Berlin:20231126T120000
LOCATION:Sportovní hala Vikomt\, U Učiliště 1683 Čelákovice
SUMMARY:ST-U16Z-S3A2: Čelákovice-Kunice
END:VEVENT
BEGIN:VEVENT
UID:66363536-6137-4232-b863-306133663735
DTSTAMP:20260425T161737Z
DESCRIPTION:1/10 Malibu Mladá Boleslav - Brandýs nad Labem 1:2 (-14\,24\,-1
 0)
DTSTART;TZID=Europe/Berlin:20231126T100000
DTEND;TZID=Europe/Berlin:20231126T120000
LOCATION:Multifunkční sportovní hala\, Luční 1326 Kosmonosy
SUMMARY:ST-U16Z-S3A2: Malibu Mladá Boleslav-Brandýs nad Labem
END:VEVENT
BEGIN:VEVENT
UID:64376330-3337-4331-b238-373931393066
DTSTAMP:20260425T161737Z
DESCRIPTION:1/11 Brandýs nad Labem - Kunice 1:2 (18\,-21\,-16)
DTSTART;TZID=Europe/Berlin:20231126T100000
DTEND;TZID=Europe/Berlin:20231126T120000
LOCATION:Sokolovna\, Zápská 329 Brandýs nad Labem-Stará Boleslav - Brandýs 
 nad Labem
SUMMARY:ST-U16Z-S3A2: Brandýs nad Labem-Kunice
END:VEVENT
BEGIN:VEVENT
UID:66303237-3233-4131-b338-383036333930
DTSTAMP:20260425T161737Z
DESCRIPTION:2/12 Lysá nad Labem - Brandýs nad Labem 2:0 (19\,17)\nPořadatel
 : TK Slovan Lysá nad Labem
DTSTART;TZID=Europe/Berlin:20231210T090000
DTEND;TZID=Europe/Berlin:20231210T110000
LOCATION:Tělocvična ZŠ J.A.Komenského\, Komenského 1534 Lysá nad Labem
SUMMARY:ST-U16Z-S3A2: Lysá nad Labem-Brandýs nad Labem
END:VEVENT
BEGIN:VEVENT
UID:30336464-6435-4536-b434-613165643461
DTSTAMP:20260425T161737Z
DESCRIPTION:2/13 VK Mladá Boleslav - Kunice 1:2 (-17\,26\,-8)\nPořadatel: 2
  hřiště
DTSTART;TZID=Europe/Berlin:20231210T090000
DTEND;TZID=Europe/Berlin:20231210T110000
LOCATION:Městská Sportovní hala\, U stadionu 1322 Mladá Boleslav - Mladá Bo
 leslav II
SUMMARY:ST-U16Z-S3A2: VK Mladá Boleslav-Kunice
END:VEVENT
BEGIN:VEVENT
UID:35333434-3966-4664-a664-626336613361
DTSTAMP:20260425T161737Z
DESCRIPTION:2/14 Kolín B - Brandýs nad Labem 2:0 (18\,18)
DTSTART;TZID=Europe/Berlin:20231210T100000
DTEND;TZID=Europe/Berlin:20231210T120000
LOCATION:hala STAV\, SOŠ Kolín\, Brankovická 1417 Kolín - Kolín V
SUMMARY:ST-U16Z-S3A2: Kolín B-Brandýs nad Labem
END:VEVENT
BEGIN:VEVENT
UID:39643638-3865-4535-a434-383832393236
DTSTAMP:20260425T161737Z
DESCRIPTION:2/15 Lysá nad Labem - Kunice 2:0 (8\,14)
DTSTART;TZID=Europe/Berlin:20231210T100000
DTEND;TZID=Europe/Berlin:20231210T120000
LOCATION:Tělocvična ZŠ J.A.Komenského\, Komenského 1534 Lysá nad Labem
SUMMARY:ST-U16Z-S3A2: Lysá nad Labem-Kunice
END:VEVENT
BEGIN:VEVENT
UID:37656265-3163-4135-b133-303163623864
DTSTAMP:20260425T161737Z
DESCRIPTION:2/16 VK Mladá Boleslav - Brandýs nad Labem 0:2 (-20\,-23)
DTSTART;TZID=Europe/Berlin:20231210T100000
DTEND;TZID=Europe/Berlin:20231210T120000
LOCATION:Městská Sportovní hala\, U stadionu 1322 Mladá Boleslav - Mladá Bo
 leslav II
SUMMARY:ST-U16Z-S3A2: VK Mladá Boleslav-Brandýs nad Labem
END:VEVENT
BEGIN:VEVENT
UID:61663265-6238-4165-a535-666237346232
DTSTAMP:20260425T161737Z
DESCRIPTION:2/17 Kolín B - Kunice 1:2 (15\,-12\,-3)
DTSTART;TZID=Europe/Berlin:20231210T100000
DTEND;TZID=Europe/Berlin:20231210T120000
LOCATION:hala STAV\, SOŠ Kolín\, Brankovická 1417 Kolín - Kolín V
SUMMARY:ST-U16Z-S3A2: Kolín B-Kunice
END:VEVENT
BEGIN:VEVENT
UID:37376539-6234-4639-b162-346564376638
DTSTAMP:20260425T161737Z
DESCRIPTION:2/18 Lysá nad Labem - VK Mladá Boleslav 2:0 (18\,16)
DTSTART;TZID=Europe/Berlin:20231210T100000
DTEND;TZID=Europe/Berlin:20231210T120000
LOCATION:Tělocvična ZŠ J.A.Komenského\, Komenského 1534 Lysá nad Labem
SUMMARY:ST-U16Z-S3A2: Lysá nad Labem-VK Mladá Boleslav
END:VEVENT
BEGIN:VEVENT
UID:38663663-6562-4336-b866-353965613036
DTSTAMP:20260425T161737Z
DESCRIPTION:2/19 Čelákovice - Kostomlaty 2:0 (21\,18)\nPořadatel: VSC Čelák
 ovice
DTSTART;TZID=Europe/Berlin:20231210T100000
DTEND;TZID=Europe/Berlin:20231210T120000
LOCATION:Sportovní hala Vikomt\, U Učiliště 1683 Čelákovice
SUMMARY:ST-U16Z-S3A2: Čelákovice-Kostomlaty
END:VEVENT
BEGIN:VEVENT
UID:61386239-6236-4265-a365-646263356433
DTSTAMP:20260425T161737Z
DESCRIPTION:2/20 Malibu Mladá Boleslav - Kutná Hora 0:2 (-10\,-9)\nPořadate
 l: 1 hřiště
DTSTART;TZID=Europe/Berlin:20231210T100000
DTEND;TZID=Europe/Berlin:20231210T120000
LOCATION:Multifunkční sportovní hala\, Luční 1326 Kosmonosy
SUMMARY:ST-U16Z-S3A2: Malibu Mladá Boleslav-Kutná Hora
END:VEVENT
BEGIN:VEVENT
UID:63373964-3239-4961-b333-396338633231
DTSTAMP:20260425T161737Z
DESCRIPTION:2/21 Kostomlaty - Malibu Mladá Boleslav 2:0 (23\,10)
DTSTART;TZID=Europe/Berlin:20231210T100000
DTEND;TZID=Europe/Berlin:20231210T120000
LOCATION:Bios\, Školní 402 Kostomlaty nad Labem
SUMMARY:ST-U16Z-S3A2: Kostomlaty-Malibu Mladá Boleslav
END:VEVENT
BEGIN:VEVENT
UID:64643038-6534-4432-b264-396439373864
DTSTAMP:20260425T161737Z
DESCRIPTION:2/22 Kutná Hora - Čelákovice 2:0 (9\,12)
DTSTART;TZID=Europe/Berlin:20231210T100000
DTEND;TZID=Europe/Berlin:20231210T120000
LOCATION:Klimeška\, Čáslavská 274 Kutná Hora - Karlov
SUMMARY:ST-U16Z-S3A2: Kutná Hora-Čelákovice
END:VEVENT
BEGIN:VEVENT
UID:61653534-6632-4461-b662-346334396139
DTSTAMP:20260425T161737Z
DESCRIPTION:2/23 Čelákovice - Malibu Mladá Boleslav 1:2 (-18\,14\,-11)
DTSTART;TZID=Europe/Berlin:20231210T100000
DTEND;TZID=Europe/Berlin:20231210T120000
LOCATION:Sportovní hala Vikomt\, U Učiliště 1683 Čelákovice
SUMMARY:ST-U16Z-S3A2: Čelákovice-Malibu Mladá Boleslav
END:VEVENT
BEGIN:VEVENT
UID:37643534-6237-4137-b364-333864393631
DTSTAMP:20260425T161737Z
DESCRIPTION:3/24 Kolín B - VK Mladá Boleslav 2:0 (12\,18)\nPořadatel: SK Vo
 lejbal Kolín
DTSTART;TZID=Europe/Berlin:20231216T100000
DTEND;TZID=Europe/Berlin:20231216T120000
LOCATION:hala STAV\, SOŠ Kolín\, Brankovická 1417 Kolín - Kolín V
SUMMARY:ST-U16Z-S3A2: Kolín B-VK Mladá Boleslav
END:VEVENT
BEGIN:VEVENT
UID:63353362-3766-4439-b032-616137653133
DTSTAMP:20260425T161737Z
DESCRIPTION:3/25 Lysá nad Labem - Čelákovice 1:2 (18\,-20\,-3)\nPořadatel: 
 2 hřiště
DTSTART;TZID=Europe/Berlin:20231216T100000
DTEND;TZID=Europe/Berlin:20231216T120000
LOCATION:Tělocvična ZŠ J.A.Komenského\, Komenského 1534 Lysá nad Labem
SUMMARY:ST-U16Z-S3A2: Lysá nad Labem-Čelákovice
END:VEVENT
BEGIN:VEVENT
UID:36623131-6436-4263-b664-393636353335
DTSTAMP:20260425T161737Z
DESCRIPTION:3/26 Kolín B - Malibu Mladá Boleslav 2:0 (11\,13)
DTSTART;TZID=Europe/Berlin:20231216T100000
DTEND;TZID=Europe/Berlin:20231216T120000
LOCATION:hala STAV\, SOŠ Kolín\, Brankovická 1417 Kolín - Kolín V
SUMMARY:ST-U16Z-S3A2: Kolín B-Malibu Mladá Boleslav
END:VEVENT
BEGIN:VEVENT
UID:37303362-6633-4732-a335-343432643739
DTSTAMP:20260425T161737Z
DESCRIPTION:3/27 VK Mladá Boleslav - Čelákovice 0:2 (-10\,-22)
DTSTART;TZID=Europe/Berlin:20231216T100000
DTEND;TZID=Europe/Berlin:20231216T120000
LOCATION:Městská Sportovní hala\, U stadionu 1322 Mladá Boleslav - Mladá Bo
 leslav II
SUMMARY:ST-U16Z-S3A2: VK Mladá Boleslav-Čelákovice
END:VEVENT
BEGIN:VEVENT
UID:65323235-3931-4533-b362-353161323435
DTSTAMP:20260425T161737Z
DESCRIPTION:3/28 Lysá nad Labem - Malibu Mladá Boleslav 2:0 (21\,15)
DTSTART;TZID=Europe/Berlin:20231216T100000
DTEND;TZID=Europe/Berlin:20231216T120000
LOCATION:Tělocvična ZŠ J.A.Komenského\, Komenského 1534 Lysá nad Labem
SUMMARY:ST-U16Z-S3A2: Lysá nad Labem-Malibu Mladá Boleslav
END:VEVENT
BEGIN:VEVENT
UID:66346436-3138-4634-a637-316265323965
DTSTAMP:20260425T161737Z
DESCRIPTION:3/29 Kolín B - Čelákovice 2:1 (22\,-21\,17)
DTSTART;TZID=Europe/Berlin:20231216T100000
DTEND;TZID=Europe/Berlin:20231216T120000
LOCATION:hala STAV\, SOŠ Kolín\, Brankovická 1417 Kolín - Kolín V
SUMMARY:ST-U16Z-S3A2: Kolín B-Čelákovice
END:VEVENT
BEGIN:VEVENT
UID:32353466-3436-4263-b031-656138333963
DTSTAMP:20260425T161737Z
DESCRIPTION:3/30 VK Mladá Boleslav - Malibu Mladá Boleslav 2:0 (14\,14)
DTSTART;TZID=Europe/Berlin:20231216T100000
DTEND;TZID=Europe/Berlin:20231216T120000
LOCATION:Městská Sportovní hala\, U stadionu 1322 Mladá Boleslav - Mladá Bo
 leslav II
SUMMARY:ST-U16Z-S3A2: VK Mladá Boleslav-Malibu Mladá Boleslav
END:VEVENT
BEGIN:VEVENT
UID:31636234-6465-4737-b066-643565316237
DTSTAMP:20260425T161737Z
DESCRIPTION:3/31 Kolín B - Lysá nad Labem 2:0 (14\,25)
DTSTART;TZID=Europe/Berlin:20231216T100000
DTEND;TZID=Europe/Berlin:20231216T120000
LOCATION:hala STAV\, SOŠ Kolín\, Brankovická 1417 Kolín - Kolín V
SUMMARY:ST-U16Z-S3A2: Kolín B-Lysá nad Labem
END:VEVENT
BEGIN:VEVENT
UID:64313565-3539-4230-a438-386537396335
DTSTAMP:20260425T161737Z
DESCRIPTION:3/32 Kostomlaty - Brandýs nad Labem 0:2 (-20\,-22)\nPořadatel: 
 VK Kostomlaty
DTSTART;TZID=Europe/Berlin:20231216T100000
DTEND;TZID=Europe/Berlin:20231216T120000
LOCATION:Bios\, Školní 402 Kostomlaty nad Labem
SUMMARY:ST-U16Z-S3A2: Kostomlaty-Brandýs nad Labem
END:VEVENT
BEGIN:VEVENT
UID:61353135-3238-4730-b236-646537353762
DTSTAMP:20260425T161737Z
DESCRIPTION:3/33 Kutná Hora - Kunice 2:1 (-21\,15\,13)\nPořadatel: 1 hřiště
DTSTART;TZID=Europe/Berlin:20231216T100000
DTEND;TZID=Europe/Berlin:20231216T120000
LOCATION:Klimeška\, Čáslavská 274 Kutná Hora - Karlov
SUMMARY:ST-U16Z-S3A2: Kutná Hora-Kunice
END:VEVENT
BEGIN:VEVENT
UID:65323665-3137-4235-a537-373235613461
DTSTAMP:20260425T161737Z
DESCRIPTION:3/34 Brandýs nad Labem - Kutná Hora 0:2 (-14\,-14)
DTSTART;TZID=Europe/Berlin:20231216T100000
DTEND;TZID=Europe/Berlin:20231216T120000
LOCATION:Sokolovna\, Zápská 329 Brandýs nad Labem-Stará Boleslav - Brandýs 
 nad Labem
SUMMARY:ST-U16Z-S3A2: Brandýs nad Labem-Kutná Hora
END:VEVENT
BEGIN:VEVENT
UID:62663338-6239-4539-b533-303164633933
DTSTAMP:20260425T161737Z
DESCRIPTION:3/35 Kunice - Kostomlaty 0:2 (-13\,-20)
DTSTART;TZID=Europe/Berlin:20231216T100000
DTEND;TZID=Europe/Berlin:20231216T120000
LOCATION:ZŠ Kunice\, Na Návsi 60 Kunice
SUMMARY:ST-U16Z-S3A2: Kunice-Kostomlaty
END:VEVENT
BEGIN:VEVENT
UID:66363035-3335-4331-b830-666132396436
DTSTAMP:20260425T161737Z
DESCRIPTION:3/36 Kostomlaty - Kutná Hora 1:2 (19\,-14\,-5)
DTSTART;TZID=Europe/Berlin:20231216T100000
DTEND;TZID=Europe/Berlin:20231216T120000
LOCATION:Bios\, Školní 402 Kostomlaty nad Labem
SUMMARY:ST-U16Z-S3A2: Kostomlaty-Kutná Hora
END:VEVENT
END:VCALENDAR
