BEGIN:VCALENDAR
VERSION:2.0
PRODID:-//MS-U14Z-T2B//NONSGML kigkonsult.se iCalcreator 2.41.80//
CALSCALE:GREGORIAN
UID:62373138-3132-4438-a333-323937666439
BEGIN:VEVENT
UID:33363537-3934-4164-a531-363565623635
DTSTAMP:20260424T080946Z
DESCRIPTION:1/1 VK Raškovice - Klub volejbalu Kopřivnice 0:2 (-11\,-6)
DTSTART;TZID=Europe/Berlin:20231202T090000
DTEND;TZID=Europe/Berlin:20231202T110000
LOCATION:Tělocvičny ZŠ 17.listopadu Kopřivnice\, 17. listopadu 1225 Kopřivn
 ice
SUMMARY:MS-U14Z-T2B: VK Raškovice-Klub volejbalu Kopřivnice
END:VEVENT
BEGIN:VEVENT
UID:30396562-6231-4033-a661-633735343538
DTSTAMP:20260424T080946Z
DESCRIPTION:1/2 TJ Frenštát pod Radhoštěm - TJ Sokol Vratimov 2:0 (18\,7)
DTSTART;TZID=Europe/Berlin:20231202T090000
DTEND;TZID=Europe/Berlin:20231202T110000
LOCATION:Tělocvičny ZŠ 17.listopadu Kopřivnice\, 17. listopadu 1225 Kopřivn
 ice
SUMMARY:MS-U14Z-T2B: TJ Frenštát pod Radhoštěm-TJ Sokol Vratimov
END:VEVENT
BEGIN:VEVENT
UID:64303134-3565-4565-a139-383463393835
DTSTAMP:20260424T080946Z
DESCRIPTION:2/3 TJ Sokol Frýdek - Místek A - TJ Sokol Vratimov 2:0 (13\,11)
DTSTART;TZID=Europe/Berlin:20231202T103000
DTEND;TZID=Europe/Berlin:20231202T123000
LOCATION:Tělocvičny ZŠ 17.listopadu Kopřivnice\, 17. listopadu 1225 Kopřivn
 ice
SUMMARY:MS-U14Z-T2B: TJ Sokol Frýdek - Místek A-TJ Sokol Vratimov
END:VEVENT
BEGIN:VEVENT
UID:30353334-3664-4766-b931-316535353435
DTSTAMP:20260424T080946Z
DESCRIPTION:2/4 VK Raškovice - TJ Frenštát pod Radhoštěm 2:0 (13\,22)
DTSTART;TZID=Europe/Berlin:20231202T103000
DTEND;TZID=Europe/Berlin:20231202T123000
LOCATION:Tělocvičny ZŠ 17.listopadu Kopřivnice\, 17. listopadu 1225 Kopřivn
 ice
SUMMARY:MS-U14Z-T2B: VK Raškovice-TJ Frenštát pod Radhoštěm
END:VEVENT
BEGIN:VEVENT
UID:30663234-3263-4331-a238-666334626366
DTSTAMP:20260424T080946Z
DESCRIPTION:3/5 TJ Sokol Vratimov - VK Raškovice 0:2 (-13\,-10)
DTSTART;TZID=Europe/Berlin:20231202T120000
DTEND;TZID=Europe/Berlin:20231202T140000
LOCATION:Tělocvičny ZŠ 17.listopadu Kopřivnice\, 17. listopadu 1225 Kopřivn
 ice
SUMMARY:MS-U14Z-T2B: TJ Sokol Vratimov-VK Raškovice
END:VEVENT
BEGIN:VEVENT
UID:33623339-3430-4166-b432-396230356330
DTSTAMP:20260424T080946Z
DESCRIPTION:3/6 Klub volejbalu Kopřivnice - TJ Sokol Frýdek - Místek A 2:0 
 (17\,12)
DTSTART;TZID=Europe/Berlin:20231202T120000
DTEND;TZID=Europe/Berlin:20231202T140000
LOCATION:Tělocvičny ZŠ 17.listopadu Kopřivnice\, 17. listopadu 1225 Kopřivn
 ice
SUMMARY:MS-U14Z-T2B: Klub volejbalu Kopřivnice-TJ Sokol Frýdek - Místek A
END:VEVENT
BEGIN:VEVENT
UID:38396436-3462-4731-b135-346534303264
DTSTAMP:20260424T080946Z
DESCRIPTION:4/7 TJ Frenštát pod Radhoštěm - TJ Sokol Frýdek - Místek A 0:2 
 (-19\,-14)
DTSTART;TZID=Europe/Berlin:20231202T133000
DTEND;TZID=Europe/Berlin:20231202T153000
LOCATION:Tělocvičny ZŠ 17.listopadu Kopřivnice\, 17. listopadu 1225 Kopřivn
 ice
SUMMARY:MS-U14Z-T2B: TJ Frenštát pod Radhoštěm-TJ Sokol Frýdek - Místek A
END:VEVENT
BEGIN:VEVENT
UID:38363431-3662-4432-a332-376537303666
DTSTAMP:20260424T080946Z
DESCRIPTION:4/8 TJ Sokol Vratimov - Klub volejbalu Kopřivnice 0:2 (-13\,-7)
DTSTART;TZID=Europe/Berlin:20231202T133000
DTEND;TZID=Europe/Berlin:20231202T153000
LOCATION:Tělocvičny ZŠ 17.listopadu Kopřivnice\, 17. listopadu 1225 Kopřivn
 ice
SUMMARY:MS-U14Z-T2B: TJ Sokol Vratimov-Klub volejbalu Kopřivnice
END:VEVENT
BEGIN:VEVENT
UID:36356331-3865-4234-a537-373138663164
DTSTAMP:20260424T080946Z
DESCRIPTION:5/9 Klub volejbalu Kopřivnice - TJ Frenštát pod Radhoštěm 2:0 (
 9\,12)
DTSTART;TZID=Europe/Berlin:20231202T150000
DTEND;TZID=Europe/Berlin:20231202T170000
LOCATION:Tělocvičny ZŠ 17.listopadu Kopřivnice\, 17. listopadu 1225 Kopřivn
 ice
SUMMARY:MS-U14Z-T2B: Klub volejbalu Kopřivnice-TJ Frenštát pod Radhoštěm
END:VEVENT
BEGIN:VEVENT
UID:38383266-3332-4566-b364-633736303264
DTSTAMP:20260424T080946Z
DESCRIPTION:5/10 TJ Sokol Frýdek - Místek A - VK Raškovice 2:1 (15\,-23\,11
 )
DTSTART;TZID=Europe/Berlin:20231202T150000
DTEND;TZID=Europe/Berlin:20231202T170000
LOCATION:Tělocvičny ZŠ 17.listopadu Kopřivnice\, 17. listopadu 1225 Kopřivn
 ice
SUMMARY:MS-U14Z-T2B: TJ Sokol Frýdek - Místek A-VK Raškovice
END:VEVENT
END:VCALENDAR
