BEGIN:VCALENDAR
VERSION:2.0
PRODID:-//MS-U14Z-T3A//NONSGML kigkonsult.se iCalcreator 2.41.80//
CALSCALE:GREGORIAN
UID:32363530-6462-4737-a464-373230316534
BEGIN:VEVENT
UID:38366439-3232-4237-b965-363136333135
DTSTAMP:20260424T201815Z
DESCRIPTION:1/1 VK Polanka nad Odrou B - ŠSK Bílovec 2:1 (11\,-23\,11)
DTSTART;TZID=Europe/Berlin:20240106T090000
DTEND;TZID=Europe/Berlin:20240106T110000
LOCATION:Tělocvičny ZŠ 17.listopadu Kopřivnice\, 17. listopadu 1225 Kopřivn
 ice
SUMMARY:MS-U14Z-T3A: VK Polanka nad Odrou B-ŠSK Bílovec
END:VEVENT
BEGIN:VEVENT
UID:63373037-3961-4165-b335-633438656132
DTSTAMP:20260424T201815Z
DESCRIPTION:1/2 Klub volejbalu Kopřivnice - TJ Sokol Frýdek - Místek A 2:0 
 (17\,16)
DTSTART;TZID=Europe/Berlin:20240106T090000
DTEND;TZID=Europe/Berlin:20240106T110000
LOCATION:Tělocvičny ZŠ 17.listopadu Kopřivnice\, 17. listopadu 1225 Kopřivn
 ice
SUMMARY:MS-U14Z-T3A: Klub volejbalu Kopřivnice-TJ Sokol Frýdek - Místek A
END:VEVENT
BEGIN:VEVENT
UID:66646162-3639-4538-b832-633835643638
DTSTAMP:20260424T201815Z
DESCRIPTION:2/3 SVK Nový Jičín A - TJ Sokol Frýdek - Místek A 2:0 (12\,22)
DTSTART;TZID=Europe/Berlin:20240106T103000
DTEND;TZID=Europe/Berlin:20240106T123000
LOCATION:Tělocvičny ZŠ 17.listopadu Kopřivnice\, 17. listopadu 1225 Kopřivn
 ice
SUMMARY:MS-U14Z-T3A: SVK Nový Jičín A-TJ Sokol Frýdek - Místek A
END:VEVENT
BEGIN:VEVENT
UID:30346261-3038-4964-b163-376163643137
DTSTAMP:20260424T201815Z
DESCRIPTION:2/4 VK Polanka nad Odrou B - Klub volejbalu Kopřivnice 0:2 (-19
 \,-10)
DTSTART;TZID=Europe/Berlin:20240106T103000
DTEND;TZID=Europe/Berlin:20240106T123000
LOCATION:Tělocvičny ZŠ 17.listopadu Kopřivnice\, 17. listopadu 1225 Kopřivn
 ice
SUMMARY:MS-U14Z-T3A: VK Polanka nad Odrou B-Klub volejbalu Kopřivnice
END:VEVENT
BEGIN:VEVENT
UID:31333133-6465-4364-a162-346266356131
DTSTAMP:20260424T201815Z
DESCRIPTION:3/5 TJ Sokol Frýdek - Místek A - VK Polanka nad Odrou B 0:2 (-2
 0\,-21)
DTSTART;TZID=Europe/Berlin:20240106T120000
DTEND;TZID=Europe/Berlin:20240106T140000
LOCATION:Tělocvičny ZŠ 17.listopadu Kopřivnice\, 17. listopadu 1225 Kopřivn
 ice
SUMMARY:MS-U14Z-T3A: TJ Sokol Frýdek - Místek A-VK Polanka nad Odrou B
END:VEVENT
BEGIN:VEVENT
UID:65393238-6532-4937-a439-396134366537
DTSTAMP:20260424T201815Z
DESCRIPTION:3/6 ŠSK Bílovec - SVK Nový Jičín A 0:2 (-18\,-19)
DTSTART;TZID=Europe/Berlin:20240106T120000
DTEND;TZID=Europe/Berlin:20240106T140000
LOCATION:Tělocvičny ZŠ 17.listopadu Kopřivnice\, 17. listopadu 1225 Kopřivn
 ice
SUMMARY:MS-U14Z-T3A: ŠSK Bílovec-SVK Nový Jičín A
END:VEVENT
BEGIN:VEVENT
UID:31636564-3764-4530-b363-363737636264
DTSTAMP:20260424T201815Z
DESCRIPTION:4/7 Klub volejbalu Kopřivnice - SVK Nový Jičín A 2:1 (-25\,20\,
 9)
DTSTART;TZID=Europe/Berlin:20240106T133000
DTEND;TZID=Europe/Berlin:20240106T153000
LOCATION:Tělocvičny ZŠ 17.listopadu Kopřivnice\, 17. listopadu 1225 Kopřivn
 ice
SUMMARY:MS-U14Z-T3A: Klub volejbalu Kopřivnice-SVK Nový Jičín A
END:VEVENT
BEGIN:VEVENT
UID:63366266-3164-4865-a238-666332616131
DTSTAMP:20260424T201815Z
DESCRIPTION:4/8 TJ Sokol Frýdek - Místek A - ŠSK Bílovec 0:2 (-10\,-12)
DTSTART;TZID=Europe/Berlin:20240106T133000
DTEND;TZID=Europe/Berlin:20240106T153000
LOCATION:Tělocvičny ZŠ 17.listopadu Kopřivnice\, 17. listopadu 1225 Kopřivn
 ice
SUMMARY:MS-U14Z-T3A: TJ Sokol Frýdek - Místek A-ŠSK Bílovec
END:VEVENT
BEGIN:VEVENT
UID:35663537-3636-4261-a163-303534663731
DTSTAMP:20260424T201815Z
DESCRIPTION:5/9 ŠSK Bílovec - Klub volejbalu Kopřivnice 0:2 (-22\,-13)
DTSTART;TZID=Europe/Berlin:20240106T150000
DTEND;TZID=Europe/Berlin:20240106T170000
LOCATION:Tělocvičny ZŠ 17.listopadu Kopřivnice\, 17. listopadu 1225 Kopřivn
 ice
SUMMARY:MS-U14Z-T3A: ŠSK Bílovec-Klub volejbalu Kopřivnice
END:VEVENT
BEGIN:VEVENT
UID:30306438-3131-4439-b463-636130306561
DTSTAMP:20260424T201815Z
DESCRIPTION:5/10 SVK Nový Jičín A - VK Polanka nad Odrou B 0:2 (-10\,-21)
DTSTART;TZID=Europe/Berlin:20240106T150000
DTEND;TZID=Europe/Berlin:20240106T170000
LOCATION:Tělocvičny ZŠ 17.listopadu Kopřivnice\, 17. listopadu 1225 Kopřivn
 ice
SUMMARY:MS-U14Z-T3A: SVK Nový Jičín A-VK Polanka nad Odrou B
END:VEVENT
END:VCALENDAR
