BEGIN:VCALENDAR
VERSION:2.0
PRODID:-//MS-U14Z-T3B//NONSGML kigkonsult.se iCalcreator 2.41.80//
CALSCALE:GREGORIAN
UID:35343133-3032-4431-b938-366335623264
BEGIN:VEVENT
UID:31336363-3764-4264-b439-383833336466
DTSTAMP:20260424T201805Z
DESCRIPTION:1/1 VK Raškovice - VO Slezská Orlice 0:2 (-20\,-19)
DTSTART;TZID=Europe/Berlin:20240106T090000
DTEND;TZID=Europe/Berlin:20240106T110000
LOCATION:Hala míčových sportů\, Varenská 3098 Ostrava - Moravská Ostrava
SUMMARY:MS-U14Z-T3B: VK Raškovice-VO Slezská Orlice
END:VEVENT
BEGIN:VEVENT
UID:34326636-6632-4137-b865-323737393439
DTSTAMP:20260424T201805Z
DESCRIPTION:1/2 SVK Nový Jičín B - TJ Ostrava 2:0 (21\,15)
DTSTART;TZID=Europe/Berlin:20240106T090000
DTEND;TZID=Europe/Berlin:20240106T110000
LOCATION:Hala míčových sportů\, Varenská 3098 Ostrava - Moravská Ostrava
SUMMARY:MS-U14Z-T3B: SVK Nový Jičín B-TJ Ostrava
END:VEVENT
BEGIN:VEVENT
UID:30643839-6465-4338-a534-376432333037
DTSTAMP:20260424T201805Z
DESCRIPTION:2/3 VkB Frýdlant nad Ostravicí - TJ Ostrava 2:0 (16\,15)
DTSTART;TZID=Europe/Berlin:20240106T103000
DTEND;TZID=Europe/Berlin:20240106T123000
LOCATION:Hala míčových sportů\, Varenská 3098 Ostrava - Moravská Ostrava
SUMMARY:MS-U14Z-T3B: VkB Frýdlant nad Ostravicí-TJ Ostrava
END:VEVENT
BEGIN:VEVENT
UID:39303035-3463-4465-b039-353634633965
DTSTAMP:20260424T201805Z
DESCRIPTION:2/4 VK Raškovice - SVK Nový Jičín B 0:2 (-12\,-20)
DTSTART;TZID=Europe/Berlin:20240106T103000
DTEND;TZID=Europe/Berlin:20240106T123000
LOCATION:Hala míčových sportů\, Varenská 3098 Ostrava - Moravská Ostrava
SUMMARY:MS-U14Z-T3B: VK Raškovice-SVK Nový Jičín B
END:VEVENT
BEGIN:VEVENT
UID:61363637-6366-4333-b035-623830383163
DTSTAMP:20260424T201805Z
DESCRIPTION:3/5 TJ Ostrava - VK Raškovice 2:1 (19\,-21\,12)
DTSTART;TZID=Europe/Berlin:20240106T120000
DTEND;TZID=Europe/Berlin:20240106T140000
LOCATION:Hala míčových sportů\, Varenská 3098 Ostrava - Moravská Ostrava
SUMMARY:MS-U14Z-T3B: TJ Ostrava-VK Raškovice
END:VEVENT
BEGIN:VEVENT
UID:30653462-3931-4633-b735-343763626338
DTSTAMP:20260424T201805Z
DESCRIPTION:3/6 VO Slezská Orlice - VkB Frýdlant nad Ostravicí 0:2 (-21\,-2
 3)
DTSTART;TZID=Europe/Berlin:20240106T120000
DTEND;TZID=Europe/Berlin:20240106T140000
LOCATION:Hala míčových sportů\, Varenská 3098 Ostrava - Moravská Ostrava
SUMMARY:MS-U14Z-T3B: VO Slezská Orlice-VkB Frýdlant nad Ostravicí
END:VEVENT
BEGIN:VEVENT
UID:62353562-6230-4132-a665-613864323361
DTSTAMP:20260424T201805Z
DESCRIPTION:4/7 SVK Nový Jičín B - VkB Frýdlant nad Ostravicí 0:2 (-20\,-13
 )
DTSTART;TZID=Europe/Berlin:20240106T133000
DTEND;TZID=Europe/Berlin:20240106T153000
LOCATION:Hala míčových sportů\, Varenská 3098 Ostrava - Moravská Ostrava
SUMMARY:MS-U14Z-T3B: SVK Nový Jičín B-VkB Frýdlant nad Ostravicí
END:VEVENT
BEGIN:VEVENT
UID:35383661-3339-4236-b534-323363663436
DTSTAMP:20260424T201805Z
DESCRIPTION:4/8 TJ Ostrava - VO Slezská Orlice 0:2 (-9\,-9)
DTSTART;TZID=Europe/Berlin:20240106T133000
DTEND;TZID=Europe/Berlin:20240106T153000
LOCATION:Hala míčových sportů\, Varenská 3098 Ostrava - Moravská Ostrava
SUMMARY:MS-U14Z-T3B: TJ Ostrava-VO Slezská Orlice
END:VEVENT
BEGIN:VEVENT
UID:34313432-6131-4933-b566-303061626464
DTSTAMP:20260424T201805Z
DESCRIPTION:5/9 VO Slezská Orlice - SVK Nový Jičín B 2:0 (26\,24)
DTSTART;TZID=Europe/Berlin:20240106T150000
DTEND;TZID=Europe/Berlin:20240106T170000
LOCATION:Hala míčových sportů\, Varenská 3098 Ostrava - Moravská Ostrava
SUMMARY:MS-U14Z-T3B: VO Slezská Orlice-SVK Nový Jičín B
END:VEVENT
BEGIN:VEVENT
UID:33313362-3832-4235-b437-353530326565
DTSTAMP:20260424T201805Z
DESCRIPTION:5/10 VkB Frýdlant nad Ostravicí - VK Raškovice 1:2 (25\,-16\,-1
 5)
DTSTART;TZID=Europe/Berlin:20240106T150000
DTEND;TZID=Europe/Berlin:20240106T170000
LOCATION:Hala míčových sportů\, Varenská 3098 Ostrava - Moravská Ostrava
SUMMARY:MS-U14Z-T3B: VkB Frýdlant nad Ostravicí-VK Raškovice
END:VEVENT
END:VCALENDAR
