BEGIN:VCALENDAR
VERSION:2.0
PRODID:-//JM-U16Z-VC//NONSGML kigkonsult.se iCalcreator 2.41.80//
CALSCALE:GREGORIAN
UID:65623666-6466-4431-b832-313562303138
BEGIN:VEVENT
UID:39623330-3731-4265-a237-633936616435
DTSTAMP:20260421T192012Z
DESCRIPTION:1/1 VK Brno A\, z.s. - ZŠ Milénova A 2:1 (-11\,18\,10)
DTSTART;TZID=Europe/Berlin:20240106T090000
DTEND;TZID=Europe/Berlin:20240106T110000
LOCATION:ZŠ Vejrostova\, Vejrostova 1066 Brno - Bystrc
SUMMARY:JM-U16Z-VC: VK Brno A\, z.s.-ZŠ Milénova A
END:VEVENT
BEGIN:VEVENT
UID:65656630-6562-4231-b235-343566383062
DTSTAMP:20260421T192012Z
DESCRIPTION:2/2 VS Drásov - SK Beachvolleyball Slavkov\, spolek 2:1 (20\,-1
 6\,10)
DTSTART;TZID=Europe/Berlin:20240106T103000
DTEND;TZID=Europe/Berlin:20240106T123000
LOCATION:ZŠ Vejrostova\, Vejrostova 1066 Brno - Bystrc
SUMMARY:JM-U16Z-VC: VS Drásov-SK Beachvolleyball Slavkov\, spolek
END:VEVENT
BEGIN:VEVENT
UID:39306435-3335-4431-b635-643565663761
DTSTAMP:20260421T192012Z
DESCRIPTION:3/3 ZŠ Milénova A - SK Beachvolleyball Slavkov\, spolek 2:1 (11
 \,-15\,16)
DTSTART;TZID=Europe/Berlin:20240106T114500
DTEND;TZID=Europe/Berlin:20240106T134500
LOCATION:ZŠ Vejrostova\, Vejrostova 1066 Brno - Bystrc
SUMMARY:JM-U16Z-VC: ZŠ Milénova A-SK Beachvolleyball Slavkov\, spolek
END:VEVENT
BEGIN:VEVENT
UID:31646664-6132-4630-b364-363562383738
DTSTAMP:20260421T192012Z
DESCRIPTION:4/4 VK Brno A\, z.s. - VS Drásov 0:2 (-11\,-14)
DTSTART;TZID=Europe/Berlin:20240106T130000
DTEND;TZID=Europe/Berlin:20240106T150000
LOCATION:ZŠ Vejrostova\, Vejrostova 1066 Brno - Bystrc
SUMMARY:JM-U16Z-VC: VK Brno A\, z.s.-VS Drásov
END:VEVENT
BEGIN:VEVENT
UID:61383337-6332-4537-b433-353935616636
DTSTAMP:20260421T192012Z
DESCRIPTION:5/5 VS Drásov - ZŠ Milénova A 2:1 (-16\,21\,4)
DTSTART;TZID=Europe/Berlin:20240106T141500
DTEND;TZID=Europe/Berlin:20240106T161500
LOCATION:ZŠ Vejrostova\, Vejrostova 1066 Brno - Bystrc
SUMMARY:JM-U16Z-VC: VS Drásov-ZŠ Milénova A
END:VEVENT
BEGIN:VEVENT
UID:61323931-6335-4336-b932-636232343139
DTSTAMP:20260421T192012Z
DESCRIPTION:6/6 SK Beachvolleyball Slavkov\, spolek - VK Brno A\, z.s. 2:1 
 (-22\,15\,13)
DTSTART;TZID=Europe/Berlin:20240106T153000
DTEND;TZID=Europe/Berlin:20240106T173000
LOCATION:ZŠ Vejrostova\, Vejrostova 1066 Brno - Bystrc
SUMMARY:JM-U16Z-VC: SK Beachvolleyball Slavkov\, spolek-VK Brno A\, z.s.
END:VEVENT
END:VCALENDAR
