BEGIN:VCALENDAR
VERSION:2.0
PRODID:-//JM-U16Z-VE//NONSGML kigkonsult.se iCalcreator 2.41.80//
CALSCALE:GREGORIAN
UID:31623036-3437-4537-a166-386433336539
BEGIN:VEVENT
UID:30663530-3462-4761-a232-656532613133
DTSTAMP:20260421T183730Z
DESCRIPTION:1/1 VK Brno B\, z.s. - ZŠ Milénova B 0:2 (-15\,-14)
DTSTART;TZID=Europe/Berlin:20240106T090000
DTEND;TZID=Europe/Berlin:20240106T110000
LOCATION:ZŠ Vejrostova\, Vejrostova 1066 Brno - Bystrc
SUMMARY:JM-U16Z-VE: VK Brno B\, z.s.-ZŠ Milénova B
END:VEVENT
BEGIN:VEVENT
UID:66393966-3933-4633-b237-633163343835
DTSTAMP:20260421T183730Z
DESCRIPTION:2/2 Lokomotiva Fosfa Břeclav B - Tělocvičná jednota Sokol Bučov
 ice 2:0 (18\,20)
DTSTART;TZID=Europe/Berlin:20240106T103000
DTEND;TZID=Europe/Berlin:20240106T123000
LOCATION:ZŠ Vejrostova\, Vejrostova 1066 Brno - Bystrc
SUMMARY:JM-U16Z-VE: Lokomotiva Fosfa Břeclav B-Tělocvičná jednota Sokol Buč
 ovice
END:VEVENT
BEGIN:VEVENT
UID:36323532-3739-4437-b262-633630366239
DTSTAMP:20260421T183730Z
DESCRIPTION:3/3 ZŠ Milénova B - Tělocvičná jednota Sokol Bučovice 2:0 (17\,
 22)
DTSTART;TZID=Europe/Berlin:20240106T114500
DTEND;TZID=Europe/Berlin:20240106T134500
LOCATION:ZŠ Vejrostova\, Vejrostova 1066 Brno - Bystrc
SUMMARY:JM-U16Z-VE: ZŠ Milénova B-Tělocvičná jednota Sokol Bučovice
END:VEVENT
BEGIN:VEVENT
UID:39393639-3936-4639-b065-333039376430
DTSTAMP:20260421T183730Z
DESCRIPTION:4/4 VK Brno B\, z.s. - Lokomotiva Fosfa Břeclav B 0:2 (-11\,-21
 )
DTSTART;TZID=Europe/Berlin:20240106T130000
DTEND;TZID=Europe/Berlin:20240106T150000
LOCATION:ZŠ Vejrostova\, Vejrostova 1066 Brno - Bystrc
SUMMARY:JM-U16Z-VE: VK Brno B\, z.s.-Lokomotiva Fosfa Břeclav B
END:VEVENT
BEGIN:VEVENT
UID:65363865-6662-4630-b331-613439313231
DTSTAMP:20260421T183730Z
DESCRIPTION:5/5 Lokomotiva Fosfa Břeclav B - ZŠ Milénova B 2:0 (21\,13)
DTSTART;TZID=Europe/Berlin:20240106T141500
DTEND;TZID=Europe/Berlin:20240106T161500
LOCATION:ZŠ Vejrostova\, Vejrostova 1066 Brno - Bystrc
SUMMARY:JM-U16Z-VE: Lokomotiva Fosfa Břeclav B-ZŠ Milénova B
END:VEVENT
BEGIN:VEVENT
UID:66376132-3634-4635-a136-623330643333
DTSTAMP:20260421T183730Z
DESCRIPTION:6/6 Tělocvičná jednota Sokol Bučovice - VK Brno B\, z.s. 1:2 (1
 2\,-21\,-5)
DTSTART;TZID=Europe/Berlin:20240106T153000
DTEND;TZID=Europe/Berlin:20240106T173000
LOCATION:ZŠ Vejrostova\, Vejrostova 1066 Brno - Bystrc
SUMMARY:JM-U16Z-VE: Tělocvičná jednota Sokol Bučovice-VK Brno B\, z.s.
END:VEVENT
END:VCALENDAR
