BEGIN:VCALENDAR
VERSION:2.0
PRODID:-//CP-U16M-5A//NONSGML kigkonsult.se iCalcreator 2.41.80//
CALSCALE:GREGORIAN
UID:34313566-3466-4236-a465-303666366639
BEGIN:VEVENT
UID:32663333-3230-4734-a330-303039313266
DTSTAMP:20260425T035505Z
DESCRIPTION:1/1 VK Trox Příbram A - VK České Budějovice A 1:2 (-24\,21\,-7)
 \nCB A
DTSTART;TZID=Europe/Berlin:20240210T093000
DTEND;TZID=Europe/Berlin:20240210T113000
LOCATION:Tělocvična ZŠ Balbínova\, Balbínova 328 Příbram - Příbram II
SUMMARY:CP-U16M-5A: VK Trox Příbram A-VK České Budějovice A
END:VEVENT
BEGIN:VEVENT
UID:61633837-3539-4033-b430-616433653761
DTSTAMP:20260425T035505Z
DESCRIPTION:1/2 VK Lvi Praha A - Tělovýchovná jednota Jiskra Havlíčkův Brod
  z.s. 0:2 (-24\,-12)
DTSTART;TZID=Europe/Berlin:20240210T093000
DTEND;TZID=Europe/Berlin:20240210T113000
LOCATION:FZŠ Brdičkova\, Brdičkova 1878 Praha - Stodůlky
SUMMARY:CP-U16M-5A: VK Lvi Praha A-Tělovýchovná jednota Jiskra Havlíčkův Br
 od z.s.
END:VEVENT
BEGIN:VEVENT
UID:31343966-3666-4339-b966-663865316664
DTSTAMP:20260425T035505Z
DESCRIPTION:2/3 VK Jirkov - SK PROSEK A 0:2 (-20\,-20)
DTSTART;TZID=Europe/Berlin:20240210T103000
DTEND;TZID=Europe/Berlin:20240210T123000
LOCATION:Sportovní hala MG a ZŠ Jirkov\, Krušnohorská 1675 Jirkov
SUMMARY:CP-U16M-5A: VK Jirkov-SK PROSEK A
END:VEVENT
BEGIN:VEVENT
UID:31333531-3430-4664-b932-613738366330
DTSTAMP:20260425T035505Z
DESCRIPTION:2/4 SK Volejbal Kolín\, z.s. - Ostrava 2:0 (19\,22)
DTSTART;TZID=Europe/Berlin:20240210T103000
DTEND;TZID=Europe/Berlin:20240210T123000
LOCATION:hala STAV\, SOŠ Kolín\, Brankovická 1417 Kolín - Kolín V
SUMMARY:CP-U16M-5A: SK Volejbal Kolín\, z.s.-Ostrava
END:VEVENT
BEGIN:VEVENT
UID:64336662-6533-4634-a330-376462356139
DTSTAMP:20260425T035505Z
DESCRIPTION:3/5 VK České Budějovice A - VK Lvi Praha A 2:0 (20\,20)
DTSTART;TZID=Europe/Berlin:20240210T113000
DTEND;TZID=Europe/Berlin:20240210T133000
LOCATION:ZŠ Oskara Nedbala České Budějovice\, O. Nedbala 882 České Budějovi
 ce - České Budějovice 2
SUMMARY:CP-U16M-5A: VK České Budějovice A-VK Lvi Praha A
END:VEVENT
BEGIN:VEVENT
UID:32396666-6162-4765-b465-616462663831
DTSTAMP:20260425T035505Z
DESCRIPTION:3/6 SK PROSEK A - VK Trox Příbram A 1:2 (18\,-21\,-15)
DTSTART;TZID=Europe/Berlin:20240210T113000
DTEND;TZID=Europe/Berlin:20240210T133000
LOCATION:SH SK Prosek\, Lovosická 559 Praha - Letňany
SUMMARY:CP-U16M-5A: SK PROSEK A-VK Trox Příbram A
END:VEVENT
BEGIN:VEVENT
UID:36613862-3865-4438-b637-333766306562
DTSTAMP:20260425T035505Z
DESCRIPTION:4/7 Tělovýchovná jednota Jiskra Havlíčkův Brod z.s. - SK Volejb
 al Kolín\, z.s. 2:0 (20\,9)
DTSTART;TZID=Europe/Berlin:20240210T123000
DTEND;TZID=Europe/Berlin:20240210T143000
LOCATION:Tělocvična SPŠ Stavební\, Jihlavská 628 Havlíčkův Brod
SUMMARY:CP-U16M-5A: Tělovýchovná jednota Jiskra Havlíčkův Brod z.s.-SK Vole
 jbal Kolín\, z.s.
END:VEVENT
BEGIN:VEVENT
UID:36626239-6531-4232-a538-353863656539
DTSTAMP:20260425T035505Z
DESCRIPTION:4/8 Ostrava - VK Jirkov 1:2 (20\,-20\,-15)
DTSTART;TZID=Europe/Berlin:20240210T123000
DTEND;TZID=Europe/Berlin:20240210T143000
LOCATION:Hala Střední zdravotní školy\, 1. máje 2208 Ostrava - Mariánské Ho
 ry
SUMMARY:CP-U16M-5A: Ostrava-VK Jirkov
END:VEVENT
BEGIN:VEVENT
UID:34636663-3036-4433-a265-323232376161
DTSTAMP:20260425T035505Z
DESCRIPTION:5/9 VK České Budějovice A - SK PROSEK A 2:0 (14\,15)
DTSTART;TZID=Europe/Berlin:20240210T133000
DTEND;TZID=Europe/Berlin:20240210T153000
LOCATION:ZŠ Oskara Nedbala České Budějovice\, O. Nedbala 882 České Budějovi
 ce - České Budějovice 2
SUMMARY:CP-U16M-5A: VK České Budějovice A-SK PROSEK A
END:VEVENT
BEGIN:VEVENT
UID:66613761-3138-4730-b066-343562383834
DTSTAMP:20260425T035505Z
DESCRIPTION:5/10 SK Volejbal Kolín\, z.s. - VK Lvi Praha A 1:2 (-15\,18\,-1
 4)
DTSTART;TZID=Europe/Berlin:20240210T133000
DTEND;TZID=Europe/Berlin:20240210T153000
LOCATION:hala STAV\, SOŠ Kolín\, Brankovická 1417 Kolín - Kolín V
SUMMARY:CP-U16M-5A: SK Volejbal Kolín\, z.s.-VK Lvi Praha A
END:VEVENT
BEGIN:VEVENT
UID:34386638-3564-4363-a661-626561396431
DTSTAMP:20260425T035505Z
DESCRIPTION:6/11 VK Trox Příbram A - Ostrava 0:2 (-13\,-13)
DTSTART;TZID=Europe/Berlin:20240210T143000
DTEND;TZID=Europe/Berlin:20240210T163000
LOCATION:Tělocvična ZŠ Balbínova\, Balbínova 328 Příbram - Příbram II
SUMMARY:CP-U16M-5A: VK Trox Příbram A-Ostrava
END:VEVENT
BEGIN:VEVENT
UID:61333334-3535-4336-a566-323164316336
DTSTAMP:20260425T035505Z
DESCRIPTION:6/12 VK Jirkov - Tělovýchovná jednota Jiskra Havlíčkův Brod z.s
 . 1:2 (-19\,21\,-12)
DTSTART;TZID=Europe/Berlin:20240210T143000
DTEND;TZID=Europe/Berlin:20240210T163000
LOCATION:Sportovní hala MG a ZŠ Jirkov\, Krušnohorská 1675 Jirkov
SUMMARY:CP-U16M-5A: VK Jirkov-Tělovýchovná jednota Jiskra Havlíčkův Brod z.
 s.
END:VEVENT
BEGIN:VEVENT
UID:38393930-6438-4437-a434-653738393632
DTSTAMP:20260425T035506Z
DESCRIPTION:7/13 VK České Budějovice A - SK Volejbal Kolín\, z.s. 1:2 (23\,
 -20\,-15)
DTSTART;TZID=Europe/Berlin:20240210T153000
DTEND;TZID=Europe/Berlin:20240210T173000
LOCATION:ZŠ Oskara Nedbala České Budějovice\, O. Nedbala 882 České Budějovi
 ce - České Budějovice 2
SUMMARY:CP-U16M-5A: VK České Budějovice A-SK Volejbal Kolín\, z.s.
END:VEVENT
BEGIN:VEVENT
UID:35653365-3035-4230-a562-623862356438
DTSTAMP:20260425T035506Z
DESCRIPTION:7/14 Ostrava - SK PROSEK A 2:0 (22\,20)
DTSTART;TZID=Europe/Berlin:20240210T153000
DTEND;TZID=Europe/Berlin:20240210T173000
LOCATION:Hala Střední zdravotní školy\, 1. máje 2208 Ostrava - Mariánské Ho
 ry
SUMMARY:CP-U16M-5A: Ostrava-SK PROSEK A
END:VEVENT
BEGIN:VEVENT
UID:65373634-3666-4462-b238-383937396136
DTSTAMP:20260425T035506Z
DESCRIPTION:8/15 VK Lvi Praha A - VK Jirkov 0:2 (-22\,-11)
DTSTART;TZID=Europe/Berlin:20240211T150000
DTEND;TZID=Europe/Berlin:20240211T170000
LOCATION:FZŠ Brdičkova\, Brdičkova 1878 Praha - Stodůlky
SUMMARY:CP-U16M-5A: VK Lvi Praha A-VK Jirkov
END:VEVENT
BEGIN:VEVENT
UID:32313364-3332-4639-b335-386433666564
DTSTAMP:20260425T035506Z
DESCRIPTION:8/16 Tělovýchovná jednota Jiskra Havlíčkův Brod z.s. - VK Trox 
 Příbram A 0:2 (-21\,-26)
DTSTART;TZID=Europe/Berlin:20240210T163000
DTEND;TZID=Europe/Berlin:20240210T183000
LOCATION:Tělocvična SPŠ Stavební\, Jihlavská 628 Havlíčkův Brod
SUMMARY:CP-U16M-5A: Tělovýchovná jednota Jiskra Havlíčkův Brod z.s.-VK Trox
  Příbram A
END:VEVENT
BEGIN:VEVENT
UID:31363636-3338-4735-b232-663065636238
DTSTAMP:20260425T035506Z
DESCRIPTION:9/17 VK České Budějovice A - Ostrava 2:0 (15\,20)
DTSTART;TZID=Europe/Berlin:20240211T090000
DTEND;TZID=Europe/Berlin:20240211T110000
LOCATION:ZŠ Oskara Nedbala České Budějovice\, O. Nedbala 882 České Budějovi
 ce - České Budějovice 2
SUMMARY:CP-U16M-5A: VK České Budějovice A-Ostrava
END:VEVENT
BEGIN:VEVENT
UID:63636164-3531-4231-a238-356635653036
DTSTAMP:20260425T035506Z
DESCRIPTION:9/18 VK Jirkov - SK Volejbal Kolín\, z.s. 1:2 (20\,-22\,-10)
DTSTART;TZID=Europe/Berlin:20240211T090000
DTEND;TZID=Europe/Berlin:20240211T110000
LOCATION:Sportovní hala MG a ZŠ Jirkov\, Krušnohorská 1675 Jirkov
SUMMARY:CP-U16M-5A: VK Jirkov-SK Volejbal Kolín\, z.s.
END:VEVENT
BEGIN:VEVENT
UID:31386430-3636-4036-b965-353934313465
DTSTAMP:20260425T035506Z
DESCRIPTION:10/19 SK PROSEK A - Tělovýchovná jednota Jiskra Havlíčkův Brod 
 z.s. 0:2 (-17\,-16)
DTSTART;TZID=Europe/Berlin:20240211T100000
DTEND;TZID=Europe/Berlin:20240211T120000
LOCATION:SH SK Prosek\, Lovosická 559 Praha - Letňany
SUMMARY:CP-U16M-5A: SK PROSEK A-Tělovýchovná jednota Jiskra Havlíčkův Brod 
 z.s.
END:VEVENT
BEGIN:VEVENT
UID:61376332-3132-4832-a139-623832636364
DTSTAMP:20260425T035506Z
DESCRIPTION:10/20 VK Trox Příbram A - VK Lvi Praha A 2:1 (-21\,18\,8)
DTSTART;TZID=Europe/Berlin:20240211T100000
DTEND;TZID=Europe/Berlin:20240211T120000
LOCATION:Tělocvična ZŠ Balbínova\, Balbínova 328 Příbram - Příbram II
SUMMARY:CP-U16M-5A: VK Trox Příbram A-VK Lvi Praha A
END:VEVENT
BEGIN:VEVENT
UID:30646231-3833-4938-b930-356333346437
DTSTAMP:20260425T035506Z
DESCRIPTION:11/21 VK České Budějovice A - VK Jirkov 0:2 (-14\,-18)
DTSTART;TZID=Europe/Berlin:20240211T110000
DTEND;TZID=Europe/Berlin:20240211T130000
LOCATION:ZŠ Oskara Nedbala České Budějovice\, O. Nedbala 882 České Budějovi
 ce - České Budějovice 2
SUMMARY:CP-U16M-5A: VK České Budějovice A-VK Jirkov
END:VEVENT
BEGIN:VEVENT
UID:32396339-3438-4434-b065-643131636664
DTSTAMP:20260425T035506Z
DESCRIPTION:11/22 Tělovýchovná jednota Jiskra Havlíčkův Brod z.s. - Ostrava
  1:2 (-20\,23\,-12)
DTSTART;TZID=Europe/Berlin:20240211T110000
DTEND;TZID=Europe/Berlin:20240211T130000
LOCATION:Tělocvična SPŠ Stavební\, Jihlavská 628 Havlíčkův Brod
SUMMARY:CP-U16M-5A: Tělovýchovná jednota Jiskra Havlíčkův Brod z.s.-Ostrava
END:VEVENT
BEGIN:VEVENT
UID:32623066-6265-4433-b136-393438636635
DTSTAMP:20260425T035506Z
DESCRIPTION:12/23 SK Volejbal Kolín\, z.s. - VK Trox Příbram A 2:1 (19\,-21
 \,9)
DTSTART;TZID=Europe/Berlin:20240211T120000
DTEND;TZID=Europe/Berlin:20240211T140000
LOCATION:hala STAV\, SOŠ Kolín\, Brankovická 1417 Kolín - Kolín V
SUMMARY:CP-U16M-5A: SK Volejbal Kolín\, z.s.-VK Trox Příbram A
END:VEVENT
BEGIN:VEVENT
UID:33626663-6232-4330-b136-656137613362
DTSTAMP:20260425T035506Z
DESCRIPTION:12/24 VK Lvi Praha A - SK PROSEK A 2:0 (23\,18)
DTSTART;TZID=Europe/Berlin:20240211T120000
DTEND;TZID=Europe/Berlin:20240211T140000
LOCATION:FZŠ Brdičkova\, Brdičkova 1878 Praha - Stodůlky
SUMMARY:CP-U16M-5A: VK Lvi Praha A-SK PROSEK A
END:VEVENT
BEGIN:VEVENT
UID:64656430-6234-4139-a539-653730336263
DTSTAMP:20260425T035506Z
DESCRIPTION:13/25 Ostrava - VK Lvi Praha A 1:2 (23\,-22\,-8)
DTSTART;TZID=Europe/Berlin:20240211T130000
DTEND;TZID=Europe/Berlin:20240211T150000
LOCATION:Hala Střední zdravotní školy\, 1. máje 2208 Ostrava - Mariánské Ho
 ry
SUMMARY:CP-U16M-5A: Ostrava-VK Lvi Praha A
END:VEVENT
BEGIN:VEVENT
UID:34353465-6265-4135-a566-343938366330
DTSTAMP:20260425T035506Z
DESCRIPTION:13/26 VK Trox Příbram A - VK Jirkov 0:2 (-17\,-16)
DTSTART;TZID=Europe/Berlin:20240211T130000
DTEND;TZID=Europe/Berlin:20240211T150000
LOCATION:Tělocvična ZŠ Balbínova\, Balbínova 328 Příbram - Příbram II
SUMMARY:CP-U16M-5A: VK Trox Příbram A-VK Jirkov
END:VEVENT
BEGIN:VEVENT
UID:34646261-6166-4530-a433-613262313366
DTSTAMP:20260425T035506Z
DESCRIPTION:14/27 VK České Budějovice A - Tělovýchovná jednota Jiskra Havlí
 čkův Brod z.s. 1:2 (-15\,20\,-12)
DTSTART;TZID=Europe/Berlin:20240211T140000
DTEND;TZID=Europe/Berlin:20240211T160000
LOCATION:ZŠ Oskara Nedbala České Budějovice\, O. Nedbala 882 České Budějovi
 ce - České Budějovice 2
SUMMARY:CP-U16M-5A: VK České Budějovice A-Tělovýchovná jednota Jiskra Havlí
 čkův Brod z.s.
END:VEVENT
BEGIN:VEVENT
UID:31373966-3036-4130-b730-633731383537
DTSTAMP:20260425T035506Z
DESCRIPTION:14/28 SK PROSEK A - SK Volejbal Kolín\, z.s. 0:2 (-13\,-17)
DTSTART;TZID=Europe/Berlin:20240211T140000
DTEND;TZID=Europe/Berlin:20240211T160000
LOCATION:SH SK Prosek\, Lovosická 559 Praha - Letňany
SUMMARY:CP-U16M-5A: SK PROSEK A-SK Volejbal Kolín\, z.s.
END:VEVENT
END:VCALENDAR
