BEGIN:VCALENDAR
VERSION:2.0
PRODID:-//CP-U16Z-F2B//NONSGML kigkonsult.se iCalcreator 2.41.80//
CALSCALE:GREGORIAN
UID:33313739-3764-4638-a230-653463333431
BEGIN:VEVENT
UID:62313366-3964-4037-b464-373161343730
DTSTAMP:20260422T053850Z
DESCRIPTION:1/1 SK Volejbal Klatovy - TJ Ostrava 1:2 (21\,-9\,-10)
DTSTART;TZID=Europe/Berlin:20240217T090000
DTEND;TZID=Europe/Berlin:20240217T110000
LOCATION:Sportovní hala ZŠ Čapkova\, Čapkova 136 Klatovy - Klatovy V
SUMMARY:CP-U16Z-F2B: SK Volejbal Klatovy-TJ Ostrava
END:VEVENT
BEGIN:VEVENT
UID:32303166-3833-4161-a536-356161363131
DTSTAMP:20260422T053850Z
DESCRIPTION:1/2 VO TJ Lanškroun A - VK Prostějov 2:0 (25\,12)
DTSTART;TZID=Europe/Berlin:20240217T090000
DTEND;TZID=Europe/Berlin:20240217T110000
LOCATION:SOŠ a SOU Lanškroun\, Sokolská 288 Lanškroun - Ostrovské Předměstí
SUMMARY:CP-U16Z-F2B: VO TJ Lanškroun A-VK Prostějov
END:VEVENT
BEGIN:VEVENT
UID:34343038-3035-4166-b266-656464363438
DTSTAMP:20260422T053850Z
DESCRIPTION:1/3 ŠSK Bílovec - BVC Chodov 0:2 (-25\,-8)
DTSTART;TZID=Europe/Berlin:20240217T090000
DTEND;TZID=Europe/Berlin:20240217T110000
LOCATION:Hala ZŠ Komenského\, Komenského 701 Bílovec
SUMMARY:CP-U16Z-F2B: ŠSK Bílovec-BVC Chodov
END:VEVENT
BEGIN:VEVENT
UID:35326337-3438-4637-b764-313837663139
DTSTAMP:20260422T053850Z
DESCRIPTION:2/4 TJ Ostrava - BVC Chodov 2:1 (-16\,22\,8)
DTSTART;TZID=Europe/Berlin:20240217T103000
DTEND;TZID=Europe/Berlin:20240217T123000
LOCATION:Hala mládeže\, Gajdošova 1893 Ostrava - Moravská Ostrava
SUMMARY:CP-U16Z-F2B: TJ Ostrava-BVC Chodov
END:VEVENT
BEGIN:VEVENT
UID:35623465-6630-4865-a435-373634636533
DTSTAMP:20260422T053850Z
DESCRIPTION:2/5 VK UP Olomouc - SK Volejbal Klatovy 0:2 (-25\,-19)
DTSTART;TZID=Europe/Berlin:20240217T103000
DTEND;TZID=Europe/Berlin:20240217T123000
LOCATION:UP Olomouc\, U sportovní haly 38 Olomouc - Lazce
SUMMARY:CP-U16Z-F2B: VK UP Olomouc-SK Volejbal Klatovy
END:VEVENT
BEGIN:VEVENT
UID:62613263-6231-4337-a334-306234393262
DTSTAMP:20260422T053850Z
DESCRIPTION:2/6 Volejbal Rudolfov - ŠSK Bílovec 2:1 (20\,-18\,10)
DTSTART;TZID=Europe/Berlin:20240217T103000
DTEND;TZID=Europe/Berlin:20240217T123000
LOCATION:Sportovní hala Rudolfov\, Adamovská 511 Rudolfov
SUMMARY:CP-U16Z-F2B: Volejbal Rudolfov-ŠSK Bílovec
END:VEVENT
BEGIN:VEVENT
UID:35346264-3036-4533-a633-626436633936
DTSTAMP:20260422T053850Z
DESCRIPTION:3/7 ŠSK Bílovec - VO TJ Lanškroun A 0:2 (-8\,-14)
DTSTART;TZID=Europe/Berlin:20240217T120000
DTEND;TZID=Europe/Berlin:20240217T140000
LOCATION:Hala ZŠ Komenského\, Komenského 701 Bílovec
SUMMARY:CP-U16Z-F2B: ŠSK Bílovec-VO TJ Lanškroun A
END:VEVENT
BEGIN:VEVENT
UID:38393031-3336-4332-b239-326563346561
DTSTAMP:20260422T053850Z
DESCRIPTION:3/8 VK Prostějov - VK UP Olomouc 2:1 (-23\,13\,11)
DTSTART;TZID=Europe/Berlin:20240217T120000
DTEND;TZID=Europe/Berlin:20240217T140000
LOCATION:Národní sportovní centrum\, Za velodromem 4187 Prostějov
SUMMARY:CP-U16Z-F2B: VK Prostějov-VK UP Olomouc
END:VEVENT
BEGIN:VEVENT
UID:37613631-6134-4135-a265-633237313161
DTSTAMP:20260422T053850Z
DESCRIPTION:3/9 SK Volejbal Klatovy - Volejbal Rudolfov 2:0 (26\,22)
DTSTART;TZID=Europe/Berlin:20240217T120000
DTEND;TZID=Europe/Berlin:20240217T140000
LOCATION:Sportovní hala ZŠ Čapkova\, Čapkova 136 Klatovy - Klatovy V
SUMMARY:CP-U16Z-F2B: SK Volejbal Klatovy-Volejbal Rudolfov
END:VEVENT
BEGIN:VEVENT
UID:32316538-3932-4336-b336-666438373632
DTSTAMP:20260422T053850Z
DESCRIPTION:4/10 TJ Ostrava - VK Prostějov 2:0 (7\,17)
DTSTART;TZID=Europe/Berlin:20240217T140000
DTEND;TZID=Europe/Berlin:20240217T160000
LOCATION:Hala mládeže\, Gajdošova 1893 Ostrava - Moravská Ostrava
SUMMARY:CP-U16Z-F2B: TJ Ostrava-VK Prostějov
END:VEVENT
BEGIN:VEVENT
UID:30356462-6432-4336-b365-626435313166
DTSTAMP:20260422T053850Z
DESCRIPTION:4/11 VO TJ Lanškroun A - VK UP Olomouc 2:0 (11\,14)
DTSTART;TZID=Europe/Berlin:20240217T140000
DTEND;TZID=Europe/Berlin:20240217T160000
LOCATION:SOŠ a SOU Lanškroun\, Sokolská 288 Lanškroun - Ostrovské Předměstí
SUMMARY:CP-U16Z-F2B: VO TJ Lanškroun A-VK UP Olomouc
END:VEVENT
BEGIN:VEVENT
UID:30626133-3664-4630-a536-336236356266
DTSTAMP:20260422T053850Z
DESCRIPTION:4/12 BVC Chodov - Volejbal Rudolfov 2:0 (19\,9)
DTSTART;TZID=Europe/Berlin:20240217T140000
DTEND;TZID=Europe/Berlin:20240217T160000
LOCATION:Městská sportovní hala Chodov\, Tyršova 1201 Chodov
SUMMARY:CP-U16Z-F2B: BVC Chodov-Volejbal Rudolfov
END:VEVENT
BEGIN:VEVENT
UID:61646233-3163-4433-b361-636335633064
DTSTAMP:20260422T053850Z
DESCRIPTION:5/13 VK UP Olomouc - TJ Ostrava 0:2 (-18\,-14)
DTSTART;TZID=Europe/Berlin:20240217T153000
DTEND;TZID=Europe/Berlin:20240217T173000
LOCATION:UP Olomouc\, U sportovní haly 38 Olomouc - Lazce
SUMMARY:CP-U16Z-F2B: VK UP Olomouc-TJ Ostrava
END:VEVENT
BEGIN:VEVENT
UID:61316335-6636-4666-b138-623566633937
DTSTAMP:20260422T053850Z
DESCRIPTION:5/14 VK Prostějov - Volejbal Rudolfov 0:2 (-18\,-16)
DTSTART;TZID=Europe/Berlin:20240217T153000
DTEND;TZID=Europe/Berlin:20240217T173000
LOCATION:Národní sportovní centrum\, Za velodromem 4187 Prostějov
SUMMARY:CP-U16Z-F2B: VK Prostějov-Volejbal Rudolfov
END:VEVENT
BEGIN:VEVENT
UID:31663935-6161-4266-b232-383265373666
DTSTAMP:20260422T053850Z
DESCRIPTION:5/15 SK Volejbal Klatovy - ŠSK Bílovec 2:0 (18\,23)
DTSTART;TZID=Europe/Berlin:20240217T153000
DTEND;TZID=Europe/Berlin:20240217T173000
LOCATION:Sportovní hala ZŠ Čapkova\, Čapkova 136 Klatovy - Klatovy V
SUMMARY:CP-U16Z-F2B: SK Volejbal Klatovy-ŠSK Bílovec
END:VEVENT
BEGIN:VEVENT
UID:36343736-6565-4863-a365-323633333330
DTSTAMP:20260422T053850Z
DESCRIPTION:6/16 BVC Chodov - VO TJ Lanškroun A 1:2 (-19\,20\,-9)
DTSTART;TZID=Europe/Berlin:20240217T170000
DTEND;TZID=Europe/Berlin:20240217T190000
LOCATION:Městská sportovní hala Chodov\, Tyršova 1201 Chodov
SUMMARY:CP-U16Z-F2B: BVC Chodov-VO TJ Lanškroun A
END:VEVENT
BEGIN:VEVENT
UID:66346333-3036-4163-a536-636331376561
DTSTAMP:20260422T053850Z
DESCRIPTION:7/17 VO TJ Lanškroun A - TJ Ostrava 2:1 (20\,-13\,9)
DTSTART;TZID=Europe/Berlin:20240218T083000
DTEND;TZID=Europe/Berlin:20240218T103000
LOCATION:SOŠ a SOU Lanškroun\, Sokolská 288 Lanškroun - Ostrovské Předměstí
SUMMARY:CP-U16Z-F2B: VO TJ Lanškroun A-TJ Ostrava
END:VEVENT
BEGIN:VEVENT
UID:61323530-3366-4039-b338-376333333666
DTSTAMP:20260422T053850Z
DESCRIPTION:7/18 VK Prostějov - BVC Chodov 0:2 (-8\,-6)
DTSTART;TZID=Europe/Berlin:20240218T083000
DTEND;TZID=Europe/Berlin:20240218T103000
LOCATION:Národní sportovní centrum\, Za velodromem 4187 Prostějov
SUMMARY:CP-U16Z-F2B: VK Prostějov-BVC Chodov
END:VEVENT
BEGIN:VEVENT
UID:39646663-3535-4661-b461-376161643633
DTSTAMP:20260422T053850Z
DESCRIPTION:7/19 VK UP Olomouc - ŠSK Bílovec 0:2 (-23\,-20)
DTSTART;TZID=Europe/Berlin:20240218T083000
DTEND;TZID=Europe/Berlin:20240218T103000
LOCATION:UP Olomouc\, U sportovní haly 38 Olomouc - Lazce
SUMMARY:CP-U16Z-F2B: VK UP Olomouc-ŠSK Bílovec
END:VEVENT
BEGIN:VEVENT
UID:37666535-3133-4131-b964-346430363235
DTSTAMP:20260422T053850Z
DESCRIPTION:8/20 BVC Chodov - SK Volejbal Klatovy 2:0 (23\,18)
DTSTART;TZID=Europe/Berlin:20240218T100000
DTEND;TZID=Europe/Berlin:20240218T120000
LOCATION:Městská sportovní hala Chodov\, Tyršova 1201 Chodov
SUMMARY:CP-U16Z-F2B: BVC Chodov-SK Volejbal Klatovy
END:VEVENT
BEGIN:VEVENT
UID:39383361-3231-4639-b163-326534353238
DTSTAMP:20260422T053850Z
DESCRIPTION:8/21 ŠSK Bílovec - VK Prostějov 2:0 (17\,14)
DTSTART;TZID=Europe/Berlin:20240218T100000
DTEND;TZID=Europe/Berlin:20240218T120000
LOCATION:Hala ZŠ Komenského\, Komenského 701 Bílovec
SUMMARY:CP-U16Z-F2B: ŠSK Bílovec-VK Prostějov
END:VEVENT
BEGIN:VEVENT
UID:65396639-3863-4935-b836-633232353638
DTSTAMP:20260422T053850Z
DESCRIPTION:8/22 Volejbal Rudolfov - VK UP Olomouc 2:0 (18\,21)
DTSTART;TZID=Europe/Berlin:20240218T100000
DTEND;TZID=Europe/Berlin:20240218T120000
LOCATION:Sportovní hala Rudolfov\, Adamovská 511 Rudolfov
SUMMARY:CP-U16Z-F2B: Volejbal Rudolfov-VK UP Olomouc
END:VEVENT
BEGIN:VEVENT
UID:64336264-3864-4439-a265-323761366539
DTSTAMP:20260422T053850Z
DESCRIPTION:9/23 TJ Ostrava - Volejbal Rudolfov 2:1 (10\,-22\,13)
DTSTART;TZID=Europe/Berlin:20240218T113000
DTEND;TZID=Europe/Berlin:20240218T133000
LOCATION:Hala mládeže\, Gajdošova 1893 Ostrava - Moravská Ostrava
SUMMARY:CP-U16Z-F2B: TJ Ostrava-Volejbal Rudolfov
END:VEVENT
BEGIN:VEVENT
UID:39366637-3763-4332-b132-643630636433
DTSTAMP:20260422T053850Z
DESCRIPTION:9/24 SK Volejbal Klatovy - VO TJ Lanškroun A 0:2 (-8\,-19)
DTSTART;TZID=Europe/Berlin:20240218T113000
DTEND;TZID=Europe/Berlin:20240218T133000
LOCATION:Sportovní hala ZŠ Čapkova\, Čapkova 136 Klatovy - Klatovy V
SUMMARY:CP-U16Z-F2B: SK Volejbal Klatovy-VO TJ Lanškroun A
END:VEVENT
BEGIN:VEVENT
UID:66313934-3831-4566-a331-646238643061
DTSTAMP:20260422T053850Z
DESCRIPTION:9/25 BVC Chodov - VK UP Olomouc 2:1 (-19\,14\,14)
DTSTART;TZID=Europe/Berlin:20240218T113000
DTEND;TZID=Europe/Berlin:20240218T133000
LOCATION:Městská sportovní hala Chodov\, Tyršova 1201 Chodov
SUMMARY:CP-U16Z-F2B: BVC Chodov-VK UP Olomouc
END:VEVENT
BEGIN:VEVENT
UID:38663666-3463-4261-b639-303461666139
DTSTAMP:20260422T053850Z
DESCRIPTION:10/26 ŠSK Bílovec - TJ Ostrava 0:2 (-16\,-18)
DTSTART;TZID=Europe/Berlin:20240218T130000
DTEND;TZID=Europe/Berlin:20240218T150000
LOCATION:Hala ZŠ Komenského\, Komenského 701 Bílovec
SUMMARY:CP-U16Z-F2B: ŠSK Bílovec-TJ Ostrava
END:VEVENT
BEGIN:VEVENT
UID:34623739-3664-4234-b061-336334663334
DTSTAMP:20260422T053850Z
DESCRIPTION:10/27 Volejbal Rudolfov - VO TJ Lanškroun A 0:2 (-18\,-21)
DTSTART;TZID=Europe/Berlin:20240218T130000
DTEND;TZID=Europe/Berlin:20240218T150000
LOCATION:Sportovní hala Rudolfov\, Adamovská 511 Rudolfov
SUMMARY:CP-U16Z-F2B: Volejbal Rudolfov-VO TJ Lanškroun A
END:VEVENT
BEGIN:VEVENT
UID:38616363-3036-4033-b065-333766626266
DTSTAMP:20260422T053850Z
DESCRIPTION:10/28 SK Volejbal Klatovy - VK Prostějov 2:0 (12\,17)
DTSTART;TZID=Europe/Berlin:20240218T130000
DTEND;TZID=Europe/Berlin:20240218T150000
LOCATION:Sportovní hala ZŠ Čapkova\, Čapkova 136 Klatovy - Klatovy V
SUMMARY:CP-U16Z-F2B: SK Volejbal Klatovy-VK Prostějov
END:VEVENT
END:VCALENDAR
