BEGIN:VCALENDAR
VERSION:2.0
PRODID:-//MS-U18Z-2C//NONSGML kigkonsult.se iCalcreator 2.41.80//
CALSCALE:GREGORIAN
UID:31333465-3063-4731-b363-353635633838
BEGIN:VEVENT
UID:64616332-3936-4262-b731-386265656431
DTSTAMP:20260421T161240Z
DESCRIPTION:1/1 VK Karviná - VK Polanka nad Odrou 3:0 (9\,16\,16)
DTSTART;TZID=Europe/Berlin:20240217T100000
DTEND;TZID=Europe/Berlin:20240217T120000
LOCATION:Tělocvična ZŠ Družby\, tř. Družby 1383 Karviná - Nové Město
SUMMARY:MS-U18Z-2C: VK Karviná-VK Polanka nad Odrou
END:VEVENT
BEGIN:VEVENT
UID:61356533-3163-4564-a534-353266356430
DTSTAMP:20260421T161240Z
DESCRIPTION:1/2 VO Slezská Orlice - SVK Nový Jičín 0:3 (-20\,-20\,-11)
DTSTART;TZID=Europe/Berlin:20240406T100000
DTEND;TZID=Europe/Berlin:20240406T120000
LOCATION:Střední pedagogická a zdravotní škola \, Jiráskova 840 Krnov - Pod
  Bezručovým vrchem
SUMMARY:MS-U18Z-2C: VO Slezská Orlice-SVK Nový Jičín
END:VEVENT
BEGIN:VEVENT
UID:30623930-3136-4163-a434-383162326438
DTSTAMP:20260421T161240Z
DESCRIPTION:1/3 Vsetín - Volejbalový spolek Ostrava 3:0 (9\,23\,19)
DTSTART;TZID=Europe/Berlin:20240218T090000
DTEND;TZID=Europe/Berlin:20240218T110000
LOCATION:Sportovní hala Na Lapači\, Na Lapači 247 Vsetín - Rokytnice
SUMMARY:MS-U18Z-2C: Vsetín-Volejbalový spolek Ostrava
END:VEVENT
BEGIN:VEVENT
UID:36636237-6434-4535-b839-303039653232
DTSTAMP:20260421T161240Z
DESCRIPTION:2/4 VK Karviná - VK Polanka nad Odrou 3:1 (19\,17\,-26\,18)
DTSTART;TZID=Europe/Berlin:20240217T140000
DTEND;TZID=Europe/Berlin:20240217T160000
LOCATION:Tělocvična ZŠ Družby\, tř. Družby 1383 Karviná - Nové Město
SUMMARY:MS-U18Z-2C: VK Karviná-VK Polanka nad Odrou
END:VEVENT
BEGIN:VEVENT
UID:62346664-3430-4135-a231-613264376539
DTSTAMP:20260421T161240Z
DESCRIPTION:2/5 VO Slezská Orlice - SVK Nový Jičín 0:3 (-23\,-14\,-25)
DTSTART;TZID=Europe/Berlin:20240406T140000
DTEND;TZID=Europe/Berlin:20240406T160000
LOCATION:Střední pedagogická a zdravotní škola \, Jiráskova 840 Krnov - Pod
  Bezručovým vrchem
SUMMARY:MS-U18Z-2C: VO Slezská Orlice-SVK Nový Jičín
END:VEVENT
BEGIN:VEVENT
UID:65336133-6334-4331-b362-373466313231
DTSTAMP:20260421T161240Z
DESCRIPTION:2/6 Vsetín - Volejbalový spolek Ostrava 3:0 (19\,12\,18)
DTSTART;TZID=Europe/Berlin:20240218T130000
DTEND;TZID=Europe/Berlin:20240218T150000
LOCATION:Sportovní hala Na Lapači\, Na Lapači 247 Vsetín - Rokytnice
SUMMARY:MS-U18Z-2C: Vsetín-Volejbalový spolek Ostrava
END:VEVENT
BEGIN:VEVENT
UID:64626636-6662-4563-a663-613434393235
DTSTAMP:20260421T161240Z
DESCRIPTION:3/7 VK Karviná - Volejbalový spolek Ostrava 3:0 (7\,15\,8)
DTSTART;TZID=Europe/Berlin:20240224T100000
DTEND;TZID=Europe/Berlin:20240224T120000
LOCATION:Tělocvična ZŠ Družby\, tř. Družby 1383 Karviná - Nové Město
SUMMARY:MS-U18Z-2C: VK Karviná-Volejbalový spolek Ostrava
END:VEVENT
BEGIN:VEVENT
UID:34333936-3838-4665-b237-663431343931
DTSTAMP:20260421T161240Z
DESCRIPTION:3/8 VO Slezská Orlice - Vsetín 1:3 (20\,-18\,-21\,-20)
DTSTART;TZID=Europe/Berlin:20240407T100000
DTEND;TZID=Europe/Berlin:20240407T120000
LOCATION:Střední pedagogická a zdravotní škola \, Jiráskova 840 Krnov - Pod
  Bezručovým vrchem
SUMMARY:MS-U18Z-2C: VO Slezská Orlice-Vsetín
END:VEVENT
BEGIN:VEVENT
UID:36623933-6337-4034-a631-643362386434
DTSTAMP:20260421T161240Z
DESCRIPTION:3/9 VK Polanka nad Odrou - SVK Nový Jičín 2:3 (-23\,21\,18\,-14
 \,-9)
DTSTART;TZID=Europe/Berlin:20240224T090000
DTEND;TZID=Europe/Berlin:20240224T110000
LOCATION:Sportovní hala\, Heleny Salichové 1275 Ostrava - Polanka nad Odrou
SUMMARY:MS-U18Z-2C: VK Polanka nad Odrou-SVK Nový Jičín
END:VEVENT
BEGIN:VEVENT
UID:64323063-3466-4136-a666-653061306635
DTSTAMP:20260421T161240Z
DESCRIPTION:4/10 VK Karviná - Volejbalový spolek Ostrava 3:0 (20\,8\,13)
DTSTART;TZID=Europe/Berlin:20240224T140000
DTEND;TZID=Europe/Berlin:20240224T160000
LOCATION:Tělocvična ZŠ Družby\, tř. Družby 1383 Karviná - Nové Město
SUMMARY:MS-U18Z-2C: VK Karviná-Volejbalový spolek Ostrava
END:VEVENT
BEGIN:VEVENT
UID:34303535-6130-4838-b864-363734386139
DTSTAMP:20260421T161240Z
DESCRIPTION:4/11 VO Slezská Orlice - Vsetín 0:3 (-20\,-20\,-21)
DTSTART;TZID=Europe/Berlin:20240407T140000
DTEND;TZID=Europe/Berlin:20240407T160000
LOCATION:Střední pedagogická a zdravotní škola \, Jiráskova 840 Krnov - Pod
  Bezručovým vrchem
SUMMARY:MS-U18Z-2C: VO Slezská Orlice-Vsetín
END:VEVENT
BEGIN:VEVENT
UID:39383561-6462-4362-a631-323663383039
DTSTAMP:20260421T161240Z
DESCRIPTION:4/12 VK Polanka nad Odrou - SVK Nový Jičín 0:3 (-17\,-26\,-17)
DTSTART;TZID=Europe/Berlin:20240224T130000
DTEND;TZID=Europe/Berlin:20240224T150000
LOCATION:Sportovní hala\, Heleny Salichové 1275 Ostrava - Polanka nad Odrou
SUMMARY:MS-U18Z-2C: VK Polanka nad Odrou-SVK Nový Jičín
END:VEVENT
BEGIN:VEVENT
UID:62306163-3034-4862-b733-666664353930
DTSTAMP:20260421T161240Z
DESCRIPTION:5/13 VK Karviná - VO Slezská Orlice 3:0 (22\,20\,16)
DTSTART;TZID=Europe/Berlin:20240302T100000
DTEND;TZID=Europe/Berlin:20240302T120000
LOCATION:Tělocvična ZŠ Družby\, tř. Družby 1383 Karviná - Nové Město
SUMMARY:MS-U18Z-2C: VK Karviná-VO Slezská Orlice
END:VEVENT
BEGIN:VEVENT
UID:32653731-3830-4231-a234-383363363563
DTSTAMP:20260421T161240Z
DESCRIPTION:5/14 Vsetín - VK Polanka nad Odrou 3:1 (-19\,10\,16\,22)
DTSTART;TZID=Europe/Berlin:20240303T090000
DTEND;TZID=Europe/Berlin:20240303T110000
LOCATION:Sportovní hala Na Lapači\, Na Lapači 247 Vsetín - Rokytnice
SUMMARY:MS-U18Z-2C: Vsetín-VK Polanka nad Odrou
END:VEVENT
BEGIN:VEVENT
UID:37336334-3236-4932-a361-623161363631
DTSTAMP:20260421T161240Z
DESCRIPTION:5/15 SVK Nový Jičín - Volejbalový spolek Ostrava 3:0 (11\,10\,2
 0)
DTSTART;TZID=Europe/Berlin:20240302T100000
DTEND;TZID=Europe/Berlin:20240302T120000
LOCATION:Hala Msgr. Šrámka (Marxovka)\, Msgr. Šrámka 1105 Nový Jičín
SUMMARY:MS-U18Z-2C: SVK Nový Jičín-Volejbalový spolek Ostrava
END:VEVENT
BEGIN:VEVENT
UID:35343164-6130-4664-b737-333339303135
DTSTAMP:20260421T161240Z
DESCRIPTION:6/16 VK Karviná - VO Slezská Orlice 3:1 (18\,-20\,8\,19)
DTSTART;TZID=Europe/Berlin:20240302T140000
DTEND;TZID=Europe/Berlin:20240302T160000
LOCATION:Tělocvična ZŠ Družby\, tř. Družby 1383 Karviná - Nové Město
SUMMARY:MS-U18Z-2C: VK Karviná-VO Slezská Orlice
END:VEVENT
BEGIN:VEVENT
UID:62353639-6533-4334-b437-646236336333
DTSTAMP:20260421T161240Z
DESCRIPTION:6/17 Vsetín - VK Polanka nad Odrou 3:0 (22\,18\,20)
DTSTART;TZID=Europe/Berlin:20240303T130000
DTEND;TZID=Europe/Berlin:20240303T150000
LOCATION:Sportovní hala Na Lapači\, Na Lapači 247 Vsetín - Rokytnice
SUMMARY:MS-U18Z-2C: Vsetín-VK Polanka nad Odrou
END:VEVENT
BEGIN:VEVENT
UID:38633263-3933-4530-a565-336636303034
DTSTAMP:20260421T161240Z
DESCRIPTION:6/18 SVK Nový Jičín - Volejbalový spolek Ostrava 3:1 (17\,-14\,
 19\,10)
DTSTART;TZID=Europe/Berlin:20240302T140000
DTEND;TZID=Europe/Berlin:20240302T160000
LOCATION:Hala Msgr. Šrámka (Marxovka)\, Msgr. Šrámka 1105 Nový Jičín
SUMMARY:MS-U18Z-2C: SVK Nový Jičín-Volejbalový spolek Ostrava
END:VEVENT
BEGIN:VEVENT
UID:39366466-6264-4665-b161-393962393761
DTSTAMP:20260421T161240Z
DESCRIPTION:7/19 VK Polanka nad Odrou - VK Karviná 1:3 (-12\,21\,-15\,-24)
DTSTART;TZID=Europe/Berlin:20240309T090000
DTEND;TZID=Europe/Berlin:20240309T110000
LOCATION:Sportovní hala\, Heleny Salichové 1275 Ostrava - Polanka nad Odrou
SUMMARY:MS-U18Z-2C: VK Polanka nad Odrou-VK Karviná
END:VEVENT
BEGIN:VEVENT
UID:30386335-6531-4562-b031-666538633539
DTSTAMP:20260421T161240Z
DESCRIPTION:7/20 SVK Nový Jičín - VO Slezská Orlice 3:0 (18\,21\,14)
DTSTART;TZID=Europe/Berlin:20240309T100000
DTEND;TZID=Europe/Berlin:20240309T120000
LOCATION:Hala ABC\, Purkyňova 116 Nový Jičín
SUMMARY:MS-U18Z-2C: SVK Nový Jičín-VO Slezská Orlice
END:VEVENT
BEGIN:VEVENT
UID:39666339-6230-4036-b363-323163313361
DTSTAMP:20260421T161240Z
DESCRIPTION:7/21 Volejbalový spolek Ostrava - Vsetín 1:3 (-12\,-13\,19\,-14
 )
DTSTART;TZID=Europe/Berlin:20240309T100000
DTEND;TZID=Europe/Berlin:20240309T120000
LOCATION:SŠSS Krakovská \, Krakovská 1095 Ostrava - Hrabůvka
SUMMARY:MS-U18Z-2C: Volejbalový spolek Ostrava-Vsetín
END:VEVENT
BEGIN:VEVENT
UID:61303137-6239-4330-b362-383632393437
DTSTAMP:20260421T161240Z
DESCRIPTION:8/22 VK Polanka nad Odrou - VK Karviná 3:0 (19\,16\,16)
DTSTART;TZID=Europe/Berlin:20240309T130000
DTEND;TZID=Europe/Berlin:20240309T150000
LOCATION:Sportovní hala\, Heleny Salichové 1275 Ostrava - Polanka nad Odrou
SUMMARY:MS-U18Z-2C: VK Polanka nad Odrou-VK Karviná
END:VEVENT
BEGIN:VEVENT
UID:64623330-3536-4365-b232-326262346566
DTSTAMP:20260421T161240Z
DESCRIPTION:8/23 SVK Nový Jičín - VO Slezská Orlice 3:0 (21\,18\,12)
DTSTART;TZID=Europe/Berlin:20240309T140000
DTEND;TZID=Europe/Berlin:20240309T160000
LOCATION:Hala ABC\, Purkyňova 116 Nový Jičín
SUMMARY:MS-U18Z-2C: SVK Nový Jičín-VO Slezská Orlice
END:VEVENT
BEGIN:VEVENT
UID:36363464-3561-4139-b433-353562663337
DTSTAMP:20260421T161240Z
DESCRIPTION:8/24 Volejbalový spolek Ostrava - Vsetín 0:3 (-22\,-24\,-17)
DTSTART;TZID=Europe/Berlin:20240309T140000
DTEND;TZID=Europe/Berlin:20240309T160000
LOCATION:SŠSS Krakovská \, Krakovská 1095 Ostrava - Hrabůvka
SUMMARY:MS-U18Z-2C: Volejbalový spolek Ostrava-Vsetín
END:VEVENT
BEGIN:VEVENT
UID:35653261-6136-4763-a530-336339633131
DTSTAMP:20260421T161240Z
DESCRIPTION:9/25 VK Karviná - Volejbalový spolek Ostrava 3:2 (10\,-23\,11\,
 -17\,6)\nZměna pořadatale - Karviná
DTSTART;TZID=Europe/Berlin:20240320T164500
DTEND;TZID=Europe/Berlin:20240320T184500
LOCATION:Tělocvična ZŠ Družby\, tř. Družby 1383 Karviná - Nové Město
SUMMARY:MS-U18Z-2C: VK Karviná-Volejbalový spolek Ostrava
END:VEVENT
BEGIN:VEVENT
UID:39346630-3538-4565-a238-323737613937
DTSTAMP:20260421T161240Z
DESCRIPTION:9/26 Vsetín - VO Slezská Orlice 3:0 (22\,18\,12)
DTSTART;TZID=Europe/Berlin:20240316T100000
DTEND;TZID=Europe/Berlin:20240316T120000
LOCATION:Sportovní hala Na Lapači\, Na Lapači 247 Vsetín - Rokytnice
SUMMARY:MS-U18Z-2C: Vsetín-VO Slezská Orlice
END:VEVENT
BEGIN:VEVENT
UID:30613330-3332-4331-a433-666566646138
DTSTAMP:20260421T161240Z
DESCRIPTION:9/27 SVK Nový Jičín - VK Polanka nad Odrou 3:0 (16\,23\,21)
DTSTART;TZID=Europe/Berlin:20240310T100000
DTEND;TZID=Europe/Berlin:20240310T120000
LOCATION:Hala Msgr. Šrámka (Marxovka)\, Msgr. Šrámka 1105 Nový Jičín
SUMMARY:MS-U18Z-2C: SVK Nový Jičín-VK Polanka nad Odrou
END:VEVENT
BEGIN:VEVENT
UID:38353263-6337-4163-b437-306139633432
DTSTAMP:20260421T161240Z
DESCRIPTION:10/28 VK Karviná - Volejbalový spolek Ostrava 3:1 (18\,-14\,12\
 ,15)\nZměna pořadatale - Karviná
DTSTART;TZID=Europe/Berlin:20240320T184500
DTEND;TZID=Europe/Berlin:20240320T204500
LOCATION:Tělocvična ZŠ Družby\, tř. Družby 1383 Karviná - Nové Město
SUMMARY:MS-U18Z-2C: VK Karviná-Volejbalový spolek Ostrava
END:VEVENT
BEGIN:VEVENT
UID:30346161-3632-4238-b533-363935643261
DTSTAMP:20260421T161240Z
DESCRIPTION:10/29 Vsetín - VO Slezská Orlice 3:0 (16\,23\,16)
DTSTART;TZID=Europe/Berlin:20240316T140000
DTEND;TZID=Europe/Berlin:20240316T160000
LOCATION:Sportovní hala Na Lapači\, Na Lapači 247 Vsetín - Rokytnice
SUMMARY:MS-U18Z-2C: Vsetín-VO Slezská Orlice
END:VEVENT
BEGIN:VEVENT
UID:31323766-6537-4333-b264-393131333336
DTSTAMP:20260421T161240Z
DESCRIPTION:10/30 SVK Nový Jičín - VK Polanka nad Odrou 3:1 (18\,19\,-20\,1
 4)
DTSTART;TZID=Europe/Berlin:20240310T140000
DTEND;TZID=Europe/Berlin:20240310T160000
LOCATION:Hala Msgr. Šrámka (Marxovka)\, Msgr. Šrámka 1105 Nový Jičín
SUMMARY:MS-U18Z-2C: SVK Nový Jičín-VK Polanka nad Odrou
END:VEVENT
BEGIN:VEVENT
UID:64353037-3835-4966-b930-623634363163
DTSTAMP:20260421T161240Z
DESCRIPTION:11/31 VO Slezská Orlice - VK Karviná 2:3 (22\,22\,-18\,-14\,-16
 )
DTSTART;TZID=Europe/Berlin:20240323T100000
DTEND;TZID=Europe/Berlin:20240323T120000
LOCATION:Střední pedagogická a zdravotní škola \, Jiráskova 840 Krnov - Pod
  Bezručovým vrchem
SUMMARY:MS-U18Z-2C: VO Slezská Orlice-VK Karviná
END:VEVENT
BEGIN:VEVENT
UID:38303731-3937-4831-b262-623033643762
DTSTAMP:20260421T161240Z
DESCRIPTION:11/32 VK Polanka nad Odrou - Vsetín 2:3 (-6\,-17\,19\,15\,-13)
DTSTART;TZID=Europe/Berlin:20240406T090000
DTEND;TZID=Europe/Berlin:20240406T110000
LOCATION:Sportovní hala\, Heleny Salichové 1275 Ostrava - Polanka nad Odrou
SUMMARY:MS-U18Z-2C: VK Polanka nad Odrou-Vsetín
END:VEVENT
BEGIN:VEVENT
UID:35666661-6631-4636-a239-333363313632
DTSTAMP:20260421T161240Z
DESCRIPTION:11/33 Volejbalový spolek Ostrava - SVK Nový Jičín 2:3 (24\,-19\
 ,23\,-14\,-10)
DTSTART;TZID=Europe/Berlin:20240323T100000
DTEND;TZID=Europe/Berlin:20240323T120000
LOCATION:SŠSS Krakovská \, Krakovská 1095 Ostrava - Hrabůvka
SUMMARY:MS-U18Z-2C: Volejbalový spolek Ostrava-SVK Nový Jičín
END:VEVENT
BEGIN:VEVENT
UID:34623362-6634-4263-b035-623163393939
DTSTAMP:20260421T161240Z
DESCRIPTION:12/34 VO Slezská Orlice - VK Karviná 0:3 (-10\,-18\,-20)
DTSTART;TZID=Europe/Berlin:20240323T140000
DTEND;TZID=Europe/Berlin:20240323T160000
LOCATION:Střední pedagogická a zdravotní škola \, Jiráskova 840 Krnov - Pod
  Bezručovým vrchem
SUMMARY:MS-U18Z-2C: VO Slezská Orlice-VK Karviná
END:VEVENT
BEGIN:VEVENT
UID:62383439-6434-4564-b461-373037666366
DTSTAMP:20260421T161240Z
DESCRIPTION:12/35 VK Polanka nad Odrou - Vsetín 3:2 (19\,22\,-15\,-16\,8)
DTSTART;TZID=Europe/Berlin:20240406T130000
DTEND;TZID=Europe/Berlin:20240406T150000
LOCATION:Sportovní hala\, Heleny Salichové 1275 Ostrava - Polanka nad Odrou
SUMMARY:MS-U18Z-2C: VK Polanka nad Odrou-Vsetín
END:VEVENT
BEGIN:VEVENT
UID:31623963-3930-4639-b733-656331646664
DTSTAMP:20260421T161240Z
DESCRIPTION:12/36 Volejbalový spolek Ostrava - SVK Nový Jičín 0:3 (-24\,-17
 \,-14)
DTSTART;TZID=Europe/Berlin:20240323T140000
DTEND;TZID=Europe/Berlin:20240323T160000
LOCATION:SŠSS Krakovská \, Krakovská 1095 Ostrava - Hrabůvka
SUMMARY:MS-U18Z-2C: Volejbalový spolek Ostrava-SVK Nový Jičín
END:VEVENT
END:VCALENDAR
