BEGIN:VCALENDAR
VERSION:2.0
PRODID:-//CP-U16M-6H//NONSGML kigkonsult.se iCalcreator 2.41.80//
CALSCALE:GREGORIAN
UID:31666637-3361-4464-b534-663838643231
BEGIN:VEVENT
UID:61333039-3030-4633-b539-613133316332
DTSTAMP:20260425T035456Z
DESCRIPTION:1/1 Nová Paka - VK České Budějovice B 2:0 (25\,19)\nLázně Běloh
 rad
DTSTART;TZID=Europe/Berlin:20240316T100000
DTEND;TZID=Europe/Berlin:20240316T120000
LOCATION:ZŠ Husitská\, O. Číly 1933 Nová Paka
SUMMARY:CP-U16M-6H: Nová Paka-VK České Budějovice B
END:VEVENT
BEGIN:VEVENT
UID:33326662-3436-4362-a138-326564623130
DTSTAMP:20260425T035456Z
DESCRIPTION:1/2 Volejbalový sportovní klub Český Krumlov z.s. - SK PROSEK B
  0:2 (-15\,-21)
DTSTART;TZID=Europe/Berlin:20240316T100000
DTEND;TZID=Europe/Berlin:20240316T120000
LOCATION:ZŠ Za Nádražím Český Krumlov\, Za Nádražím 222 Český Krumlov - Nád
 ražní Předměstí
SUMMARY:CP-U16M-6H: Volejbalový sportovní klub Český Krumlov z.s.-SK PROSEK
  B
END:VEVENT
BEGIN:VEVENT
UID:62613063-6265-4234-b639-366430323563
DTSTAMP:20260425T035456Z
DESCRIPTION:2/3 Plzeň - VK Lvi Praha B 2:1 (10\,-24\,8)
DTSTART;TZID=Europe/Berlin:20240316T110000
DTEND;TZID=Europe/Berlin:20240316T130000
LOCATION:Bolevecká základní škola ( 18.ZŠ)\, náměstí Odboje 550 Plzeň - Bol
 evec
SUMMARY:CP-U16M-6H: Plzeň-VK Lvi Praha B
END:VEVENT
BEGIN:VEVENT
UID:66313435-6461-4730-b938-616664353637
DTSTAMP:20260425T035456Z
DESCRIPTION:2/4 TJ Lokomotiva Česká Lípa\, z.s. - SK Volejbal Klatovy 2:0 (
 9\,14)
DTSTART;TZID=Europe/Berlin:20240316T110000
DTEND;TZID=Europe/Berlin:20240316T130000
LOCATION:ZŠ Lada\, Šluknovská 2904 Česká Lípa
SUMMARY:CP-U16M-6H: TJ Lokomotiva Česká Lípa\, z.s.-SK Volejbal Klatovy
END:VEVENT
BEGIN:VEVENT
UID:31386639-6566-4463-a562-383565626535
DTSTAMP:20260425T035456Z
DESCRIPTION:3/5 VK České Budějovice B - Volejbalový sportovní klub Český Kr
 umlov z.s. 1:2 (-14\,19\,-9)
DTSTART;TZID=Europe/Berlin:20240316T120000
DTEND;TZID=Europe/Berlin:20240316T140000
LOCATION:ZŠ Oskara Nedbala České Budějovice\, O. Nedbala 882 České Budějovi
 ce - České Budějovice 2
SUMMARY:CP-U16M-6H: VK České Budějovice B-Volejbalový sportovní klub Český 
 Krumlov z.s.
END:VEVENT
BEGIN:VEVENT
UID:33363135-6437-4662-b063-383433373534
DTSTAMP:20260425T035456Z
DESCRIPTION:3/6 VK Lvi Praha B - Nová Paka 1:2 (-23\,19\,-11)
DTSTART;TZID=Europe/Berlin:20240316T120000
DTEND;TZID=Europe/Berlin:20240316T140000
LOCATION:FZŠ Brdičkova\, Brdičkova 1878 Praha - Stodůlky
SUMMARY:CP-U16M-6H: VK Lvi Praha B-Nová Paka
END:VEVENT
BEGIN:VEVENT
UID:31663666-6634-4363-a237-366132343763
DTSTAMP:20260425T035456Z
DESCRIPTION:4/7 SK PROSEK B - TJ Lokomotiva Česká Lípa\, z.s. 2:1 (21\,-19\
 ,13)
DTSTART;TZID=Europe/Berlin:20240316T130000
DTEND;TZID=Europe/Berlin:20240316T150000
LOCATION:SH SK Prosek\, Lovosická 559 Praha - Letňany
SUMMARY:CP-U16M-6H: SK PROSEK B-TJ Lokomotiva Česká Lípa\, z.s.
END:VEVENT
BEGIN:VEVENT
UID:64376136-3363-4439-a331-373134623030
DTSTAMP:20260425T035456Z
DESCRIPTION:4/8 SK Volejbal Klatovy - Plzeň 0:2 (-21\,-14)
DTSTART;TZID=Europe/Berlin:20240316T130000
DTEND;TZID=Europe/Berlin:20240316T150000
LOCATION:Sportovní hala ZŠ Čapkova\, Čapkova 136 Klatovy - Klatovy V
SUMMARY:CP-U16M-6H: SK Volejbal Klatovy-Plzeň
END:VEVENT
BEGIN:VEVENT
UID:66336234-3136-4465-b930-643462633139
DTSTAMP:20260425T035456Z
DESCRIPTION:5/9 VK Lvi Praha B - VK České Budějovice B 0:2 (-12\,-14)
DTSTART;TZID=Europe/Berlin:20240316T140000
DTEND;TZID=Europe/Berlin:20240316T160000
LOCATION:FZŠ Brdičkova\, Brdičkova 1878 Praha - Stodůlky
SUMMARY:CP-U16M-6H: VK Lvi Praha B-VK České Budějovice B
END:VEVENT
BEGIN:VEVENT
UID:35396264-6232-4339-a133-353333373636
DTSTAMP:20260425T035456Z
DESCRIPTION:5/10 TJ Lokomotiva Česká Lípa\, z.s. - Volejbalový sportovní kl
 ub Český Krumlov z.s. 2:0 (19\,12)
DTSTART;TZID=Europe/Berlin:20240316T140000
DTEND;TZID=Europe/Berlin:20240316T160000
LOCATION:ZŠ Lada\, Šluknovská 2904 Česká Lípa
SUMMARY:CP-U16M-6H: TJ Lokomotiva Česká Lípa\, z.s.-Volejbalový sportovní k
 lub Český Krumlov z.s.
END:VEVENT
BEGIN:VEVENT
UID:37653362-6537-4633-b062-303136313564
DTSTAMP:20260425T035456Z
DESCRIPTION:6/11 Nová Paka - SK Volejbal Klatovy 2:1 (17\,-24\,9)
DTSTART;TZID=Europe/Berlin:20240316T150000
DTEND;TZID=Europe/Berlin:20240316T170000
LOCATION:ZŠ Husitská\, O. Číly 1933 Nová Paka
SUMMARY:CP-U16M-6H: Nová Paka-SK Volejbal Klatovy
END:VEVENT
BEGIN:VEVENT
UID:36663863-6533-4532-b739-373631396163
DTSTAMP:20260425T035456Z
DESCRIPTION:6/12 Plzeň - SK PROSEK B 1:2 (22\,-19\,-13)
DTSTART;TZID=Europe/Berlin:20240316T150000
DTEND;TZID=Europe/Berlin:20240316T170000
LOCATION:Bolevecká základní škola ( 18.ZŠ)\, náměstí Odboje 550 Plzeň - Bol
 evec
SUMMARY:CP-U16M-6H: Plzeň-SK PROSEK B
END:VEVENT
BEGIN:VEVENT
UID:39323734-3562-4635-b062-383761393566
DTSTAMP:20260425T035456Z
DESCRIPTION:7/13 VK České Budějovice B - TJ Lokomotiva Česká Lípa\, z.s. 0:
 2 (-20\,-21)
DTSTART;TZID=Europe/Berlin:20240316T160000
DTEND;TZID=Europe/Berlin:20240316T180000
LOCATION:ZŠ Oskara Nedbala České Budějovice\, O. Nedbala 882 České Budějovi
 ce - České Budějovice 2
SUMMARY:CP-U16M-6H: VK České Budějovice B-TJ Lokomotiva Česká Lípa\, z.s.
END:VEVENT
BEGIN:VEVENT
UID:37333064-3865-4537-b832-316237393737
DTSTAMP:20260425T035456Z
DESCRIPTION:7/14 SK Volejbal Klatovy - VK Lvi Praha B 2:1 (-9\,19\,8)
DTSTART;TZID=Europe/Berlin:20240316T160000
DTEND;TZID=Europe/Berlin:20240316T180000
LOCATION:Sportovní hala ZŠ Čapkova\, Čapkova 136 Klatovy - Klatovy V
SUMMARY:CP-U16M-6H: SK Volejbal Klatovy-VK Lvi Praha B
END:VEVENT
BEGIN:VEVENT
UID:33633238-3734-4661-b263-633434346162
DTSTAMP:20260425T035456Z
DESCRIPTION:8/15 Volejbalový sportovní klub Český Krumlov z.s. - Plzeň 2:1 
 (23\,-13\,9)
DTSTART;TZID=Europe/Berlin:20240316T170000
DTEND;TZID=Europe/Berlin:20240316T190000
LOCATION:ZŠ Za Nádražím Český Krumlov\, Za Nádražím 222 Český Krumlov - Nád
 ražní Předměstí
SUMMARY:CP-U16M-6H: Volejbalový sportovní klub Český Krumlov z.s.-Plzeň
END:VEVENT
BEGIN:VEVENT
UID:62343634-3139-4261-b964-666338393234
DTSTAMP:20260425T035456Z
DESCRIPTION:8/16 SK PROSEK B - Nová Paka 1:2 (-22\,19\,-7)
DTSTART;TZID=Europe/Berlin:20240316T170000
DTEND;TZID=Europe/Berlin:20240316T190000
LOCATION:SH SK Prosek\, Lovosická 559 Praha - Letňany
SUMMARY:CP-U16M-6H: SK PROSEK B-Nová Paka
END:VEVENT
BEGIN:VEVENT
UID:31336439-3165-4336-b730-373863313432
DTSTAMP:20260425T035456Z
DESCRIPTION:9/17 SK Volejbal Klatovy - VK České Budějovice B 0:2 (-13\,-10)
DTSTART;TZID=Europe/Berlin:20240317T090000
DTEND;TZID=Europe/Berlin:20240317T110000
LOCATION:Sportovní hala ZŠ Čapkova\, Čapkova 136 Klatovy - Klatovy V
SUMMARY:CP-U16M-6H: SK Volejbal Klatovy-VK České Budějovice B
END:VEVENT
BEGIN:VEVENT
UID:62363733-6532-4361-b561-303734326364
DTSTAMP:20260425T035456Z
DESCRIPTION:9/18 Plzeň - TJ Lokomotiva Česká Lípa\, z.s. 0:2 (-14\,-23)
DTSTART;TZID=Europe/Berlin:20240317T090000
DTEND;TZID=Europe/Berlin:20240317T110000
LOCATION:Bolevecká základní škola ( 18.ZŠ)\, náměstí Odboje 550 Plzeň - Bol
 evec
SUMMARY:CP-U16M-6H: Plzeň-TJ Lokomotiva Česká Lípa\, z.s.
END:VEVENT
BEGIN:VEVENT
UID:66386266-3437-4636-b266-643938336464
DTSTAMP:20260425T035456Z
DESCRIPTION:10/19 VK Lvi Praha B - SK PROSEK B 0:2 (-12\,-14)
DTSTART;TZID=Europe/Berlin:20240317T100000
DTEND;TZID=Europe/Berlin:20240317T120000
LOCATION:FZŠ Brdičkova\, Brdičkova 1878 Praha - Stodůlky
SUMMARY:CP-U16M-6H: VK Lvi Praha B-SK PROSEK B
END:VEVENT
BEGIN:VEVENT
UID:31636363-6635-4030-b666-646464386466
DTSTAMP:20260425T035456Z
DESCRIPTION:10/20 Nová Paka - Volejbalový sportovní klub Český Krumlov z.s.
  0:2 (-26\,-22)
DTSTART;TZID=Europe/Berlin:20240317T100000
DTEND;TZID=Europe/Berlin:20240317T120000
LOCATION:ZŠ Husitská\, O. Číly 1933 Nová Paka
SUMMARY:CP-U16M-6H: Nová Paka-Volejbalový sportovní klub Český Krumlov z.s.
END:VEVENT
BEGIN:VEVENT
UID:35306335-6435-4235-b061-623065663464
DTSTAMP:20260425T035456Z
DESCRIPTION:11/21 VK České Budějovice B - Plzeň 1:2 (21\,-12\,-10)
DTSTART;TZID=Europe/Berlin:20240317T110000
DTEND;TZID=Europe/Berlin:20240317T130000
LOCATION:ZŠ Oskara Nedbala České Budějovice\, O. Nedbala 882 České Budějovi
 ce - České Budějovice 2
SUMMARY:CP-U16M-6H: VK České Budějovice B-Plzeň
END:VEVENT
BEGIN:VEVENT
UID:37343237-3234-4338-a438-326338346365
DTSTAMP:20260425T035456Z
DESCRIPTION:11/22 SK PROSEK B - SK Volejbal Klatovy 2:0 (10\,16)
DTSTART;TZID=Europe/Berlin:20240317T110000
DTEND;TZID=Europe/Berlin:20240317T130000
LOCATION:SH SK Prosek\, Lovosická 559 Praha - Letňany
SUMMARY:CP-U16M-6H: SK PROSEK B-SK Volejbal Klatovy
END:VEVENT
BEGIN:VEVENT
UID:36633739-3331-4932-b237-323635316664
DTSTAMP:20260425T035456Z
DESCRIPTION:12/23 TJ Lokomotiva Česká Lípa\, z.s. - Nová Paka 0:2 (-23\,-27
 )
DTSTART;TZID=Europe/Berlin:20240317T120000
DTEND;TZID=Europe/Berlin:20240317T140000
LOCATION:ZŠ Lada\, Šluknovská 2904 Česká Lípa
SUMMARY:CP-U16M-6H: TJ Lokomotiva Česká Lípa\, z.s.-Nová Paka
END:VEVENT
BEGIN:VEVENT
UID:36333430-3166-4233-a631-313538306234
DTSTAMP:20260425T035456Z
DESCRIPTION:12/24 Volejbalový sportovní klub Český Krumlov z.s. - VK Lvi Pr
 aha B 0:2 (-21\,-23)
DTSTART;TZID=Europe/Berlin:20240317T120000
DTEND;TZID=Europe/Berlin:20240317T140000
LOCATION:ZŠ Za Nádražím Český Krumlov\, Za Nádražím 222 Český Krumlov - Nád
 ražní Předměstí
SUMMARY:CP-U16M-6H: Volejbalový sportovní klub Český Krumlov z.s.-VK Lvi Pr
 aha B
END:VEVENT
BEGIN:VEVENT
UID:39646131-6630-4361-a138-663536646633
DTSTAMP:20260425T035456Z
DESCRIPTION:13/25 SK Volejbal Klatovy - Volejbalový sportovní klub Český Kr
 umlov z.s. 2:1 (-24\,21\,1)
DTSTART;TZID=Europe/Berlin:20240317T130000
DTEND;TZID=Europe/Berlin:20240317T150000
LOCATION:Sportovní hala ZŠ Čapkova\, Čapkova 136 Klatovy - Klatovy V
SUMMARY:CP-U16M-6H: SK Volejbal Klatovy-Volejbalový sportovní klub Český Kr
 umlov z.s.
END:VEVENT
BEGIN:VEVENT
UID:34633064-6236-4236-a134-323361666230
DTSTAMP:20260425T035456Z
DESCRIPTION:13/26 VK Lvi Praha B - TJ Lokomotiva Česká Lípa\, z.s. 0:2 (-13
 \,-22)
DTSTART;TZID=Europe/Berlin:20240317T130000
DTEND;TZID=Europe/Berlin:20240317T150000
LOCATION:FZŠ Brdičkova\, Brdičkova 1878 Praha - Stodůlky
SUMMARY:CP-U16M-6H: VK Lvi Praha B-TJ Lokomotiva Česká Lípa\, z.s.
END:VEVENT
BEGIN:VEVENT
UID:66366633-3833-4330-b062-636333613439
DTSTAMP:20260425T035456Z
DESCRIPTION:14/27 SK PROSEK B - VK České Budějovice B 2:0 (18\,15)
DTSTART;TZID=Europe/Berlin:20240317T130000
DTEND;TZID=Europe/Berlin:20240317T150000
LOCATION:SH SK Prosek\, Lovosická 559 Praha - Letňany
SUMMARY:CP-U16M-6H: SK PROSEK B-VK České Budějovice B
END:VEVENT
BEGIN:VEVENT
UID:37326263-3239-4533-b163-376633323238
DTSTAMP:20260425T035456Z
DESCRIPTION:14/28 Nová Paka - Plzeň 2:0 (20\,17)
DTSTART;TZID=Europe/Berlin:20240317T130000
DTEND;TZID=Europe/Berlin:20240317T150000
LOCATION:ZŠ Husitská\, O. Číly 1933 Nová Paka
SUMMARY:CP-U16M-6H: Nová Paka-Plzeň
END:VEVENT
END:VCALENDAR
