BEGIN:VCALENDAR
VERSION:2.0
PRODID:-//JM-U16Z-VIIIE//NONSGML kigkonsult.se iCalcreator 2.41.80//
CALSCALE:GREGORIAN
UID:63313236-3638-4439-a232-376461626636
BEGIN:VEVENT
UID:66653733-6539-4263-a235-373664376231
DTSTAMP:20260421T210132Z
DESCRIPTION:1/1 VOLEJBAL VYŠKOV C - TJ Sokol Jehnice 2:0 (15\,20)
DTSTART;TZID=Europe/Berlin:20240224T090000
DTEND;TZID=Europe/Berlin:20240224T110000
LOCATION:Tělocvična ZŠ Nádražní\, Nádražní 5 Vyškov - Vyškov-Město
SUMMARY:JM-U16Z-VIIIE: VOLEJBAL VYŠKOV C-TJ Sokol Jehnice
END:VEVENT
BEGIN:VEVENT
UID:32386639-6662-4536-b564-333432373430
DTSTAMP:20260421T210132Z
DESCRIPTION:2/2 TJ Agrotec Hustopeče B - ZŠ Milénova B 0:2 (-18\,-18)
DTSTART;TZID=Europe/Berlin:20240224T103000
DTEND;TZID=Europe/Berlin:20240224T123000
LOCATION:Tělocvična ZŠ Nádražní\, Nádražní 5 Vyškov - Vyškov-Město
SUMMARY:JM-U16Z-VIIIE: TJ Agrotec Hustopeče B-ZŠ Milénova B
END:VEVENT
BEGIN:VEVENT
UID:37366438-6532-4566-a566-616162353765
DTSTAMP:20260421T210132Z
DESCRIPTION:3/3 TJ Sokol Jehnice - ZŠ Milénova B 1:2 (22\,-9\,-16)
DTSTART;TZID=Europe/Berlin:20240224T114500
DTEND;TZID=Europe/Berlin:20240224T134500
LOCATION:Tělocvična ZŠ Nádražní\, Nádražní 5 Vyškov - Vyškov-Město
SUMMARY:JM-U16Z-VIIIE: TJ Sokol Jehnice-ZŠ Milénova B
END:VEVENT
BEGIN:VEVENT
UID:63386334-3863-4235-b061-363964303065
DTSTAMP:20260421T210132Z
DESCRIPTION:4/4 VOLEJBAL VYŠKOV C - TJ Agrotec Hustopeče B 2:1 (11\,-13\,7)
DTSTART;TZID=Europe/Berlin:20240224T130000
DTEND;TZID=Europe/Berlin:20240224T150000
LOCATION:Tělocvična ZŠ Nádražní\, Nádražní 5 Vyškov - Vyškov-Město
SUMMARY:JM-U16Z-VIIIE: VOLEJBAL VYŠKOV C-TJ Agrotec Hustopeče B
END:VEVENT
BEGIN:VEVENT
UID:62383065-6136-4132-b235-363031656435
DTSTAMP:20260421T210132Z
DESCRIPTION:5/5 TJ Agrotec Hustopeče B - TJ Sokol Jehnice 2:1 (21\,-18\,5)
DTSTART;TZID=Europe/Berlin:20240224T141500
DTEND;TZID=Europe/Berlin:20240224T161500
LOCATION:Tělocvična ZŠ Nádražní\, Nádražní 5 Vyškov - Vyškov-Město
SUMMARY:JM-U16Z-VIIIE: TJ Agrotec Hustopeče B-TJ Sokol Jehnice
END:VEVENT
BEGIN:VEVENT
UID:39366561-3765-4465-a133-396462613863
DTSTAMP:20260421T210132Z
DESCRIPTION:6/6 ZŠ Milénova B - VOLEJBAL VYŠKOV C 1:2 (14\,-23\,-9)
DTSTART;TZID=Europe/Berlin:20240224T153000
DTEND;TZID=Europe/Berlin:20240224T173000
LOCATION:Tělocvična ZŠ Nádražní\, Nádražní 5 Vyškov - Vyškov-Město
SUMMARY:JM-U16Z-VIIIE: ZŠ Milénova B-VOLEJBAL VYŠKOV C
END:VEVENT
END:VCALENDAR
