BEGIN:VCALENDAR
VERSION:2.0
PRODID:-//CP-U16Z-F3F//NONSGML kigkonsult.se iCalcreator 2.41.80//
CALSCALE:GREGORIAN
UID:37613034-3662-4566-b166-653062643631
BEGIN:VEVENT
UID:30353730-6237-4463-b538-336162323565
DTSTAMP:20260424T170918Z
DESCRIPTION:1/1 SK Španielka Řepy - Žatec 2:0 (13\,25)
DTSTART;TZID=Europe/Berlin:20240316T090000
DTEND;TZID=Europe/Berlin:20240316T110000
LOCATION:Tělocvična ZŠ\, Španielova 1111 Praha - Řepy
SUMMARY:CP-U16Z-F3F: SK Španielka Řepy-Žatec
END:VEVENT
BEGIN:VEVENT
UID:62333962-3432-4763-a538-373432636639
DTSTAMP:20260424T170918Z
DESCRIPTION:1/2 VK Raškovice - KP Brno B 2:1 (-22\,21\,12)
DTSTART;TZID=Europe/Berlin:20240316T090000
DTEND;TZID=Europe/Berlin:20240316T110000
LOCATION:Víceúčelová sportovní hala\,  Raškovice18
SUMMARY:CP-U16Z-F3F: VK Raškovice-KP Brno B
END:VEVENT
BEGIN:VEVENT
UID:38386230-3736-4563-b239-373539316438
DTSTAMP:20260424T170918Z
DESCRIPTION:2/3 VoCe - TJ Jičín 1:2 (22\,-23\,-7)
DTSTART;TZID=Europe/Berlin:20240316T101000
DTEND;TZID=Europe/Berlin:20240316T121000
LOCATION:Tělocvična ZŠ Černčice\,  Černčice68
SUMMARY:CP-U16Z-F3F: VoCe-TJ Jičín
END:VEVENT
BEGIN:VEVENT
UID:32313739-3462-4238-a133-386366663932
DTSTAMP:20260424T170918Z
DESCRIPTION:2/4 TJ EMĚ Mělník - SK Meteor Praha 1:2 (32\,-18\,-15)
DTSTART;TZID=Europe/Berlin:20240316T101000
DTEND;TZID=Europe/Berlin:20240316T121000
LOCATION:Tělocvična ZŠ J. Matiegky\, Pražská 2817 Mělník
SUMMARY:CP-U16Z-F3F: TJ EMĚ Mělník-SK Meteor Praha
END:VEVENT
BEGIN:VEVENT
UID:33353339-3037-4462-a533-393661346538
DTSTAMP:20260424T170918Z
DESCRIPTION:3/5 Žatec - SK Meteor Praha 0:2 (-20\,-16)
DTSTART;TZID=Europe/Berlin:20240316T112000
DTEND;TZID=Europe/Berlin:20240316T132000
LOCATION:Sportovní hala TJ Sever Žatec\, Plzeňská 2787 Žatec
SUMMARY:CP-U16Z-F3F: Žatec-SK Meteor Praha
END:VEVENT
BEGIN:VEVENT
UID:64646561-6431-4830-b064-376263613763
DTSTAMP:20260424T170918Z
DESCRIPTION:3/6 VK Raškovice - VoCe 2:0 (21\,15)
DTSTART;TZID=Europe/Berlin:20240316T112000
DTEND;TZID=Europe/Berlin:20240316T132000
LOCATION:Víceúčelová sportovní hala\,  Raškovice18
SUMMARY:CP-U16Z-F3F: VK Raškovice-VoCe
END:VEVENT
BEGIN:VEVENT
UID:63646339-3530-4535-a165-616132363563
DTSTAMP:20260424T170918Z
DESCRIPTION:4/7 KP Brno B - SK Španielka Řepy 0:2 (-22\,-16)
DTSTART;TZID=Europe/Berlin:20240316T123000
DTEND;TZID=Europe/Berlin:20240316T143000
LOCATION:Sportovní gymnázium Ludvíka Daňka\, Botanická 63 Brno - Ponava
SUMMARY:CP-U16Z-F3F: KP Brno B-SK Španielka Řepy
END:VEVENT
BEGIN:VEVENT
UID:64373233-3136-4566-b030-393931616239
DTSTAMP:20260424T170918Z
DESCRIPTION:4/8 TJ EMĚ Mělník - TJ Jičín 2:0 (22\,17)
DTSTART;TZID=Europe/Berlin:20240316T123000
DTEND;TZID=Europe/Berlin:20240316T143000
LOCATION:Tělocvična ZŠ J. Matiegky\, Pražská 2817 Mělník
SUMMARY:CP-U16Z-F3F: TJ EMĚ Mělník-TJ Jičín
END:VEVENT
BEGIN:VEVENT
UID:31343139-3465-4539-b137-623132333739
DTSTAMP:20260424T170918Z
DESCRIPTION:5/9 TJ Jičín - Žatec 2:0 (21\,21)
DTSTART;TZID=Europe/Berlin:20240316T134000
DTEND;TZID=Europe/Berlin:20240316T154000
LOCATION:hala Masarykovy obchodní akademie\, 17. listopadu 220 Jičín - Vald
 ické Předměstí
SUMMARY:CP-U16Z-F3F: TJ Jičín-Žatec
END:VEVENT
BEGIN:VEVENT
UID:63353463-6165-4363-b536-646231666639
DTSTAMP:20260424T170918Z
DESCRIPTION:5/10 VK Raškovice - TJ EMĚ Mělník 0:2 (-17\,-20)
DTSTART;TZID=Europe/Berlin:20240316T134000
DTEND;TZID=Europe/Berlin:20240316T154000
LOCATION:Víceúčelová sportovní hala\,  Raškovice18
SUMMARY:CP-U16Z-F3F: VK Raškovice-TJ EMĚ Mělník
END:VEVENT
BEGIN:VEVENT
UID:38346466-3265-4935-b835-643731313937
DTSTAMP:20260424T170918Z
DESCRIPTION:6/11 KP Brno B - VoCe 2:0 (24\,16)
DTSTART;TZID=Europe/Berlin:20240316T145000
DTEND;TZID=Europe/Berlin:20240316T165000
LOCATION:Sportovní gymnázium Ludvíka Daňka\, Botanická 63 Brno - Ponava
SUMMARY:CP-U16Z-F3F: KP Brno B-VoCe
END:VEVENT
BEGIN:VEVENT
UID:66616231-6339-4535-b938-653463323036
DTSTAMP:20260424T170918Z
DESCRIPTION:6/12 SK Meteor Praha - SK Španielka Řepy 1:2 (-16\,19\,-11)
DTSTART;TZID=Europe/Berlin:20240316T145000
DTEND;TZID=Europe/Berlin:20240316T165000
LOCATION:ZŠ Žernosecká\, Žernosecká 1597 Praha - Kobylisy
SUMMARY:CP-U16Z-F3F: SK Meteor Praha-SK Španielka Řepy
END:VEVENT
BEGIN:VEVENT
UID:61396465-6136-4264-a336-623763333736
DTSTAMP:20260424T170918Z
DESCRIPTION:7/13 VoCe - SK Španielka Řepy 0:2 (-18\,-19)
DTSTART;TZID=Europe/Berlin:20240316T160000
DTEND;TZID=Europe/Berlin:20240316T180000
LOCATION:Tělocvična ZŠ Černčice\,  Černčice68
SUMMARY:CP-U16Z-F3F: VoCe-SK Španielka Řepy
END:VEVENT
BEGIN:VEVENT
UID:33663766-3666-4965-a238-313463306562
DTSTAMP:20260424T170918Z
DESCRIPTION:7/14 TJ Jičín - SK Meteor Praha 2:0 (16\,20)
DTSTART;TZID=Europe/Berlin:20240316T160000
DTEND;TZID=Europe/Berlin:20240316T180000
LOCATION:hala Masarykovy obchodní akademie\, 17. listopadu 220 Jičín - Vald
 ické Předměstí
SUMMARY:CP-U16Z-F3F: TJ Jičín-SK Meteor Praha
END:VEVENT
BEGIN:VEVENT
UID:63643762-3265-4138-b635-363264643464
DTSTAMP:20260424T170918Z
DESCRIPTION:8/15 Žatec - VK Raškovice 1:2 (-21\,21\,-13)
DTSTART;TZID=Europe/Berlin:20240316T171000
DTEND;TZID=Europe/Berlin:20240316T191000
LOCATION:Sportovní hala TJ Sever Žatec\, Plzeňská 2787 Žatec
SUMMARY:CP-U16Z-F3F: Žatec-VK Raškovice
END:VEVENT
BEGIN:VEVENT
UID:66653865-6162-4138-a238-333438336361
DTSTAMP:20260424T170918Z
DESCRIPTION:8/16 KP Brno B - TJ EMĚ Mělník 1:2 (-15\,20\,-7)
DTSTART;TZID=Europe/Berlin:20240316T171000
DTEND;TZID=Europe/Berlin:20240316T191000
LOCATION:Sportovní gymnázium Ludvíka Daňka\, Botanická 63 Brno - Ponava
SUMMARY:CP-U16Z-F3F: KP Brno B-TJ EMĚ Mělník
END:VEVENT
BEGIN:VEVENT
UID:63363732-6235-4762-a431-656132376631
DTSTAMP:20260424T170918Z
DESCRIPTION:9/17 VK Raškovice - TJ Jičín 1:2 (23\,-13\,-7)
DTSTART;TZID=Europe/Berlin:20240316T182000
DTEND;TZID=Europe/Berlin:20240316T202000
LOCATION:Víceúčelová sportovní hala\,  Raškovice18
SUMMARY:CP-U16Z-F3F: VK Raškovice-TJ Jičín
END:VEVENT
BEGIN:VEVENT
UID:35343835-3536-4164-b338-633063656635
DTSTAMP:20260424T170918Z
DESCRIPTION:9/18 KP Brno B - SK Meteor Praha 2:1 (-23\,23\,8)
DTSTART;TZID=Europe/Berlin:20240316T182000
DTEND;TZID=Europe/Berlin:20240316T202000
LOCATION:Sportovní gymnázium Ludvíka Daňka\, Botanická 63 Brno - Ponava
SUMMARY:CP-U16Z-F3F: KP Brno B-SK Meteor Praha
END:VEVENT
BEGIN:VEVENT
UID:66346137-6163-4133-b466-376131616434
DTSTAMP:20260424T170918Z
DESCRIPTION:10/19 TJ Jičín - SK Španielka Řepy 2:1 (-24\,24\,9)
DTSTART;TZID=Europe/Berlin:20240317T090000
DTEND;TZID=Europe/Berlin:20240317T110000
LOCATION:hala Masarykovy obchodní akademie\, 17. listopadu 220 Jičín - Vald
 ické Předměstí
SUMMARY:CP-U16Z-F3F: TJ Jičín-SK Španielka Řepy
END:VEVENT
BEGIN:VEVENT
UID:35636132-3934-4364-a264-323061346538
DTSTAMP:20260424T170918Z
DESCRIPTION:10/20 VK Raškovice - SK Meteor Praha 2:1 (20\,-14\,10)
DTSTART;TZID=Europe/Berlin:20240317T090000
DTEND;TZID=Europe/Berlin:20240317T110000
LOCATION:Víceúčelová sportovní hala\,  Raškovice18
SUMMARY:CP-U16Z-F3F: VK Raškovice-SK Meteor Praha
END:VEVENT
BEGIN:VEVENT
UID:64616661-3730-4666-b834-373733656230
DTSTAMP:20260424T170918Z
DESCRIPTION:11/21 KP Brno B - Žatec 1:2 (22\,-24\,-16)
DTSTART;TZID=Europe/Berlin:20240317T101000
DTEND;TZID=Europe/Berlin:20240317T121000
LOCATION:Sportovní gymnázium Ludvíka Daňka\, Botanická 63 Brno - Ponava
SUMMARY:CP-U16Z-F3F: KP Brno B-Žatec
END:VEVENT
BEGIN:VEVENT
UID:66383039-3734-4831-b862-616463633738
DTSTAMP:20260424T170918Z
DESCRIPTION:11/22 VK Raškovice - SK Španielka Řepy 1:2 (-14\,16\,-14)
DTSTART;TZID=Europe/Berlin:20240317T101000
DTEND;TZID=Europe/Berlin:20240317T121000
LOCATION:Víceúčelová sportovní hala\,  Raškovice18
SUMMARY:CP-U16Z-F3F: VK Raškovice-SK Španielka Řepy
END:VEVENT
BEGIN:VEVENT
UID:38373333-3362-4366-b038-653362396337
DTSTAMP:20260424T170918Z
DESCRIPTION:12/23 VoCe - TJ EMĚ Mělník 2:1 (24\,-23\,11)
DTSTART;TZID=Europe/Berlin:20240317T112000
DTEND;TZID=Europe/Berlin:20240317T132000
LOCATION:Tělocvična ZŠ Černčice\,  Černčice68
SUMMARY:CP-U16Z-F3F: VoCe-TJ EMĚ Mělník
END:VEVENT
BEGIN:VEVENT
UID:65306161-3963-4233-b735-376363306531
DTSTAMP:20260424T170918Z
DESCRIPTION:12/24 KP Brno B - TJ Jičín 1:2 (22\,-23\,-7)
DTSTART;TZID=Europe/Berlin:20240317T112000
DTEND;TZID=Europe/Berlin:20240317T132000
LOCATION:Sportovní gymnázium Ludvíka Daňka\, Botanická 63 Brno - Ponava
SUMMARY:CP-U16Z-F3F: KP Brno B-TJ Jičín
END:VEVENT
BEGIN:VEVENT
UID:36313564-3132-4162-b939-316235383933
DTSTAMP:20260424T170918Z
DESCRIPTION:13/25 TJ EMĚ Mělník - Žatec 2:1 (21\,-19\,15)
DTSTART;TZID=Europe/Berlin:20240317T123000
DTEND;TZID=Europe/Berlin:20240317T143000
LOCATION:Tělocvična ZŠ J. Matiegky\, Pražská 2817 Mělník
SUMMARY:CP-U16Z-F3F: TJ EMĚ Mělník-Žatec
END:VEVENT
BEGIN:VEVENT
UID:30376136-6436-4263-b435-353930393362
DTSTAMP:20260424T170918Z
DESCRIPTION:13/26 VoCe - SK Meteor Praha 0:2 (-15\,-22)
DTSTART;TZID=Europe/Berlin:20240317T123000
DTEND;TZID=Europe/Berlin:20240317T143000
LOCATION:Tělocvična ZŠ Černčice\,  Černčice68
SUMMARY:CP-U16Z-F3F: VoCe-SK Meteor Praha
END:VEVENT
BEGIN:VEVENT
UID:38623264-3263-4630-a138-353139356439
DTSTAMP:20260424T170918Z
DESCRIPTION:14/27 Žatec - VoCe 0:2 (-20\,-23)
DTSTART;TZID=Europe/Berlin:20240317T134000
DTEND;TZID=Europe/Berlin:20240317T154000
LOCATION:Sportovní hala TJ Sever Žatec\, Plzeňská 2787 Žatec
SUMMARY:CP-U16Z-F3F: Žatec-VoCe
END:VEVENT
BEGIN:VEVENT
UID:63306164-3537-4732-a537-373530366532
DTSTAMP:20260424T170918Z
DESCRIPTION:14/28 TJ EMĚ Mělník - SK Španielka Řepy 2:0 (24\,22)
DTSTART;TZID=Europe/Berlin:20240317T134000
DTEND;TZID=Europe/Berlin:20240317T154000
LOCATION:Tělocvična ZŠ J. Matiegky\, Pražská 2817 Mělník
SUMMARY:CP-U16Z-F3F: TJ EMĚ Mělník-SK Španielka Řepy
END:VEVENT
END:VCALENDAR
