BEGIN:VCALENDAR
VERSION:2.0
PRODID:-//MCR-U14Z-1J//NONSGML kigkonsult.se iCalcreator 2.41.80//
CALSCALE:GREGORIAN
UID:31383664-6331-4337-b332-396661303431
BEGIN:VEVENT
UID:33626338-3163-4966-b033-353737323237
DTSTAMP:20260421T210112Z
DESCRIPTION:1/1 U. Hradiště - Loko Břeclav 0:2 (-12\,-10)
DTSTART;TZID=Europe/Berlin:20240323T090000
DTEND;TZID=Europe/Berlin:20240323T110000
LOCATION:Městská sportovní hala\, Stonky 860 Uherské Hradiště
SUMMARY:MCR-U14Z-1J: U. Hradiště-Loko Břeclav
END:VEVENT
BEGIN:VEVENT
UID:37316330-6466-4434-a631-393666396130
DTSTAMP:20260421T210112Z
DESCRIPTION:1/2 Žďár n.S. - Šlapanice 2:0 (11\,10)
DTSTART;TZID=Europe/Berlin:20240323T090000
DTEND;TZID=Europe/Berlin:20240323T110000
LOCATION:ZŠ Palachova\, Palachova 1757 Žďár nad Sázavou - Žďár nad Sázavou 
 6
SUMMARY:MCR-U14Z-1J: Žďár n.S.-Šlapanice
END:VEVENT
BEGIN:VEVENT
UID:32366531-6137-4264-a565-306339323765
DTSTAMP:20260421T210112Z
DESCRIPTION:1/3 Volejbal Přerov - Staré Město 2:0 (10\,16)
DTSTART;TZID=Europe/Berlin:20240323T090000
DTEND;TZID=Europe/Berlin:20240323T110000
LOCATION:Městská sportovní hala\, Petřivalského 2884 Přerov - Přerov I-Měst
 o
SUMMARY:MCR-U14Z-1J: Volejbal Přerov-Staré Město
END:VEVENT
BEGIN:VEVENT
UID:37653466-6437-4037-b436-643733353764
DTSTAMP:20260421T210112Z
DESCRIPTION:2/4 Žďár n.S. - Staré Město 2:0 (23\,17)
DTSTART;TZID=Europe/Berlin:20240323T101500
DTEND;TZID=Europe/Berlin:20240323T121500
LOCATION:ZŠ Palachova\, Palachova 1757 Žďár nad Sázavou - Žďár nad Sázavou 
 6
SUMMARY:MCR-U14Z-1J: Žďár n.S.-Staré Město
END:VEVENT
BEGIN:VEVENT
UID:65376632-3166-4136-a662-656364643630
DTSTAMP:20260421T210112Z
DESCRIPTION:2/5 Frýdek - Místek - U. Hradiště 2:0 (11\,16)
DTSTART;TZID=Europe/Berlin:20240323T101500
DTEND;TZID=Europe/Berlin:20240323T121500
LOCATION:ZŠ 1.máje 1700 Frýdek-Místek\, 1. máje 1700 Frýdek-Místek - Místek
SUMMARY:MCR-U14Z-1J: Frýdek - Místek-U. Hradiště
END:VEVENT
BEGIN:VEVENT
UID:65346136-3539-4535-b432-663534663139
DTSTAMP:20260421T210112Z
DESCRIPTION:2/6 Lanškroun - Volejbal Přerov 2:0 (4\,13)
DTSTART;TZID=Europe/Berlin:20240323T101500
DTEND;TZID=Europe/Berlin:20240323T121500
LOCATION:SOŠ a SOU Lanškroun\, Sokolská 288 Lanškroun - Ostrovské Předměstí
SUMMARY:MCR-U14Z-1J: Lanškroun-Volejbal Přerov
END:VEVENT
BEGIN:VEVENT
UID:37393162-3431-4665-b964-383036313663
DTSTAMP:20260421T210112Z
DESCRIPTION:3/7 Lanškroun - Loko Břeclav 2:0 (7\,21)
DTSTART;TZID=Europe/Berlin:20240323T113000
DTEND;TZID=Europe/Berlin:20240323T133000
LOCATION:SOŠ a SOU Lanškroun\, Sokolská 288 Lanškroun - Ostrovské Předměstí
SUMMARY:MCR-U14Z-1J: Lanškroun-Loko Břeclav
END:VEVENT
BEGIN:VEVENT
UID:66363238-6434-4130-b166-643838666137
DTSTAMP:20260421T210112Z
DESCRIPTION:3/8 Šlapanice - Frýdek - Místek 0:2 (-8\,-25)
DTSTART;TZID=Europe/Berlin:20240323T113000
DTEND;TZID=Europe/Berlin:20240323T133000
LOCATION:Tělocvična ZŠ Šlapanice\, Masarykovo náměstí 1594 Šlapanice
SUMMARY:MCR-U14Z-1J: Šlapanice-Frýdek - Místek
END:VEVENT
BEGIN:VEVENT
UID:35653361-3339-4834-a263-613731373965
DTSTAMP:20260421T210112Z
DESCRIPTION:4/9 Šlapanice - Staré Město 0:2 (-8\,-8)
DTSTART;TZID=Europe/Berlin:20240323T124500
DTEND;TZID=Europe/Berlin:20240323T144500
LOCATION:Tělocvična ZŠ Šlapanice\, Masarykovo náměstí 1594 Šlapanice
SUMMARY:MCR-U14Z-1J: Šlapanice-Staré Město
END:VEVENT
BEGIN:VEVENT
UID:65363632-6165-4835-a264-653565353666
DTSTAMP:20260421T210112Z
DESCRIPTION:4/10 U. Hradiště - Volejbal Přerov 0:2 (-17\,-16)
DTSTART;TZID=Europe/Berlin:20240323T124500
DTEND;TZID=Europe/Berlin:20240323T144500
LOCATION:Městská sportovní hala\, Stonky 860 Uherské Hradiště
SUMMARY:MCR-U14Z-1J: U. Hradiště-Volejbal Přerov
END:VEVENT
BEGIN:VEVENT
UID:30336462-3435-4432-b631-316233386331
DTSTAMP:20260421T210112Z
DESCRIPTION:5/11 Žďár n.S. - Lanškroun 0:2 (-7\,-12)
DTSTART;TZID=Europe/Berlin:20240323T143000
DTEND;TZID=Europe/Berlin:20240323T163000
LOCATION:ZŠ Palachova\, Palachova 1757 Žďár nad Sázavou - Žďár nad Sázavou 
 6
SUMMARY:MCR-U14Z-1J: Žďár n.S.-Lanškroun
END:VEVENT
BEGIN:VEVENT
UID:36623964-3233-4432-a664-393135646638
DTSTAMP:20260421T210112Z
DESCRIPTION:5/12 Frýdek - Místek - Loko Břeclav 1:2 (16\,-18\,-6)
DTSTART;TZID=Europe/Berlin:20240323T143000
DTEND;TZID=Europe/Berlin:20240323T163000
LOCATION:ZŠ 1.máje 1700 Frýdek-Místek\, 1. máje 1700 Frýdek-Místek - Místek
SUMMARY:MCR-U14Z-1J: Frýdek - Místek-Loko Břeclav
END:VEVENT
BEGIN:VEVENT
UID:63613937-3532-4537-b734-666266313462
DTSTAMP:20260421T210112Z
DESCRIPTION:6/13 Staré Město - Frýdek - Místek 1:2 (-23\,25\,-10)
DTSTART;TZID=Europe/Berlin:20240323T154500
DTEND;TZID=Europe/Berlin:20240323T174500
LOCATION:Městská sportovní hala Širůch\, Nad Hřištěm 1921 Staré Město
SUMMARY:MCR-U14Z-1J: Staré Město-Frýdek - Místek
END:VEVENT
BEGIN:VEVENT
UID:32396664-3931-4032-a666-663330376533
DTSTAMP:20260421T210112Z
DESCRIPTION:6/14 Loko Břeclav - Volejbal Přerov 0:2 (-21\,-20)
DTSTART;TZID=Europe/Berlin:20240323T154500
DTEND;TZID=Europe/Berlin:20240323T174500
LOCATION:TJ Lokomotiva Břeclav\, Veslařská 2753 Břeclav
SUMMARY:MCR-U14Z-1J: Loko Břeclav-Volejbal Přerov
END:VEVENT
BEGIN:VEVENT
UID:38613065-6438-4662-a462-623763353563
DTSTAMP:20260421T210112Z
DESCRIPTION:7/15 Šlapanice - Lanškroun 0:2 (-7\,-11)
DTSTART;TZID=Europe/Berlin:20240323T170000
DTEND;TZID=Europe/Berlin:20240323T190000
LOCATION:Tělocvična ZŠ Šlapanice\, Masarykovo náměstí 1594 Šlapanice
SUMMARY:MCR-U14Z-1J: Šlapanice-Lanškroun
END:VEVENT
BEGIN:VEVENT
UID:32353964-6335-4031-b962-306432613036
DTSTAMP:20260421T210112Z
DESCRIPTION:7/16 Staré Město - U. Hradiště 2:1 (23\,-21\,15)
DTSTART;TZID=Europe/Berlin:20240323T170000
DTEND;TZID=Europe/Berlin:20240323T190000
LOCATION:Městská sportovní hala Širůch\, Nad Hřištěm 1921 Staré Město
SUMMARY:MCR-U14Z-1J: Staré Město-U. Hradiště
END:VEVENT
BEGIN:VEVENT
UID:33636665-6364-4834-b662-333337303261
DTSTAMP:20260421T210112Z
DESCRIPTION:7/17 Volejbal Přerov - Žďár n.S. 2:0 (15\,19)
DTSTART;TZID=Europe/Berlin:20240323T170000
DTEND;TZID=Europe/Berlin:20240323T190000
LOCATION:Městská sportovní hala\, Petřivalského 2884 Přerov - Přerov I-Měst
 o
SUMMARY:MCR-U14Z-1J: Volejbal Přerov-Žďár n.S.
END:VEVENT
BEGIN:VEVENT
UID:30326137-3032-4830-a666-653062353230
DTSTAMP:20260421T210112Z
DESCRIPTION:8/18 Lanškroun - Frýdek - Místek 2:0 (25\,10)
DTSTART;TZID=Europe/Berlin:20240323T181500
DTEND;TZID=Europe/Berlin:20240323T201500
LOCATION:SOŠ a SOU Lanškroun\, Sokolská 288 Lanškroun - Ostrovské Předměstí
SUMMARY:MCR-U14Z-1J: Lanškroun-Frýdek - Místek
END:VEVENT
BEGIN:VEVENT
UID:34663533-3632-4532-b436-303539623462
DTSTAMP:20260421T210112Z
DESCRIPTION:8/19 U. Hradiště - Žďár n.S. 0:2 (-16\,-15)
DTSTART;TZID=Europe/Berlin:20240323T181500
DTEND;TZID=Europe/Berlin:20240323T201500
LOCATION:Městská sportovní hala\, Stonky 860 Uherské Hradiště
SUMMARY:MCR-U14Z-1J: U. Hradiště-Žďár n.S.
END:VEVENT
BEGIN:VEVENT
UID:39303536-3337-4162-a263-626433343334
DTSTAMP:20260421T210112Z
DESCRIPTION:8/20 Loko Břeclav - Šlapanice 2:0 (5\,11)
DTSTART;TZID=Europe/Berlin:20240323T181500
DTEND;TZID=Europe/Berlin:20240323T201500
LOCATION:TJ Lokomotiva Břeclav\, Veslařská 2753 Břeclav
SUMMARY:MCR-U14Z-1J: Loko Břeclav-Šlapanice
END:VEVENT
BEGIN:VEVENT
UID:32653139-3533-4638-b962-333839626265
DTSTAMP:20260421T210112Z
DESCRIPTION:9/21 Lanškroun - U. Hradiště 2:0 (9\,11)
DTSTART;TZID=Europe/Berlin:20240324T090000
DTEND;TZID=Europe/Berlin:20240324T110000
LOCATION:SOŠ a SOU Lanškroun\, Sokolská 288 Lanškroun - Ostrovské Předměstí
SUMMARY:MCR-U14Z-1J: Lanškroun-U. Hradiště
END:VEVENT
BEGIN:VEVENT
UID:33363933-6137-4565-b335-356233343831
DTSTAMP:20260421T210112Z
DESCRIPTION:9/22 Staré Město - Loko Břeclav 0:2 (-15\,-16)
DTSTART;TZID=Europe/Berlin:20240324T090000
DTEND;TZID=Europe/Berlin:20240324T110000
LOCATION:Městská sportovní hala Širůch\, Nad Hřištěm 1921 Staré Město
SUMMARY:MCR-U14Z-1J: Staré Město-Loko Břeclav
END:VEVENT
BEGIN:VEVENT
UID:65636338-6638-4336-b335-326538616565
DTSTAMP:20260421T210112Z
DESCRIPTION:9/23 Volejbal Přerov - Šlapanice 2:0 (16\,14)
DTSTART;TZID=Europe/Berlin:20240324T090000
DTEND;TZID=Europe/Berlin:20240324T110000
LOCATION:Městská sportovní hala\, Petřivalského 2884 Přerov - Přerov I-Měst
 o
SUMMARY:MCR-U14Z-1J: Volejbal Přerov-Šlapanice
END:VEVENT
BEGIN:VEVENT
UID:32386361-3936-4163-b066-393335396630
DTSTAMP:20260421T210112Z
DESCRIPTION:10/24 Frýdek - Místek - Žďár n.S. 2:0 (19\,17)
DTSTART;TZID=Europe/Berlin:20240324T101500
DTEND;TZID=Europe/Berlin:20240324T121500
LOCATION:ZŠ 1.máje 1700 Frýdek-Místek\, 1. máje 1700 Frýdek-Místek - Místek
SUMMARY:MCR-U14Z-1J: Frýdek - Místek-Žďár n.S.
END:VEVENT
BEGIN:VEVENT
UID:37666136-3237-4165-b838-373539313566
DTSTAMP:20260421T210112Z
DESCRIPTION:10/25 Šlapanice - U. Hradiště 0:2 (-16\,-19)
DTSTART;TZID=Europe/Berlin:20240324T101500
DTEND;TZID=Europe/Berlin:20240324T121500
LOCATION:Tělocvična ZŠ Šlapanice\, Masarykovo náměstí 1594 Šlapanice
SUMMARY:MCR-U14Z-1J: Šlapanice-U. Hradiště
END:VEVENT
BEGIN:VEVENT
UID:62653266-3334-4037-a364-373630353562
DTSTAMP:20260421T210112Z
DESCRIPTION:10/26 Staré Město - Lanškroun 0:2 (-12\,-9)
DTSTART;TZID=Europe/Berlin:20240324T101500
DTEND;TZID=Europe/Berlin:20240324T121500
LOCATION:Městská sportovní hala Širůch\, Nad Hřištěm 1921 Staré Město
SUMMARY:MCR-U14Z-1J: Staré Město-Lanškroun
END:VEVENT
BEGIN:VEVENT
UID:62656331-3032-4030-b036-643064376666
DTSTAMP:20260421T210112Z
DESCRIPTION:11/27 Loko Břeclav - Žďár n.S. 2:0 (11\,17)
DTSTART;TZID=Europe/Berlin:20240324T113000
DTEND;TZID=Europe/Berlin:20240324T133000
LOCATION:TJ Lokomotiva Břeclav\, Veslařská 2753 Břeclav
SUMMARY:MCR-U14Z-1J: Loko Břeclav-Žďár n.S.
END:VEVENT
BEGIN:VEVENT
UID:32653136-6334-4464-b735-613031663435
DTSTAMP:20260421T210112Z
DESCRIPTION:11/28 Frýdek - Místek - Volejbal Přerov 2:1 (-21\,23\,10)
DTSTART;TZID=Europe/Berlin:20240324T113000
DTEND;TZID=Europe/Berlin:20240324T133000
LOCATION:ZŠ 1.máje 1700 Frýdek-Místek\, 1. máje 1700 Frýdek-Místek - Místek
SUMMARY:MCR-U14Z-1J: Frýdek - Místek-Volejbal Přerov
END:VEVENT
END:VCALENDAR
