BEGIN:VCALENDAR
VERSION:2.0
PRODID:-//MCR-U14Z-1EB//NONSGML kigkonsult.se iCalcreator 2.41.80//
CALSCALE:GREGORIAN
UID:32366163-6132-4438-b466-643839363134
BEGIN:VEVENT
UID:63376662-3936-4261-b136-353130356130
DTSTAMP:20260421T210036Z
DESCRIPTION:1/1 Volejbal Ústí n. L. - Jablonec n/N 2:0 (19\,20)\nmalá hala
DTSTART;TZID=Europe/Berlin:20240323T090000
DTEND;TZID=Europe/Berlin:20240323T110000
LOCATION:Tělocvična Gymnázia a Střední odborné školy dr. Václava Šmejkala\,
  Stará 3299 Ústí nad Labem - Severní Terasa
SUMMARY:MCR-U14Z-1EB: Volejbal Ústí n. L.-Jablonec n/N
END:VEVENT
BEGIN:VEVENT
UID:34343563-3033-4065-a133-626532663731
DTSTAMP:20260421T210036Z
DESCRIPTION:2/2 Slavia Plzeň - Jablonec n/N 2:0 (23\,20)\nmalá hala
DTSTART;TZID=Europe/Berlin:20240323T102000
DTEND;TZID=Europe/Berlin:20240323T122000
LOCATION:Tělocvična 15.ZŠ\, Terezie Brzkové 863 Plzeň - Skvrňany
SUMMARY:MCR-U14Z-1EB: Slavia Plzeň-Jablonec n/N
END:VEVENT
BEGIN:VEVENT
UID:32613662-3763-4566-a364-356632306135
DTSTAMP:20260421T210036Z
DESCRIPTION:3/3 Volejbal Ústí n. L. - Slavia Plzeň 2:1 (15\,-20\,9)\nmalá h
 ala
DTSTART;TZID=Europe/Berlin:20240323T114000
DTEND;TZID=Europe/Berlin:20240323T134000
LOCATION:Tělocvična Gymnázia a Střední odborné školy dr. Václava Šmejkala\,
  Stará 3299 Ústí nad Labem - Severní Terasa
SUMMARY:MCR-U14Z-1EB: Volejbal Ústí n. L.-Slavia Plzeň
END:VEVENT
END:VCALENDAR
