BEGIN:VCALENDAR
VERSION:2.0
PRODID:-//MCR-U14Z-1E3//NONSGML kigkonsult.se iCalcreator 2.41.80//
CALSCALE:GREGORIAN
UID:66373666-3864-4537-b364-663763663533
BEGIN:VEVENT
UID:66646265-6330-4332-b932-663936653531
DTSTAMP:20260421T223121Z
DESCRIPTION:1/1 Slavia Plzeň - Volejbal Ústí n. L. 0:2 (-23\,-20)\nvelká ha
 la
DTSTART;TZID=Europe/Berlin:20240324T114000
DTEND;TZID=Europe/Berlin:20240324T134000
LOCATION:Tělocvična 15.ZŠ\, Terezie Brzkové 863 Plzeň - Skvrňany
SUMMARY:MCR-U14Z-1E3: Slavia Plzeň-Volejbal Ústí n. L.
END:VEVENT
BEGIN:VEVENT
UID:63386461-6533-4366-a562-643939313431
DTSTAMP:20260421T223121Z
DESCRIPTION:2/2 Volejbal Ústí n. L. - Jablonec n/N 2:0 (15\,11)\nmalá hala
DTSTART;TZID=Europe/Berlin:20240324T130000
DTEND;TZID=Europe/Berlin:20240324T150000
LOCATION:Tělocvična Gymnázia a Střední odborné školy dr. Václava Šmejkala\,
  Stará 3299 Ústí nad Labem - Severní Terasa
SUMMARY:MCR-U14Z-1E3: Volejbal Ústí n. L.-Jablonec n/N
END:VEVENT
BEGIN:VEVENT
UID:36316164-6636-4865-b539-336539353337
DTSTAMP:20260421T223121Z
DESCRIPTION:3/3 Slavia Plzeň - Jablonec n/N 2:0 (15\,14)\nvelká hala
DTSTART;TZID=Europe/Berlin:20240324T140000
DTEND;TZID=Europe/Berlin:20240324T160000
LOCATION:Tělocvična 15.ZŠ\, Terezie Brzkové 863 Plzeň - Skvrňany
SUMMARY:MCR-U14Z-1E3: Slavia Plzeň-Jablonec n/N
END:VEVENT
END:VCALENDAR
