BEGIN:VCALENDAR
VERSION:2.0
PRODID:-//MCR-U14Z-1G2//NONSGML kigkonsult.se iCalcreator 2.41.80//
CALSCALE:GREGORIAN
UID:32653638-3161-4230-b762-326362316566
BEGIN:VEVENT
UID:65633439-3939-4539-b766-356238383739
DTSTAMP:20260421T210102Z
DESCRIPTION:1/1 Volejbal Rudolfov - BVC Chodov 2:0 (15\,11)
DTSTART;TZID=Europe/Berlin:20240324T090000
DTEND;TZID=Europe/Berlin:20240324T110000
LOCATION:Sportovní hala Rudolfov\, Adamovská 511 Rudolfov
SUMMARY:MCR-U14Z-1G2: Volejbal Rudolfov-BVC Chodov
END:VEVENT
BEGIN:VEVENT
UID:62336531-3439-4262-a636-343239333962
DTSTAMP:20260421T210102Z
DESCRIPTION:2/2 BVC Chodov - Mikulovka Praha A 0:2 (-10\,-19)
DTSTART;TZID=Europe/Berlin:20240324T101500
DTEND;TZID=Europe/Berlin:20240324T121500
LOCATION:Městská sportovní hala Chodov\, Tyršova 1201 Chodov
SUMMARY:MCR-U14Z-1G2: BVC Chodov-Mikulovka Praha A
END:VEVENT
BEGIN:VEVENT
UID:35393363-3334-4564-a366-666161303334
DTSTAMP:20260421T210102Z
DESCRIPTION:3/3 Mikulovka Praha A - Volejbal Rudolfov 2:0 (21\,18)
DTSTART;TZID=Europe/Berlin:20240324T113000
DTEND;TZID=Europe/Berlin:20240324T133000
LOCATION:tělocvičny ZŠ Mikulova\, Mikulova 1594 Praha - Chodov
SUMMARY:MCR-U14Z-1G2: Mikulovka Praha A-Volejbal Rudolfov
END:VEVENT
END:VCALENDAR
