BEGIN:VCALENDAR
VERSION:2.0
PRODID:-//MCR-U14MB//NONSGML kigkonsult.se iCalcreator 2.41.80//
CALSCALE:GREGORIAN
UID:34306236-6637-4832-b436-636663623936
BEGIN:VEVENT
UID:66656665-3033-4231-a164-653033323762
DTSTAMP:20260424T075730Z
DESCRIPTION:1/1 Volejbal Ostrava - Volejbalový klub Valašské Meziříčí z.s. 
 2:1 (-22\,21\,11)\nNový Jičín
DTSTART;TZID=Europe/Berlin:20240413T100000
DTEND;TZID=Europe/Berlin:20240413T120000
LOCATION:Sportovní hala Brušperk\, Sportovní 584 Brušperk
SUMMARY:MCR-U14MB: Volejbal Ostrava-Volejbalový klub Valašské Meziříčí z.s.
END:VEVENT
BEGIN:VEVENT
UID:64663233-3761-4161-b337-373732363366
DTSTAMP:20260424T075730Z
DESCRIPTION:2/2 SK Kojetín 2016\, z.s. - Blue Volley Ostrava\, z.s. 2:1 (-2
 2\,22\,9)
DTSTART;TZID=Europe/Berlin:20240413T110000
DTEND;TZID=Europe/Berlin:20240413T130000
LOCATION:, Hanusíkova 1476 Kojetín - Kojetín I-Město
SUMMARY:MCR-U14MB: SK Kojetín 2016\, z.s.-Blue Volley Ostrava\, z.s.
END:VEVENT
BEGIN:VEVENT
UID:66653265-3435-4630-b833-376361653937
DTSTAMP:20260424T075730Z
DESCRIPTION:2/3 Volejbal Ostrava - Volejbalový sportovní klub Staré Město\,
  z.s. 0:2 (-17\,-19)
DTSTART;TZID=Europe/Berlin:20240413T110000
DTEND;TZID=Europe/Berlin:20240413T130000
LOCATION:Sportovní hala Brušperk\, Sportovní 584 Brušperk
SUMMARY:MCR-U14MB: Volejbal Ostrava-Volejbalový sportovní klub Staré Město\
 , z.s.
END:VEVENT
BEGIN:VEVENT
UID:62383631-3161-4139-b130-623139316634
DTSTAMP:20260424T075730Z
DESCRIPTION:3/4 SK Kojetín 2016\, z.s. - Volejbalový klub Valašské Meziříčí
  z.s. 2:1 (-15\,14\,11)
DTSTART;TZID=Europe/Berlin:20240413T120000
DTEND;TZID=Europe/Berlin:20240413T140000
LOCATION:, Hanusíkova 1476 Kojetín - Kojetín I-Město
SUMMARY:MCR-U14MB: SK Kojetín 2016\, z.s.-Volejbalový klub Valašské Meziříč
 í z.s.
END:VEVENT
BEGIN:VEVENT
UID:65626363-3163-4566-b938-396135646538
DTSTAMP:20260424T075730Z
DESCRIPTION:4/5 Volejbalový sportovní klub Staré Město\, z.s. - Blue Volley
  Ostrava\, z.s. 2:1 (-22\,18\,6)
DTSTART;TZID=Europe/Berlin:20240413T130000
DTEND;TZID=Europe/Berlin:20240413T150000
LOCATION:tělocvična ZŠ Staré Město\, Komenského 1720 Staré Město
SUMMARY:MCR-U14MB: Volejbalový sportovní klub Staré Město\, z.s.-Blue Volle
 y Ostrava\, z.s.
END:VEVENT
BEGIN:VEVENT
UID:32323766-6435-4166-b338-306433346236
DTSTAMP:20260424T075730Z
DESCRIPTION:5/6 Volejbal Ostrava - SK Kojetín 2016\, z.s. 2:0 (19\,20)
DTSTART;TZID=Europe/Berlin:20240413T140000
DTEND;TZID=Europe/Berlin:20240413T160000
LOCATION:Sportovní hala Brušperk\, Sportovní 584 Brušperk
SUMMARY:MCR-U14MB: Volejbal Ostrava-SK Kojetín 2016\, z.s.
END:VEVENT
BEGIN:VEVENT
UID:33353730-6566-4739-a162-653532623031
DTSTAMP:20260424T075730Z
DESCRIPTION:5/7 Volejbalový sportovní klub Staré Město\, z.s. - Volejbalový
  klub Valašské Meziříčí z.s. 2:0 (20\,20)
DTSTART;TZID=Europe/Berlin:20240413T140000
DTEND;TZID=Europe/Berlin:20240413T160000
LOCATION:tělocvična ZŠ Staré Město\, Komenského 1720 Staré Město
SUMMARY:MCR-U14MB: Volejbalový sportovní klub Staré Město\, z.s.-Volejbalov
 ý klub Valašské Meziříčí z.s.
END:VEVENT
BEGIN:VEVENT
UID:63656132-3538-4239-b865-323331346565
DTSTAMP:20260424T075730Z
DESCRIPTION:6/8 Volejbal Ostrava - Blue Volley Ostrava\, z.s. 1:2 (-22\,16\
 ,-8)
DTSTART;TZID=Europe/Berlin:20240413T150000
DTEND;TZID=Europe/Berlin:20240413T170000
LOCATION:Sportovní hala Brušperk\, Sportovní 584 Brušperk
SUMMARY:MCR-U14MB: Volejbal Ostrava-Blue Volley Ostrava\, z.s.
END:VEVENT
BEGIN:VEVENT
UID:35646633-3539-4534-a634-633763653232
DTSTAMP:20260424T075730Z
DESCRIPTION:6/9 SK Kojetín 2016\, z.s. - Volejbalový sportovní klub Staré M
 ěsto\, z.s. 0:2 (-15\,-21)
DTSTART;TZID=Europe/Berlin:20240413T150000
DTEND;TZID=Europe/Berlin:20240413T170000
LOCATION:, Hanusíkova 1476 Kojetín - Kojetín I-Město
SUMMARY:MCR-U14MB: SK Kojetín 2016\, z.s.-Volejbalový sportovní klub Staré 
 Město\, z.s.
END:VEVENT
BEGIN:VEVENT
UID:36313065-3333-4965-a136-663530383630
DTSTAMP:20260424T075730Z
DESCRIPTION:7/10 Blue Volley Ostrava\, z.s. - Volejbalový klub Valašské Mez
 iříčí z.s. 2:0 (14\,17)
DTSTART;TZID=Europe/Berlin:20240413T160000
DTEND;TZID=Europe/Berlin:20240413T180000
LOCATION:Sportovní hala Ostrava -Třebovice\, 5. května 5649 Ostrava - Třebo
 vice
SUMMARY:MCR-U14MB: Blue Volley Ostrava\, z.s.-Volejbalový klub Valašské Mez
 iříčí z.s.
END:VEVENT
END:VCALENDAR
