BEGIN:VCALENDAR
VERSION:2.0
PRODID:-//MCR-U14MD//NONSGML kigkonsult.se iCalcreator 2.41.80//
CALSCALE:GREGORIAN
UID:37303638-3430-4339-b233-366165396262
BEGIN:VEVENT
UID:63616666-3066-4566-b937-343238373736
DTSTAMP:20260424T080949Z
DESCRIPTION:1/1 Sportovní klub Meteor Praha - Volejbal Brno 2:0 (16\,5)
DTSTART;TZID=Europe/Berlin:20240413T090000
DTEND;TZID=Europe/Berlin:20240413T110000
LOCATION:ZŠ Žernosecká\, Žernosecká 1597 Praha - Kobylisy
SUMMARY:MCR-U14MD: Sportovní klub Meteor Praha-Volejbal Brno
END:VEVENT
BEGIN:VEVENT
UID:63376165-3738-4466-a436-326437366630
DTSTAMP:20260424T080949Z
DESCRIPTION:2/2 Dukla Liberec - VK Č. Budějovice 2:0 (25\,15)
DTSTART;TZID=Europe/Berlin:20240413T100000
DTEND;TZID=Europe/Berlin:20240413T120000
LOCATION:Dukla Liberec\, Jeronýmova 558 Liberec - Liberec VII-Horní Růžodol
SUMMARY:MCR-U14MD: Dukla Liberec-VK Č. Budějovice
END:VEVENT
BEGIN:VEVENT
UID:37353739-3063-4165-a537-353631613665
DTSTAMP:20260424T080949Z
DESCRIPTION:3/3 Volejbal Brno - Dukla Liberec 0:2 (-12\,-8)
DTSTART;TZID=Europe/Berlin:20240413T110000
DTEND;TZID=Europe/Berlin:20240413T130000
LOCATION:ZŠ Vejrostova\, Vejrostova 1066 Brno - Bystrc
SUMMARY:MCR-U14MD: Volejbal Brno-Dukla Liberec
END:VEVENT
BEGIN:VEVENT
UID:38616364-6138-4432-a335-616630666161
DTSTAMP:20260424T080949Z
DESCRIPTION:4/4 VA-K z.s. - Sportovní klub Meteor Praha 0:2 (-17\,-20)
DTSTART;TZID=Europe/Berlin:20240413T120000
DTEND;TZID=Europe/Berlin:20240413T140000
LOCATION:Sportovní hala Textilka\, Gustava Geipela 2713 Aš
SUMMARY:MCR-U14MD: VA-K z.s.-Sportovní klub Meteor Praha
END:VEVENT
BEGIN:VEVENT
UID:38623236-6136-4466-b361-383162646335
DTSTAMP:20260424T080949Z
DESCRIPTION:5/5 Dukla Liberec - VA-K z.s. 2:0 (4\,6)
DTSTART;TZID=Europe/Berlin:20240413T130000
DTEND;TZID=Europe/Berlin:20240413T150000
LOCATION:Dukla Liberec\, Jeronýmova 558 Liberec - Liberec VII-Horní Růžodol
SUMMARY:MCR-U14MD: Dukla Liberec-VA-K z.s.
END:VEVENT
BEGIN:VEVENT
UID:31386539-6439-4333-b032-383234326665
DTSTAMP:20260424T080949Z
DESCRIPTION:6/6 VK Č. Budějovice - Volejbal Brno 2:0 (6\,7)
DTSTART;TZID=Europe/Berlin:20240413T140000
DTEND;TZID=Europe/Berlin:20240413T160000
LOCATION:ZŠ Oskara Nedbala České Budějovice\, O. Nedbala 882 České Budějovi
 ce - České Budějovice 2
SUMMARY:MCR-U14MD: VK Č. Budějovice-Volejbal Brno
END:VEVENT
BEGIN:VEVENT
UID:31613331-6532-4533-b566-316164643666
DTSTAMP:20260424T080949Z
DESCRIPTION:7/7 VA-K z.s. - VK Č. Budějovice 0:2 (-3\,-13)
DTSTART;TZID=Europe/Berlin:20240413T150000
DTEND;TZID=Europe/Berlin:20240413T170000
LOCATION:Sportovní hala Textilka\, Gustava Geipela 2713 Aš
SUMMARY:MCR-U14MD: VA-K z.s.-VK Č. Budějovice
END:VEVENT
BEGIN:VEVENT
UID:63653862-3838-4431-a563-346234626230
DTSTAMP:20260424T080949Z
DESCRIPTION:8/8 Sportovní klub Meteor Praha - Dukla Liberec 0:2 (-5\,-8)
DTSTART;TZID=Europe/Berlin:20240413T160000
DTEND;TZID=Europe/Berlin:20240413T180000
LOCATION:ZŠ Žernosecká\, Žernosecká 1597 Praha - Kobylisy
SUMMARY:MCR-U14MD: Sportovní klub Meteor Praha-Dukla Liberec
END:VEVENT
BEGIN:VEVENT
UID:62613437-6234-4337-a131-653337326432
DTSTAMP:20260424T080949Z
DESCRIPTION:9/9 VK Č. Budějovice - Sportovní klub Meteor Praha 2:0 (14\,5)
DTSTART;TZID=Europe/Berlin:20240413T170000
DTEND;TZID=Europe/Berlin:20240413T190000
LOCATION:ZŠ Oskara Nedbala České Budějovice\, O. Nedbala 882 České Budějovi
 ce - České Budějovice 2
SUMMARY:MCR-U14MD: VK Č. Budějovice-Sportovní klub Meteor Praha
END:VEVENT
BEGIN:VEVENT
UID:65393936-3633-4466-a538-633633313766
DTSTAMP:20260424T080949Z
DESCRIPTION:10/10 Volejbal Brno - VA-K z.s. 0:2 (-15\,-19)
DTSTART;TZID=Europe/Berlin:20240413T180000
DTEND;TZID=Europe/Berlin:20240413T200000
LOCATION:ZŠ Vejrostova\, Vejrostova 1066 Brno - Bystrc
SUMMARY:MCR-U14MD: Volejbal Brno-VA-K z.s.
END:VEVENT
END:VCALENDAR
