BEGIN:VCALENDAR
VERSION:2.0
PRODID:-//MCR-U14Z-1HB//NONSGML kigkonsult.se iCalcreator 2.41.80//
CALSCALE:GREGORIAN
UID:62313837-3130-4536-b361-393039636432
BEGIN:VEVENT
UID:30616262-6166-4363-b565-336638666235
DTSTAMP:20260421T210050Z
DESCRIPTION:1/1 VAM Olomouc - TJ Ostrava 0:2 (-10\,-15)
DTSTART;TZID=Europe/Berlin:20240323T093000
DTEND;TZID=Europe/Berlin:20240323T113000
LOCATION:VOŠ a SPŠE Olomouc\, Božetěchova 755 Olomouc - Hodolany
SUMMARY:MCR-U14Z-1HB: VAM Olomouc-TJ Ostrava
END:VEVENT
BEGIN:VEVENT
UID:36353632-6564-4535-b434-653365666430
DTSTAMP:20260421T210050Z
DESCRIPTION:2/2 VSC Zlín - TJ Ostrava 0:2 (-5\,-19)
DTSTART;TZID=Europe/Berlin:20240323T110000
DTEND;TZID=Europe/Berlin:20240323T130000
LOCATION:ZŠ Okružní Zlín\, Okružní 4685 Zlín
SUMMARY:MCR-U14Z-1HB: VSC Zlín-TJ Ostrava
END:VEVENT
BEGIN:VEVENT
UID:61643534-3434-4030-a635-393365363337
DTSTAMP:20260421T210050Z
DESCRIPTION:3/3 VSC Zlín - VAM Olomouc 2:0 (11\,9)
DTSTART;TZID=Europe/Berlin:20240323T123000
DTEND;TZID=Europe/Berlin:20240323T143000
LOCATION:ZŠ Okružní Zlín\, Okružní 4685 Zlín
SUMMARY:MCR-U14Z-1HB: VSC Zlín-VAM Olomouc
END:VEVENT
END:VCALENDAR
