BEGIN:VCALENDAR
VERSION:2.0
PRODID:-//MCR-U14Z-1H3//NONSGML kigkonsult.se iCalcreator 2.41.80//
CALSCALE:GREGORIAN
UID:36666562-6664-4464-b566-613935376133
BEGIN:VEVENT
UID:66343637-3636-4333-b562-363161376434
DTSTAMP:20260421T210136Z
DESCRIPTION:1/1 VK Napajedla - Junior Brno 2:0 (16\,16)
DTSTART;TZID=Europe/Berlin:20240324T090000
DTEND;TZID=Europe/Berlin:20240324T110000
LOCATION:2.ZŠ Napajedla\, Komenského 298 Napajedla
SUMMARY:MCR-U14Z-1H3: VK Napajedla-Junior Brno
END:VEVENT
BEGIN:VEVENT
UID:64383533-3061-4133-a562-393165646433
DTSTAMP:20260421T210136Z
DESCRIPTION:2/2 Junior Brno - VAM Olomouc 0:2 (-10\,-7)
DTSTART;TZID=Europe/Berlin:20240324T103000
DTEND;TZID=Europe/Berlin:20240324T123000
LOCATION:tělocvičny ZŠ Novolíšeňská\, Brno\, Novolíšeňská 2411 Brno - Líšeň
SUMMARY:MCR-U14Z-1H3: Junior Brno-VAM Olomouc
END:VEVENT
BEGIN:VEVENT
UID:65306334-6365-4833-b861-643633303735
DTSTAMP:20260421T210136Z
DESCRIPTION:3/3 VK Napajedla - VAM Olomouc 1:2 (25\,-14\,-17)
DTSTART;TZID=Europe/Berlin:20240324T120000
DTEND;TZID=Europe/Berlin:20240324T140000
LOCATION:2.ZŠ Napajedla\, Komenského 298 Napajedla
SUMMARY:MCR-U14Z-1H3: VK Napajedla-VAM Olomouc
END:VEVENT
END:VCALENDAR
