BEGIN:VCALENDAR
VERSION:2.0
PRODID:-//1-M-K//NONSGML kigkonsult.se iCalcreator 2.41.80//
CALSCALE:GREGORIAN
UID:35353762-3363-4163-a362-633436626638
BEGIN:VEVENT
UID:38363665-3363-4138-b765-303136313134
DTSTAMP:20260422T162913Z
DESCRIPTION:1/1 Malá Skála - MFF Praha 0:3 (-18\,-18\,-20)
DTSTART;TZID=Europe/Berlin:20240407T170000
DTEND;TZID=Europe/Berlin:20240407T190000
LOCATION:tělocvična ZŠ\,  Malá Skála - Vranové 1.díl60
SUMMARY:1-M-K: Malá Skála-MFF Praha
END:VEVENT
BEGIN:VEVENT
UID:61326639-3262-4361-a134-333562386139
DTSTAMP:20260422T162913Z
DESCRIPTION:2/2 MFF Praha - Malá Skála 3:1 (-22\,24\,15\,17)
DTSTART;TZID=Europe/Berlin:20240406T170000
DTEND;TZID=Europe/Berlin:20240406T190000
LOCATION:Sportovní centrum UK\, Bruslařská 1132 Praha - Hostivař
SUMMARY:1-M-K: MFF Praha-Malá Skála
END:VEVENT
BEGIN:VEVENT
UID:34376636-6635-4462-b730-626131633032
DTSTAMP:20260422T162913Z
DESCRIPTION:3/3 Malá Skála - Kojetín B 0:3 (-20\,-24\,-29)
DTSTART;TZID=Europe/Berlin:20240413T170000
DTEND;TZID=Europe/Berlin:20240413T190000
LOCATION:tělocvična ZŠ\,  Malá Skála - Vranové 1.díl60
SUMMARY:1-M-K: Malá Skála-Kojetín B
END:VEVENT
BEGIN:VEVENT
UID:39353135-3833-4231-a339-633462363937
DTSTAMP:20260422T162913Z
DESCRIPTION:4/4 MFF Praha - Kojetín B 3:1 (-19\,22\,23\,22)
DTSTART;TZID=Europe/Berlin:20240414T170000
DTEND;TZID=Europe/Berlin:20240414T190000
LOCATION:Sportovní centrum UK\, Bruslařská 1132 Praha - Hostivař
SUMMARY:1-M-K: MFF Praha-Kojetín B
END:VEVENT
BEGIN:VEVENT
UID:30633964-6231-4261-a266-653964316562
DTSTAMP:20260422T162913Z
DESCRIPTION:5/5 Kojetín B - MFF Praha 3:0 (21\,22\,28)
DTSTART;TZID=Europe/Berlin:20240420T170000
DTEND;TZID=Europe/Berlin:20240420T190000
LOCATION:Městská sportovní hala\, Hanusíkova 1476 Kojetín - Kojetín I-Město
SUMMARY:1-M-K: Kojetín B-MFF Praha
END:VEVENT
BEGIN:VEVENT
UID:37383061-3930-4233-b634-316261653038
DTSTAMP:20260422T162913Z
DESCRIPTION:6/6 Kojetín B - Malá Skála 3:0 (20\,17\,19)
DTSTART;TZID=Europe/Berlin:20240419T170000
DTEND;TZID=Europe/Berlin:20240419T190000
LOCATION:Městská sportovní hala\, Hanusíkova 1476 Kojetín - Kojetín I-Město
SUMMARY:1-M-K: Kojetín B-Malá Skála
END:VEVENT
END:VCALENDAR
