BEGIN:VCALENDAR
VERSION:2.0
PRODID:-//CP-U20Z-4A//NONSGML kigkonsult.se iCalcreator 2.41.80//
CALSCALE:GREGORIAN
UID:62616465-6133-4831-b734-356361643363
BEGIN:VEVENT
UID:64636533-3262-4438-b732-386434326264
DTSTAMP:20260421T210109Z
DESCRIPTION:1/1 VK Jirkov - Loko Plzeň 2:0 (23\,24)
DTSTART;TZID=Europe/Berlin:20240413T100000
DTEND;TZID=Europe/Berlin:20240413T120000
LOCATION:Sportovní hala MG a ZŠ Jirkov\, Krušnohorská 1675 Jirkov
SUMMARY:CP-U20Z-4A: VK Jirkov-Loko Plzeň
END:VEVENT
BEGIN:VEVENT
UID:66373261-3066-4431-b364-613638353131
DTSTAMP:20260421T210109Z
DESCRIPTION:1/2 SK Meteor Praha - Volejbal Ústí nad Labem 0:2 (-20\,-15)
DTSTART;TZID=Europe/Berlin:20240413T100000
DTEND;TZID=Europe/Berlin:20240413T120000
LOCATION:ZŠ Žernosecká\, Žernosecká 1597 Praha - Kobylisy
SUMMARY:CP-U20Z-4A: SK Meteor Praha-Volejbal Ústí nad Labem
END:VEVENT
BEGIN:VEVENT
UID:61353130-3862-4833-a630-646666333638
DTSTAMP:20260421T210109Z
DESCRIPTION:1/3 SK Třebín - VK Prostějov\, spolek 1:2 (21\,-17\,-13)
DTSTART;TZID=Europe/Berlin:20240413T100000
DTEND;TZID=Europe/Berlin:20240413T120000
LOCATION:ZŠ Máj I\, M. Chlajna 1319 České Budějovice - České Budějovice 2
SUMMARY:CP-U20Z-4A: SK Třebín-VK Prostějov\, spolek
END:VEVENT
BEGIN:VEVENT
UID:32646132-3139-4566-a462-633134313239
DTSTAMP:20260421T210109Z
DESCRIPTION:2/4 VK Jirkov - SK Meteor Praha 2:1 (-18\,26\,12)
DTSTART;TZID=Europe/Berlin:20240413T113000
DTEND;TZID=Europe/Berlin:20240413T133000
LOCATION:Sportovní hala MG a ZŠ Jirkov\, Krušnohorská 1675 Jirkov
SUMMARY:CP-U20Z-4A: VK Jirkov-SK Meteor Praha
END:VEVENT
BEGIN:VEVENT
UID:62386462-6438-4536-b230-333032323237
DTSTAMP:20260421T210109Z
DESCRIPTION:2/5 Loko Plzeň - VK Prostějov\, spolek 0:2 (-24\,-15)
DTSTART;TZID=Europe/Berlin:20240413T113000
DTEND;TZID=Europe/Berlin:20240413T133000
SUMMARY:CP-U20Z-4A: Loko Plzeň-VK Prostějov\, spolek
END:VEVENT
BEGIN:VEVENT
UID:31343065-6433-4662-b531-303839636464
DTSTAMP:20260421T210109Z
DESCRIPTION:2/6 VK AUSTIN Vsetín z.s. - TJ Jičín 2:0 (25\,15)
DTSTART;TZID=Europe/Berlin:20240413T113000
DTEND;TZID=Europe/Berlin:20240413T133000
LOCATION:Sportovní hala Na Lapači\, Na Lapači 247 Vsetín - Rokytnice
SUMMARY:CP-U20Z-4A: VK AUSTIN Vsetín z.s.-TJ Jičín
END:VEVENT
BEGIN:VEVENT
UID:37643965-6434-4162-b430-386131323633
DTSTAMP:20260421T210109Z
DESCRIPTION:3/7 Volejbal Ústí nad Labem - VK AUSTIN Vsetín z.s. 2:0 (17\,16
 )
DTSTART;TZID=Europe/Berlin:20240413T130000
DTEND;TZID=Europe/Berlin:20240413T150000
LOCATION:Tělocvična Gymnázia a Střední odborné školy dr. Václava Šmejkala\,
  Stará 3299 Ústí nad Labem - Severní Terasa
SUMMARY:CP-U20Z-4A: Volejbal Ústí nad Labem-VK AUSTIN Vsetín z.s.
END:VEVENT
BEGIN:VEVENT
UID:36356365-3034-4234-a431-353337623039
DTSTAMP:20260421T210109Z
DESCRIPTION:3/8 TJ Jičín - SK Třebín 0:2 (-17\,-17)
DTSTART;TZID=Europe/Berlin:20240413T130000
DTEND;TZID=Europe/Berlin:20240413T150000
LOCATION:Hala 3. základní školy Jičín\, Poděbradova 18 Jičín - Nové Město
SUMMARY:CP-U20Z-4A: TJ Jičín-SK Třebín
END:VEVENT
BEGIN:VEVENT
UID:33626564-3632-4634-a431-306530363437
DTSTAMP:20260421T210109Z
DESCRIPTION:3/9 SK Meteor Praha - Loko Plzeň 2:1 (23\,-13\,13)
DTSTART;TZID=Europe/Berlin:20240413T130000
DTEND;TZID=Europe/Berlin:20240413T150000
LOCATION:ZŠ Žernosecká\, Žernosecká 1597 Praha - Kobylisy
SUMMARY:CP-U20Z-4A: SK Meteor Praha-Loko Plzeň
END:VEVENT
BEGIN:VEVENT
UID:38343865-3761-4439-a639-636531346162
DTSTAMP:20260421T210109Z
DESCRIPTION:4/10 VK AUSTIN Vsetín z.s. - VK Jirkov 1:2 (19\,-17\,-5)
DTSTART;TZID=Europe/Berlin:20240413T143000
DTEND;TZID=Europe/Berlin:20240413T163000
LOCATION:Sportovní hala Na Lapači\, Na Lapači 247 Vsetín - Rokytnice
SUMMARY:CP-U20Z-4A: VK AUSTIN Vsetín z.s.-VK Jirkov
END:VEVENT
BEGIN:VEVENT
UID:34396562-3433-4262-b864-306661393262
DTSTAMP:20260421T210109Z
DESCRIPTION:4/11 SK Třebín - Volejbal Ústí nad Labem 2:1 (16\,-22\,12)
DTSTART;TZID=Europe/Berlin:20240413T143000
DTEND;TZID=Europe/Berlin:20240413T163000
LOCATION:ZŠ Máj I\, M. Chlajna 1319 České Budějovice - České Budějovice 2
SUMMARY:CP-U20Z-4A: SK Třebín-Volejbal Ústí nad Labem
END:VEVENT
BEGIN:VEVENT
UID:35666662-6261-4236-b934-643334653566
DTSTAMP:20260421T210109Z
DESCRIPTION:4/12 VK Prostějov\, spolek - TJ Jičín 2:1 (-16\,30\,11)
DTSTART;TZID=Europe/Berlin:20240413T143000
DTEND;TZID=Europe/Berlin:20240413T163000
LOCATION:Národní sportovní centrum\, Za velodromem 4187 Prostějov
SUMMARY:CP-U20Z-4A: VK Prostějov\, spolek-TJ Jičín
END:VEVENT
BEGIN:VEVENT
UID:35373735-3165-4664-b031-396331636364
DTSTAMP:20260421T210109Z
DESCRIPTION:5/13 VK Jirkov - SK Třebín 2:0 (21\,23)
DTSTART;TZID=Europe/Berlin:20240413T160000
DTEND;TZID=Europe/Berlin:20240413T180000
LOCATION:Sportovní hala MG a ZŠ Jirkov\, Krušnohorská 1675 Jirkov
SUMMARY:CP-U20Z-4A: VK Jirkov-SK Třebín
END:VEVENT
BEGIN:VEVENT
UID:35373662-6161-4431-a230-383630333935
DTSTAMP:20260421T210109Z
DESCRIPTION:5/14 Volejbal Ústí nad Labem - VK Prostějov\, spolek 2:0 (16\,2
 3)
DTSTART;TZID=Europe/Berlin:20240413T160000
DTEND;TZID=Europe/Berlin:20240413T180000
LOCATION:Tělocvična Gymnázia a Střední odborné školy dr. Václava Šmejkala\,
  Stará 3299 Ústí nad Labem - Severní Terasa
SUMMARY:CP-U20Z-4A: Volejbal Ústí nad Labem-VK Prostějov\, spolek
END:VEVENT
BEGIN:VEVENT
UID:62383939-3436-4535-a630-356331396634
DTSTAMP:20260421T210109Z
DESCRIPTION:5/15 SK Meteor Praha - VK AUSTIN Vsetín z.s. 1:2 (-18\,24\,-11)
DTSTART;TZID=Europe/Berlin:20240413T160000
DTEND;TZID=Europe/Berlin:20240413T180000
LOCATION:ZŠ Žernosecká\, Žernosecká 1597 Praha - Kobylisy
SUMMARY:CP-U20Z-4A: SK Meteor Praha-VK AUSTIN Vsetín z.s.
END:VEVENT
BEGIN:VEVENT
UID:61396432-3838-4132-b139-383739616636
DTSTAMP:20260421T210109Z
DESCRIPTION:6/16 Loko Plzeň - TJ Jičín 2:0 (22\,14)
DTSTART;TZID=Europe/Berlin:20240413T173000
DTEND;TZID=Europe/Berlin:20240413T193000
SUMMARY:CP-U20Z-4A: Loko Plzeň-TJ Jičín
END:VEVENT
BEGIN:VEVENT
UID:35316166-3863-4238-a166-373331323162
DTSTAMP:20260421T210109Z
DESCRIPTION:7/17 VK AUSTIN Vsetín z.s. - Loko Plzeň 0:2 (-20\,-16)
DTSTART;TZID=Europe/Berlin:20240414T090000
DTEND;TZID=Europe/Berlin:20240414T110000
LOCATION:Sportovní hala Na Lapači\, Na Lapači 247 Vsetín - Rokytnice
SUMMARY:CP-U20Z-4A: VK AUSTIN Vsetín z.s.-Loko Plzeň
END:VEVENT
BEGIN:VEVENT
UID:31323962-6232-4133-b333-333362313434
DTSTAMP:20260421T210109Z
DESCRIPTION:7/18 SK Třebín - SK Meteor Praha 0:2 (-18\,-22)
DTSTART;TZID=Europe/Berlin:20240414T090000
DTEND;TZID=Europe/Berlin:20240414T110000
LOCATION:ZŠ Máj I\, M. Chlajna 1319 České Budějovice - České Budějovice 2
SUMMARY:CP-U20Z-4A: SK Třebín-SK Meteor Praha
END:VEVENT
BEGIN:VEVENT
UID:38653632-6133-4762-a536-646632613961
DTSTAMP:20260421T210109Z
DESCRIPTION:8/19 TJ Jičín - Volejbal Ústí nad Labem 2:1 (-18\,23\,10)
DTSTART;TZID=Europe/Berlin:20240414T101500
DTEND;TZID=Europe/Berlin:20240414T121500
LOCATION:Hala 3. základní školy Jičín\, Poděbradova 18 Jičín - Nové Město
SUMMARY:CP-U20Z-4A: TJ Jičín-Volejbal Ústí nad Labem
END:VEVENT
BEGIN:VEVENT
UID:61356236-6366-4136-a334-626361386431
DTSTAMP:20260421T210109Z
DESCRIPTION:8/20 VK Prostějov\, spolek - VK Jirkov 2:1 (-22\,17\,9)
DTSTART;TZID=Europe/Berlin:20240414T101500
DTEND;TZID=Europe/Berlin:20240414T121500
LOCATION:Národní sportovní centrum\, Za velodromem 4187 Prostějov
SUMMARY:CP-U20Z-4A: VK Prostějov\, spolek-VK Jirkov
END:VEVENT
BEGIN:VEVENT
UID:61313035-3766-4131-b638-323739633263
DTSTAMP:20260421T210109Z
DESCRIPTION:9/21 SK Meteor Praha - VK Prostějov\, spolek 0:2 (-22\,-20)
DTSTART;TZID=Europe/Berlin:20240414T113000
DTEND;TZID=Europe/Berlin:20240414T133000
LOCATION:ZŠ Žernosecká\, Žernosecká 1597 Praha - Kobylisy
SUMMARY:CP-U20Z-4A: SK Meteor Praha-VK Prostějov\, spolek
END:VEVENT
BEGIN:VEVENT
UID:36656439-3437-4031-b036-356431643464
DTSTAMP:20260421T210109Z
DESCRIPTION:9/22 VK AUSTIN Vsetín z.s. - SK Třebín 2:0 (25\,23)
DTSTART;TZID=Europe/Berlin:20240414T113000
DTEND;TZID=Europe/Berlin:20240414T133000
LOCATION:Sportovní hala Na Lapači\, Na Lapači 247 Vsetín - Rokytnice
SUMMARY:CP-U20Z-4A: VK AUSTIN Vsetín z.s.-SK Třebín
END:VEVENT
BEGIN:VEVENT
UID:66393264-3030-4532-a633-306435313332
DTSTAMP:20260421T210109Z
DESCRIPTION:10/23 Loko Plzeň - Volejbal Ústí nad Labem 0:2 (-16\,-21)
DTSTART;TZID=Europe/Berlin:20240414T124500
DTEND;TZID=Europe/Berlin:20240414T144500
SUMMARY:CP-U20Z-4A: Loko Plzeň-Volejbal Ústí nad Labem
END:VEVENT
BEGIN:VEVENT
UID:32396633-3166-4662-b636-316264643139
DTSTAMP:20260421T210109Z
DESCRIPTION:10/24 VK Jirkov - TJ Jičín 0:2 (-14\,-13)
DTSTART;TZID=Europe/Berlin:20240414T124500
DTEND;TZID=Europe/Berlin:20240414T144500
LOCATION:Sportovní hala MG a ZŠ Jirkov\, Krušnohorská 1675 Jirkov
SUMMARY:CP-U20Z-4A: VK Jirkov-TJ Jičín
END:VEVENT
BEGIN:VEVENT
UID:32353638-3666-4738-b339-356563623433
DTSTAMP:20260421T210109Z
DESCRIPTION:11/25 SK Třebín - Loko Plzeň 2:0 (19\,21)
DTSTART;TZID=Europe/Berlin:20240414T140000
DTEND;TZID=Europe/Berlin:20240414T160000
LOCATION:ZŠ Máj I\, M. Chlajna 1319 České Budějovice - České Budějovice 2
SUMMARY:CP-U20Z-4A: SK Třebín-Loko Plzeň
END:VEVENT
BEGIN:VEVENT
UID:35373238-6534-4662-a331-336439326131
DTSTAMP:20260421T210109Z
DESCRIPTION:11/26 VK Prostějov\, spolek - VK AUSTIN Vsetín z.s. 2:0 (17\,20
 )
DTSTART;TZID=Europe/Berlin:20240414T140000
DTEND;TZID=Europe/Berlin:20240414T160000
LOCATION:Národní sportovní centrum\, Za velodromem 4187 Prostějov
SUMMARY:CP-U20Z-4A: VK Prostějov\, spolek-VK AUSTIN Vsetín z.s.
END:VEVENT
BEGIN:VEVENT
UID:35313037-6463-4866-a131-313361393439
DTSTAMP:20260421T210109Z
DESCRIPTION:12/27 TJ Jičín - SK Meteor Praha 2:1 (24\,-22\,9)
DTSTART;TZID=Europe/Berlin:20240414T151500
DTEND;TZID=Europe/Berlin:20240414T171500
LOCATION:Hala 3. základní školy Jičín\, Poděbradova 18 Jičín - Nové Město
SUMMARY:CP-U20Z-4A: TJ Jičín-SK Meteor Praha
END:VEVENT
BEGIN:VEVENT
UID:36636636-6264-4939-b732-393361393663
DTSTAMP:20260421T210109Z
DESCRIPTION:12/28 Volejbal Ústí nad Labem - VK Jirkov 2:0 (20\,22)
DTSTART;TZID=Europe/Berlin:20240414T151500
DTEND;TZID=Europe/Berlin:20240414T171500
LOCATION:Tělocvična Gymnázia a Střední odborné školy dr. Václava Šmejkala\,
  Stará 3299 Ústí nad Labem - Severní Terasa
SUMMARY:CP-U20Z-4A: Volejbal Ústí nad Labem-VK Jirkov
END:VEVENT
END:VCALENDAR
