BEGIN:VCALENDAR
VERSION:2.0
PRODID:-//1-U22Z-KA//NONSGML kigkonsult.se iCalcreator 2.41.80//
CALSCALE:GREGORIAN
UID:37393763-6436-4332-b334-323434366366
BEGIN:VEVENT
UID:64373333-3737-4132-a231-393638636564
DTSTAMP:20260424T233447Z
DESCRIPTION:1/1 Plzeň B - Komárov 3:0 (12\,21\,18)
DTSTART;TZID=Europe/Berlin:20240420T100000
DTEND;TZID=Europe/Berlin:20240420T120000
LOCATION:Městská sportovní hala  -  hala 2\, Úslavská 2357 Plzeň - Východní
  Předměstí
SUMMARY:1-U22Z-KA: Plzeň B-Komárov
END:VEVENT
BEGIN:VEVENT
UID:61636637-3432-4136-b961-323437643965
DTSTAMP:20260424T233447Z
DESCRIPTION:1/2 České Budějovice - Dansport 3:0 (6\,15\,11)
DTSTART;TZID=Europe/Berlin:20240420T120000
DTEND;TZID=Europe/Berlin:20240420T140000
LOCATION:Městská sportovní hala  -  hala 2\, Úslavská 2357 Plzeň - Východní
  Předměstí
SUMMARY:1-U22Z-KA: České Budějovice-Dansport
END:VEVENT
BEGIN:VEVENT
UID:34313163-3532-4731-a239-366138663966
DTSTAMP:20260424T233447Z
DESCRIPTION:2/3 Komárov - Dansport 1:3 (-23\,23\,-22\,-18)
DTSTART;TZID=Europe/Berlin:20240420T150000
DTEND;TZID=Europe/Berlin:20240420T170000
LOCATION:Městská sportovní hala  -  hala 2\, Úslavská 2357 Plzeň - Východní
  Předměstí
SUMMARY:1-U22Z-KA: Komárov-Dansport
END:VEVENT
BEGIN:VEVENT
UID:33643263-3538-4136-a633-333031616561
DTSTAMP:20260424T233447Z
DESCRIPTION:2/4 Plzeň B - České Budějovice 0:3 (-17\,-16\,-13)
DTSTART;TZID=Europe/Berlin:20240420T170000
DTEND;TZID=Europe/Berlin:20240420T190000
LOCATION:Městská sportovní hala  -  hala 2\, Úslavská 2357 Plzeň - Východní
  Předměstí
SUMMARY:1-U22Z-KA: Plzeň B-České Budějovice
END:VEVENT
BEGIN:VEVENT
UID:62633562-3339-4438-b731-333530373564
DTSTAMP:20260424T233447Z
DESCRIPTION:3/5 České Budějovice - Komárov 3:1 (8\,14\,-16\,19)
DTSTART;TZID=Europe/Berlin:20240421T100000
DTEND;TZID=Europe/Berlin:20240421T120000
LOCATION:Městská sportovní hala  -  hala 2\, Úslavská 2357 Plzeň - Východní
  Předměstí
SUMMARY:1-U22Z-KA: České Budějovice-Komárov
END:VEVENT
BEGIN:VEVENT
UID:38616330-3431-4634-b530-613333626466
DTSTAMP:20260424T233447Z
DESCRIPTION:3/6 Dansport - Plzeň B 3:2 (20\,18\,-16\,-25\,8)
DTSTART;TZID=Europe/Berlin:20240421T120000
DTEND;TZID=Europe/Berlin:20240421T140000
LOCATION:Městská sportovní hala  -  hala 2\, Úslavská 2357 Plzeň - Východní
  Předměstí
SUMMARY:1-U22Z-KA: Dansport-Plzeň B
END:VEVENT
END:VCALENDAR
