BEGIN:VCALENDAR
VERSION:2.0
PRODID:-//ST-U14M-25P3//NONSGML kigkonsult.se iCalcreator 2.41.80//
CALSCALE:GREGORIAN
UID:35333736-6336-4934-a563-313239373466
BEGIN:VEVENT
UID:35353162-3734-4461-a334-613666306235
DTSTAMP:20260422T053843Z
DESCRIPTION:1/23 Odolena Voda C - PODĚS A 0:2 (-18\,-18)
DTSTART;TZID=Europe/Berlin:20240421T090000
DTEND;TZID=Europe/Berlin:20240421T110000
LOCATION:Sportovní hala\, Ke Stadionu 375 Odolena Voda
SUMMARY:ST-U14M-25P3: Odolena Voda C-PODĚS A
END:VEVENT
BEGIN:VEVENT
UID:32646337-3562-4838-b035-663863623933
DTSTAMP:20260422T053843Z
DESCRIPTION:1/24 VK Mladá Boleslav - Kladno B 2:1 (27\,-24\,7)
DTSTART;TZID=Europe/Berlin:20240421T090000
DTEND;TZID=Europe/Berlin:20240421T110000
LOCATION:Městská Sportovní hala\, U stadionu 1322 Mladá Boleslav - Mladá Bo
 leslav II
SUMMARY:ST-U14M-25P3: VK Mladá Boleslav-Kladno B
END:VEVENT
BEGIN:VEVENT
UID:65656463-3534-4537-a637-336363633361
DTSTAMP:20260422T053843Z
DESCRIPTION:1/25 Benátky nad Jizerou B - PODĚS B 2:0 (17\,22)
DTSTART;TZID=Europe/Berlin:20240421T090000
DTEND;TZID=Europe/Berlin:20240421T110000
LOCATION:Nibe aréna\, městská sportovní hala\, 5. května 746 Benátky nad Ji
 zerou - Benátky nad Jizerou II
SUMMARY:ST-U14M-25P3: Benátky nad Jizerou B-PODĚS B
END:VEVENT
BEGIN:VEVENT
UID:66333936-3736-4432-b538-353931643165
DTSTAMP:20260422T053843Z
DESCRIPTION:1/26 Benátky nad Jizerou A - Plzeň 2:1 (20\,-23\,13)
DTSTART;TZID=Europe/Berlin:20240421T090000
DTEND;TZID=Europe/Berlin:20240421T110000
LOCATION:Nibe aréna\, městská sportovní hala\, 5. května 746 Benátky nad Ji
 zerou - Benátky nad Jizerou II
SUMMARY:ST-U14M-25P3: Benátky nad Jizerou A-Plzeň
END:VEVENT
BEGIN:VEVENT
UID:30366435-3138-4039-b034-643030613937
DTSTAMP:20260422T053843Z
DESCRIPTION:1/27 Odolena Voda B - Králův Dvůr 2:0 (16\,13)
DTSTART;TZID=Europe/Berlin:20240421T090000
DTEND;TZID=Europe/Berlin:20240421T110000
LOCATION:Sportovní hala\, Ke Stadionu 375 Odolena Voda
SUMMARY:ST-U14M-25P3: Odolena Voda B-Králův Dvůr
END:VEVENT
BEGIN:VEVENT
UID:34383835-3963-4139-a666-373330316164
DTSTAMP:20260422T053843Z
DESCRIPTION:1/28 Odolena Voda A - Kralupy 2:0 (18\,36)
DTSTART;TZID=Europe/Berlin:20240421T090000
DTEND;TZID=Europe/Berlin:20240421T110000
LOCATION:Sportovní hala\, Ke Stadionu 375 Odolena Voda
SUMMARY:ST-U14M-25P3: Odolena Voda A-Kralupy
END:VEVENT
END:VCALENDAR
