BEGIN:VCALENDAR
VERSION:2.0
PRODID:-//MCR-U16M-A//NONSGML kigkonsult.se iCalcreator 2.41.80//
CALSCALE:GREGORIAN
UID:34646638-6161-4535-b230-626132366331
BEGIN:VEVENT
UID:63346139-3435-4337-b531-353034613665
DTSTAMP:20260424T190049Z
DESCRIPTION:1/1 Letovice - Havlíčkův Brod 0:2 (-11\,-17)
DTSTART;TZID=Europe/Berlin:20240427T100000
DTEND;TZID=Europe/Berlin:20240427T120000
LOCATION:Sportovní hala Letovice\, V zahradách 831 Letovice
SUMMARY:MCR-U16M-A: Letovice-Havlíčkův Brod
END:VEVENT
BEGIN:VEVENT
UID:39393963-6239-4465-b866-353466303336
DTSTAMP:20260424T190049Z
DESCRIPTION:1/2 Nová Paka - Ostrava 0:2 (-11\,-12)
DTSTART;TZID=Europe/Berlin:20240427T100000
DTEND;TZID=Europe/Berlin:20240427T120000
LOCATION:Sportovní hala Letovice\, V zahradách 831 Letovice
SUMMARY:MCR-U16M-A: Nová Paka-Ostrava
END:VEVENT
BEGIN:VEVENT
UID:31373636-3964-4639-a366-663939663766
DTSTAMP:20260424T190049Z
DESCRIPTION:1/3 Letovice - Most 2:0 (9\,8)
DTSTART;TZID=Europe/Berlin:20240427T113000
DTEND;TZID=Europe/Berlin:20240427T133000
LOCATION:Sportovní hala Letovice\, V zahradách 831 Letovice
SUMMARY:MCR-U16M-A: Letovice-Most
END:VEVENT
BEGIN:VEVENT
UID:39323032-6335-4136-a563-373164326537
DTSTAMP:20260424T190049Z
DESCRIPTION:1/4 Mnichovo Hradiště - Karlovarsko 2:0 (15\,7)
DTSTART;TZID=Europe/Berlin:20240427T113000
DTEND;TZID=Europe/Berlin:20240427T133000
LOCATION:Sportovní hala Letovice\, V zahradách 831 Letovice
SUMMARY:MCR-U16M-A: Mnichovo Hradiště-Karlovarsko
END:VEVENT
BEGIN:VEVENT
UID:66396438-6534-4338-b534-663738636434
DTSTAMP:20260424T190049Z
DESCRIPTION:1/5 Nová Paka - Havlíčkův Brod 0:2 (-5\,-22)
DTSTART;TZID=Europe/Berlin:20240427T130000
DTEND;TZID=Europe/Berlin:20240427T150000
LOCATION:Sportovní hala Letovice\, V zahradách 831 Letovice
SUMMARY:MCR-U16M-A: Nová Paka-Havlíčkův Brod
END:VEVENT
BEGIN:VEVENT
UID:37323761-3935-4735-b664-626336336530
DTSTAMP:20260424T190049Z
DESCRIPTION:1/6 Karlovarsko - Ostrava 0:2 (-9\,-6)
DTSTART;TZID=Europe/Berlin:20240427T130000
DTEND;TZID=Europe/Berlin:20240427T150000
LOCATION:Sportovní hala Letovice\, V zahradách 831 Letovice
SUMMARY:MCR-U16M-A: Karlovarsko-Ostrava
END:VEVENT
BEGIN:VEVENT
UID:63346335-3065-4364-a464-336130626361
DTSTAMP:20260424T190049Z
DESCRIPTION:1/7 Ostrava - Letovice 2:1 (16\,-15\,12)
DTSTART;TZID=Europe/Berlin:20240427T143000
DTEND;TZID=Europe/Berlin:20240427T163000
LOCATION:Sportovní hala Letovice\, V zahradách 831 Letovice
SUMMARY:MCR-U16M-A: Ostrava-Letovice
END:VEVENT
BEGIN:VEVENT
UID:35613739-3361-4435-b734-316365653437
DTSTAMP:20260424T190049Z
DESCRIPTION:1/8 Most - Mnichovo Hradiště 0:2 (-7\,-11)
DTSTART;TZID=Europe/Berlin:20240427T143000
DTEND;TZID=Europe/Berlin:20240427T163000
LOCATION:Sportovní hala Letovice\, V zahradách 831 Letovice
SUMMARY:MCR-U16M-A: Most-Mnichovo Hradiště
END:VEVENT
BEGIN:VEVENT
UID:31333332-3562-4765-b461-316434636637
DTSTAMP:20260424T190049Z
DESCRIPTION:1/9 Havlíčkův Brod - Most 2:0 (9\,12)
DTSTART;TZID=Europe/Berlin:20240427T160000
DTEND;TZID=Europe/Berlin:20240427T180000
LOCATION:Sportovní hala Letovice\, V zahradách 831 Letovice
SUMMARY:MCR-U16M-A: Havlíčkův Brod-Most
END:VEVENT
BEGIN:VEVENT
UID:64346262-6137-4261-b838-366233326336
DTSTAMP:20260424T190049Z
DESCRIPTION:1/10 Karlovarsko - Nová Paka 0:2 (-22\,-16)
DTSTART;TZID=Europe/Berlin:20240427T160000
DTEND;TZID=Europe/Berlin:20240427T180000
LOCATION:Sportovní hala Letovice\, V zahradách 831 Letovice
SUMMARY:MCR-U16M-A: Karlovarsko-Nová Paka
END:VEVENT
BEGIN:VEVENT
UID:65333865-6237-4366-a536-333339636532
DTSTAMP:20260424T190049Z
DESCRIPTION:1/11 Nová Paka - Letovice 0:2 (-12\,-15)
DTSTART;TZID=Europe/Berlin:20240427T173000
DTEND;TZID=Europe/Berlin:20240427T193000
LOCATION:Sportovní hala Letovice\, V zahradách 831 Letovice
SUMMARY:MCR-U16M-A: Nová Paka-Letovice
END:VEVENT
BEGIN:VEVENT
UID:66353531-6138-4633-b436-376164646536
DTSTAMP:20260424T190049Z
DESCRIPTION:1/12 Mnichovo Hradiště - Ostrava 1:2 (20\,-11\,-12)
DTSTART;TZID=Europe/Berlin:20240427T173000
DTEND;TZID=Europe/Berlin:20240427T193000
LOCATION:Sportovní hala Letovice\, V zahradách 831 Letovice
SUMMARY:MCR-U16M-A: Mnichovo Hradiště-Ostrava
END:VEVENT
BEGIN:VEVENT
UID:65386236-3562-4233-b936-323563333839
DTSTAMP:20260424T190049Z
DESCRIPTION:1/13 Havlíčkův Brod - Mnichovo Hradiště 2:0 (13\,12)
DTSTART;TZID=Europe/Berlin:20240427T190000
DTEND;TZID=Europe/Berlin:20240427T210000
LOCATION:Sportovní hala Letovice\, V zahradách 831 Letovice
SUMMARY:MCR-U16M-A: Havlíčkův Brod-Mnichovo Hradiště
END:VEVENT
BEGIN:VEVENT
UID:39353639-3330-4666-b832-343864363338
DTSTAMP:20260424T190049Z
DESCRIPTION:1/14 Most - Karlovarsko 1:2 (15\,-25\,-4)
DTSTART;TZID=Europe/Berlin:20240427T190000
DTEND;TZID=Europe/Berlin:20240427T210000
LOCATION:Sportovní hala Letovice\, V zahradách 831 Letovice
SUMMARY:MCR-U16M-A: Most-Karlovarsko
END:VEVENT
BEGIN:VEVENT
UID:64303832-3031-4761-b338-323131353165
DTSTAMP:20260424T190049Z
DESCRIPTION:2/15 Ostrava - Most 2:0 (7\,11)
DTSTART;TZID=Europe/Berlin:20240428T093000
DTEND;TZID=Europe/Berlin:20240428T113000
LOCATION:Sportovní hala Letovice\, V zahradách 831 Letovice
SUMMARY:MCR-U16M-A: Ostrava-Most
END:VEVENT
BEGIN:VEVENT
UID:39653465-3632-4036-a365-663066613334
DTSTAMP:20260424T190049Z
DESCRIPTION:2/16 Havlíčkův Brod - Karlovarsko 2:0 (13\,14)
DTSTART;TZID=Europe/Berlin:20240428T093000
DTEND;TZID=Europe/Berlin:20240428T113000
LOCATION:Sportovní hala Letovice\, V zahradách 831 Letovice
SUMMARY:MCR-U16M-A: Havlíčkův Brod-Karlovarsko
END:VEVENT
BEGIN:VEVENT
UID:63373735-6461-4532-a665-613238326666
DTSTAMP:20260424T190049Z
DESCRIPTION:2/17 Karlovarsko - Letovice 0:2 (-7\,-11)
DTSTART;TZID=Europe/Berlin:20240428T110000
DTEND;TZID=Europe/Berlin:20240428T130000
LOCATION:Sportovní hala Letovice\, V zahradách 831 Letovice
SUMMARY:MCR-U16M-A: Karlovarsko-Letovice
END:VEVENT
BEGIN:VEVENT
UID:37363033-3464-4165-b964-383066386135
DTSTAMP:20260424T190049Z
DESCRIPTION:2/18 Mnichovo Hradiště - Nová Paka 2:0 (15\,20)
DTSTART;TZID=Europe/Berlin:20240428T110000
DTEND;TZID=Europe/Berlin:20240428T130000
LOCATION:Sportovní hala Letovice\, V zahradách 831 Letovice
SUMMARY:MCR-U16M-A: Mnichovo Hradiště-Nová Paka
END:VEVENT
BEGIN:VEVENT
UID:65356264-3665-4032-a439-316330616564
DTSTAMP:20260424T190049Z
DESCRIPTION:2/19 Most - Nová Paka 0:2 (-17\,-17)
DTSTART;TZID=Europe/Berlin:20240428T123000
DTEND;TZID=Europe/Berlin:20240428T143000
LOCATION:Sportovní hala Letovice\, V zahradách 831 Letovice
SUMMARY:MCR-U16M-A: Most-Nová Paka
END:VEVENT
BEGIN:VEVENT
UID:39396236-3435-4432-a331-396438326561
DTSTAMP:20260424T190049Z
DESCRIPTION:2/20 Ostrava - Havlíčkův Brod 1:2 (17\,-20\,-10)
DTSTART;TZID=Europe/Berlin:20240428T123000
DTEND;TZID=Europe/Berlin:20240428T143000
LOCATION:Sportovní hala Letovice\, V zahradách 831 Letovice
SUMMARY:MCR-U16M-A: Ostrava-Havlíčkův Brod
END:VEVENT
BEGIN:VEVENT
UID:33313361-3530-4834-a135-366336656139
DTSTAMP:20260424T190049Z
DESCRIPTION:2/21 Letovice - Mnichovo Hradiště 0:2 (-23\,-23)
DTSTART;TZID=Europe/Berlin:20240428T140000
DTEND;TZID=Europe/Berlin:20240428T160000
LOCATION:Sportovní hala Letovice\, V zahradách 831 Letovice
SUMMARY:MCR-U16M-A: Letovice-Mnichovo Hradiště
END:VEVENT
END:VCALENDAR
