BEGIN:VCALENDAR
VERSION:2.0
PRODID:-//LIB-M-1//NONSGML kigkonsult.se iCalcreator 2.41.80//
CALSCALE:GREGORIAN
UID:64643835-3162-4930-b361-616162353463
BEGIN:VEVENT
UID:64316161-6336-4330-b861-386434633436
DTSTAMP:20260422T211441Z
DESCRIPTION:1/1 Tělovýchovná jednota Lokomotiva Liberec I\, z.s. - Vrtule F
 rýdlant\, z.s. 3:1 (22\,-21\,21\,12)
DTSTART;TZID=Europe/Berlin:20241019T100000
DTEND;TZID=Europe/Berlin:20241019T120000
LOCATION:TJ Lokomotiva Liberec 1.\, z.s.\, Jablonecká 562 Liberec - Liberec
  I-Staré Město
SUMMARY:LIB-M-1: Tělovýchovná jednota Lokomotiva Liberec I\, z.s.-Vrtule Fr
 ýdlant\, z.s.
END:VEVENT
BEGIN:VEVENT
UID:65363661-6236-4130-b761-333863326537
DTSTAMP:20260422T211441Z
DESCRIPTION:1/2 TJ Zákupy\, z.s. - Tělovýchovná jednota Bižuterie\, z.s. 3:
 0 (14\,19\,20)
DTSTART;TZID=Europe/Berlin:20241019T100000
DTEND;TZID=Europe/Berlin:20241019T120000
LOCATION:Hala ZŠ Zákupy\, Školní 347 Zákupy
SUMMARY:LIB-M-1: TJ Zákupy\, z.s.-Tělovýchovná jednota Bižuterie\, z.s.
END:VEVENT
BEGIN:VEVENT
UID:32363761-3537-4763-a663-653561366265
DTSTAMP:20260422T211441Z
DESCRIPTION:1/3 VK Malá Skála B - Tělovýchovná jednota Spartak Smržovka\, z
 .s. 0:3 (-15\,-21\,-24)\nzměna termínu
DTSTART;TZID=Europe/Berlin:20241005T100000
DTEND;TZID=Europe/Berlin:20241005T120000
LOCATION:tělocvična ZŠ\,  Malá Skála - Vranové 1.díl60
SUMMARY:LIB-M-1: VK Malá Skála B-Tělovýchovná jednota Spartak Smržovka\, z.
 s.
END:VEVENT
BEGIN:VEVENT
UID:61333563-3638-4736-b639-383164323063
DTSTAMP:20260422T211441Z
DESCRIPTION:2/4 Tělovýchovná jednota Lokomotiva Liberec I\, z.s. - Vrtule F
 rýdlant\, z.s. 1:3 (-23\,17\,-24\,-18)
DTSTART;TZID=Europe/Berlin:20241019T130000
DTEND;TZID=Europe/Berlin:20241019T150000
LOCATION:TJ Lokomotiva Liberec 1.\, z.s.\, Jablonecká 562 Liberec - Liberec
  I-Staré Město
SUMMARY:LIB-M-1: Tělovýchovná jednota Lokomotiva Liberec I\, z.s.-Vrtule Fr
 ýdlant\, z.s.
END:VEVENT
BEGIN:VEVENT
UID:64653562-6631-4830-b233-306430643836
DTSTAMP:20260422T211441Z
DESCRIPTION:2/5 TJ Zákupy\, z.s. - Tělovýchovná jednota Bižuterie\, z.s. 3:
 0 (12\,18\,22)
DTSTART;TZID=Europe/Berlin:20241019T130000
DTEND;TZID=Europe/Berlin:20241019T150000
LOCATION:Hala ZŠ Zákupy\, Školní 347 Zákupy
SUMMARY:LIB-M-1: TJ Zákupy\, z.s.-Tělovýchovná jednota Bižuterie\, z.s.
END:VEVENT
BEGIN:VEVENT
UID:30383135-6535-4162-a431-373465323533
DTSTAMP:20260422T211441Z
DESCRIPTION:2/6 VK Malá Skála B - Tělovýchovná jednota Spartak Smržovka\, z
 .s. 1:3 (-23\,21\,-15\,-23)\nzměna termínu
DTSTART;TZID=Europe/Berlin:20241005T130000
DTEND;TZID=Europe/Berlin:20241005T150000
LOCATION:tělocvična ZŠ\,  Malá Skála - Vranové 1.díl60
SUMMARY:LIB-M-1: VK Malá Skála B-Tělovýchovná jednota Spartak Smržovka\, z.
 s.
END:VEVENT
BEGIN:VEVENT
UID:65656138-3437-4563-b838-336133616264
DTSTAMP:20260422T211441Z
DESCRIPTION:3/7 TJ Zákupy\, z.s. - Vrtule Frýdlant\, z.s. 3:0 (17\,11\,23)
 \nzměna pořadatele
DTSTART;TZID=Europe/Berlin:20241026T100000
DTEND;TZID=Europe/Berlin:20241026T120000
LOCATION:Hala ZŠ Zákupy\, Školní 347 Zákupy
SUMMARY:LIB-M-1: TJ Zákupy\, z.s.-Vrtule Frýdlant\, z.s.
END:VEVENT
BEGIN:VEVENT
UID:30616539-3937-4166-b634-626431626539
DTSTAMP:20260422T211441Z
DESCRIPTION:3/8 Tělovýchovná jednota Spartak Smržovka\, z.s. - Tělovýchovná
  jednota Lokomotiva Liberec I\, z.s. 3:1 (20\,-22\,21\,18)
DTSTART;TZID=Europe/Berlin:20241026T100000
DTEND;TZID=Europe/Berlin:20241026T120000
LOCATION:Sportovní hala\, Tyršova 1369 Smržovka
SUMMARY:LIB-M-1: Tělovýchovná jednota Spartak Smržovka\, z.s.-Tělovýchovná 
 jednota Lokomotiva Liberec I\, z.s.
END:VEVENT
BEGIN:VEVENT
UID:30393434-3066-4431-a661-643334626330
DTSTAMP:20260422T211441Z
DESCRIPTION:3/9 Tělovýchovná jednota Bižuterie\, z.s. - VK Malá Skála B 3:1
  (19\,15\,-14\,18)
DTSTART;TZID=Europe/Berlin:20241026T100000
DTEND;TZID=Europe/Berlin:20241026T120000
LOCATION:Městská sportovní hala\, U Přehrady 4747 Jablonec nad Nisou
SUMMARY:LIB-M-1: Tělovýchovná jednota Bižuterie\, z.s.-VK Malá Skála B
END:VEVENT
BEGIN:VEVENT
UID:36313435-3263-4764-a565-613063393665
DTSTAMP:20260422T211441Z
DESCRIPTION:4/10 TJ Zákupy\, z.s. - Vrtule Frýdlant\, z.s. 3:1 (20\,21\,-23
 \,20)\nzměna pořadatele
DTSTART;TZID=Europe/Berlin:20241026T130000
DTEND;TZID=Europe/Berlin:20241026T150000
LOCATION:Hala ZŠ Zákupy\, Školní 347 Zákupy
SUMMARY:LIB-M-1: TJ Zákupy\, z.s.-Vrtule Frýdlant\, z.s.
END:VEVENT
BEGIN:VEVENT
UID:63306632-3762-4561-b630-333765313134
DTSTAMP:20260422T211441Z
DESCRIPTION:4/11 Tělovýchovná jednota Spartak Smržovka\, z.s. - Tělovýchovn
 á jednota Lokomotiva Liberec I\, z.s. 3:0 (11\,25\,20)
DTSTART;TZID=Europe/Berlin:20241026T130000
DTEND;TZID=Europe/Berlin:20241026T150000
LOCATION:Sportovní hala\, Tyršova 1369 Smržovka
SUMMARY:LIB-M-1: Tělovýchovná jednota Spartak Smržovka\, z.s.-Tělovýchovná 
 jednota Lokomotiva Liberec I\, z.s.
END:VEVENT
BEGIN:VEVENT
UID:31646238-6234-4631-b839-346464326639
DTSTAMP:20260422T211441Z
DESCRIPTION:4/12 Tělovýchovná jednota Bižuterie\, z.s. - VK Malá Skála B 3:
 0 (15\,20\,22)
DTSTART;TZID=Europe/Berlin:20241026T130000
DTEND;TZID=Europe/Berlin:20241026T150000
LOCATION:Městská sportovní hala\, U Přehrady 4747 Jablonec nad Nisou
SUMMARY:LIB-M-1: Tělovýchovná jednota Bižuterie\, z.s.-VK Malá Skála B
END:VEVENT
BEGIN:VEVENT
UID:39353430-3839-4738-a566-313032396262
DTSTAMP:20260422T211441Z
DESCRIPTION:5/13 Tělovýchovná jednota Spartak Smržovka\, z.s. - Vrtule Frýd
 lant\, z.s. 3:1 (-21\,21\,16\,16)
DTSTART;TZID=Europe/Berlin:20241102T100000
DTEND;TZID=Europe/Berlin:20241102T120000
LOCATION:Sportovní hala\, Tyršova 1369 Smržovka
SUMMARY:LIB-M-1: Tělovýchovná jednota Spartak Smržovka\, z.s.-Vrtule Frýdla
 nt\, z.s.
END:VEVENT
BEGIN:VEVENT
UID:39363036-3033-4561-b134-393063363531
DTSTAMP:20260422T211441Z
DESCRIPTION:5/14 VK Malá Skála B - TJ Zákupy\, z.s. 1:3 (-21\,-13\,21\,-11)
DTSTART;TZID=Europe/Berlin:20241102T090000
DTEND;TZID=Europe/Berlin:20241102T110000
LOCATION:tělocvična ZŠ\,  Malá Skála - Vranové 1.díl60
SUMMARY:LIB-M-1: VK Malá Skála B-TJ Zákupy\, z.s.
END:VEVENT
BEGIN:VEVENT
UID:39393932-3038-4331-a233-633362353437
DTSTAMP:20260422T211441Z
DESCRIPTION:5/15 Tělovýchovná jednota Lokomotiva Liberec I\, z.s. - Tělovýc
 hovná jednota Bižuterie\, z.s. 3:2 (23\,-23\,22\,-18\,8)
DTSTART;TZID=Europe/Berlin:20241102T110000
DTEND;TZID=Europe/Berlin:20241102T130000
LOCATION:TJ Lokomotiva Liberec 1.\, z.s.\, Jablonecká 562 Liberec - Liberec
  I-Staré Město
SUMMARY:LIB-M-1: Tělovýchovná jednota Lokomotiva Liberec I\, z.s.-Tělovýcho
 vná jednota Bižuterie\, z.s.
END:VEVENT
BEGIN:VEVENT
UID:35336636-6164-4539-a630-313262346235
DTSTAMP:20260422T211441Z
DESCRIPTION:6/16 Tělovýchovná jednota Spartak Smržovka\, z.s. - Vrtule Frýd
 lant\, z.s. 3:2 (-20\,-23\,13\,17\,3)
DTSTART;TZID=Europe/Berlin:20241102T130000
DTEND;TZID=Europe/Berlin:20241102T150000
LOCATION:Sportovní hala\, Tyršova 1369 Smržovka
SUMMARY:LIB-M-1: Tělovýchovná jednota Spartak Smržovka\, z.s.-Vrtule Frýdla
 nt\, z.s.
END:VEVENT
BEGIN:VEVENT
UID:35326161-3632-4065-a537-653132343836
DTSTAMP:20260422T211441Z
DESCRIPTION:6/17 VK Malá Skála B - TJ Zákupy\, z.s. 0:3 (-19\,-15\,-15)
DTSTART;TZID=Europe/Berlin:20241102T130000
DTEND;TZID=Europe/Berlin:20241102T150000
LOCATION:tělocvična ZŠ\,  Malá Skála - Vranové 1.díl60
SUMMARY:LIB-M-1: VK Malá Skála B-TJ Zákupy\, z.s.
END:VEVENT
BEGIN:VEVENT
UID:35353837-3238-4062-b432-383933323133
DTSTAMP:20260422T211441Z
DESCRIPTION:6/18 Tělovýchovná jednota Lokomotiva Liberec I\, z.s. - Tělovýc
 hovná jednota Bižuterie\, z.s. 3:1 (18\,20\,-21\,23)
DTSTART;TZID=Europe/Berlin:20241102T150000
DTEND;TZID=Europe/Berlin:20241102T170000
LOCATION:TJ Lokomotiva Liberec 1.\, z.s.\, Jablonecká 562 Liberec - Liberec
  I-Staré Město
SUMMARY:LIB-M-1: Tělovýchovná jednota Lokomotiva Liberec I\, z.s.-Tělovýcho
 vná jednota Bižuterie\, z.s.
END:VEVENT
BEGIN:VEVENT
UID:64386436-3362-4763-b664-643365363766
DTSTAMP:20260422T211441Z
DESCRIPTION:7/19 Vrtule Frýdlant\, z.s. - VK Malá Skála B 3:0 (20\,22\,19)
DTSTART;TZID=Europe/Berlin:20241109T100000
DTEND;TZID=Europe/Berlin:20241109T120000
LOCATION:Střední škola hospodářská a lesnická \, Bělíkova 1387 Frýdlant
SUMMARY:LIB-M-1: Vrtule Frýdlant\, z.s.-VK Malá Skála B
END:VEVENT
BEGIN:VEVENT
UID:34363065-6561-4864-a536-363231343861
DTSTAMP:20260422T211441Z
DESCRIPTION:7/20 Tělovýchovná jednota Bižuterie\, z.s. - Tělovýchovná jedno
 ta Spartak Smržovka\, z.s. 3:0 (22\,18\,21)
DTSTART;TZID=Europe/Berlin:20241109T110000
DTEND;TZID=Europe/Berlin:20241109T130000
LOCATION:Městská sportovní hala\, U Přehrady 4747 Jablonec nad Nisou
SUMMARY:LIB-M-1: Tělovýchovná jednota Bižuterie\, z.s.-Tělovýchovná jednota
  Spartak Smržovka\, z.s.
END:VEVENT
BEGIN:VEVENT
UID:35303564-3833-4166-b133-313665646334
DTSTAMP:20260422T211441Z
DESCRIPTION:7/21 TJ Zákupy\, z.s. - Tělovýchovná jednota Lokomotiva Liberec
  I\, z.s. 3:1 (20\,-26\,20\,13)
DTSTART;TZID=Europe/Berlin:20241109T100000
DTEND;TZID=Europe/Berlin:20241109T120000
LOCATION:Hala ZŠ Zákupy\, Školní 347 Zákupy
SUMMARY:LIB-M-1: TJ Zákupy\, z.s.-Tělovýchovná jednota Lokomotiva Liberec I
 \, z.s.
END:VEVENT
BEGIN:VEVENT
UID:64623330-3134-4737-b631-316132393962
DTSTAMP:20260422T211441Z
DESCRIPTION:8/22 Vrtule Frýdlant\, z.s. - VK Malá Skála B 3:1 (13\,-21\,18\
 ,22)
DTSTART;TZID=Europe/Berlin:20241109T130000
DTEND;TZID=Europe/Berlin:20241109T150000
LOCATION:Střední škola hospodářská a lesnická \, Bělíkova 1387 Frýdlant
SUMMARY:LIB-M-1: Vrtule Frýdlant\, z.s.-VK Malá Skála B
END:VEVENT
BEGIN:VEVENT
UID:33613335-3664-4762-b035-666533333862
DTSTAMP:20260422T211441Z
DESCRIPTION:8/23 Tělovýchovná jednota Bižuterie\, z.s. - Tělovýchovná jedno
 ta Spartak Smržovka\, z.s. 3:2 (-15\,-21\,23\,9\,11)
DTSTART;TZID=Europe/Berlin:20241109T143000
DTEND;TZID=Europe/Berlin:20241109T163000
LOCATION:Městská sportovní hala\, U Přehrady 4747 Jablonec nad Nisou
SUMMARY:LIB-M-1: Tělovýchovná jednota Bižuterie\, z.s.-Tělovýchovná jednota
  Spartak Smržovka\, z.s.
END:VEVENT
BEGIN:VEVENT
UID:38393330-3332-4061-b830-643462366438
DTSTAMP:20260422T211441Z
DESCRIPTION:8/24 TJ Zákupy\, z.s. - Tělovýchovná jednota Lokomotiva Liberec
  I\, z.s. 3:0 (21\,15\,13)
DTSTART;TZID=Europe/Berlin:20241109T130000
DTEND;TZID=Europe/Berlin:20241109T150000
LOCATION:Hala ZŠ Zákupy\, Školní 347 Zákupy
SUMMARY:LIB-M-1: TJ Zákupy\, z.s.-Tělovýchovná jednota Lokomotiva Liberec I
 \, z.s.
END:VEVENT
BEGIN:VEVENT
UID:30626336-3461-4238-b735-666339386361
DTSTAMP:20260422T211441Z
DESCRIPTION:9/25 Vrtule Frýdlant\, z.s. - Tělovýchovná jednota Bižuterie\, 
 z.s. 1:3 (22\,-23\,-31\,-20)\nzměna pořadatele
DTSTART;TZID=Europe/Berlin:20241123T100000
DTEND;TZID=Europe/Berlin:20241123T120000
LOCATION:Střední škola hospodářská a lesnická \, Bělíkova 1387 Frýdlant
SUMMARY:LIB-M-1: Vrtule Frýdlant\, z.s.-Tělovýchovná jednota Bižuterie\, z.
 s.
END:VEVENT
BEGIN:VEVENT
UID:33303233-3463-4639-b134-316538373466
DTSTAMP:20260422T211441Z
DESCRIPTION:9/26 Tělovýchovná jednota Lokomotiva Liberec I\, z.s. - VK Malá
  Skála B 2:3 (-20\,-23\,23\,13\,-12)
DTSTART;TZID=Europe/Berlin:20250222T100000
DTEND;TZID=Europe/Berlin:20250222T120000
LOCATION:TJ Lokomotiva Liberec 1.\, z.s.\, Jablonecká 562 Liberec - Liberec
  I-Staré Město
SUMMARY:LIB-M-1: Tělovýchovná jednota Lokomotiva Liberec I\, z.s.-VK Malá S
 kála B
END:VEVENT
BEGIN:VEVENT
UID:66646134-3037-4436-b730-356335663864
DTSTAMP:20260422T211441Z
DESCRIPTION:9/27 Tělovýchovná jednota Spartak Smržovka\, z.s. - TJ Zákupy\,
  z.s. 1:3 (-25\,-15\,21\,-13)
DTSTART;TZID=Europe/Berlin:20241123T100000
DTEND;TZID=Europe/Berlin:20241123T120000
LOCATION:Sportovní hala\, Tyršova 1369 Smržovka
SUMMARY:LIB-M-1: Tělovýchovná jednota Spartak Smržovka\, z.s.-TJ Zákupy\, z
 .s.
END:VEVENT
BEGIN:VEVENT
UID:61306437-3838-4832-b464-613434663839
DTSTAMP:20260422T211441Z
DESCRIPTION:10/28 Vrtule Frýdlant\, z.s. - Tělovýchovná jednota Bižuterie\,
  z.s. 1:3 (-15\,23\,-24\,-20)\nzměna pořadatele
DTSTART;TZID=Europe/Berlin:20241123T130000
DTEND;TZID=Europe/Berlin:20241123T150000
LOCATION:Střední škola hospodářská a lesnická \, Bělíkova 1387 Frýdlant
SUMMARY:LIB-M-1: Vrtule Frýdlant\, z.s.-Tělovýchovná jednota Bižuterie\, z.
 s.
END:VEVENT
BEGIN:VEVENT
UID:34306338-3761-4236-a333-663937653734
DTSTAMP:20260422T211441Z
DESCRIPTION:10/29 Tělovýchovná jednota Lokomotiva Liberec I\, z.s. - VK Mal
 á Skála B 3:0 (28\,10\,19)
DTSTART;TZID=Europe/Berlin:20250222T130000
DTEND;TZID=Europe/Berlin:20250222T150000
LOCATION:TJ Lokomotiva Liberec 1.\, z.s.\, Jablonecká 562 Liberec - Liberec
  I-Staré Město
SUMMARY:LIB-M-1: Tělovýchovná jednota Lokomotiva Liberec I\, z.s.-VK Malá S
 kála B
END:VEVENT
BEGIN:VEVENT
UID:62376537-3235-4063-a139-396664643534
DTSTAMP:20260422T211441Z
DESCRIPTION:10/30 Tělovýchovná jednota Spartak Smržovka\, z.s. - TJ Zákupy\
 , z.s. 0:3 (-20\,-15\,-21)
DTSTART;TZID=Europe/Berlin:20241123T130000
DTEND;TZID=Europe/Berlin:20241123T150000
LOCATION:Sportovní hala\, Tyršova 1369 Smržovka
SUMMARY:LIB-M-1: Tělovýchovná jednota Spartak Smržovka\, z.s.-TJ Zákupy\, z
 .s.
END:VEVENT
BEGIN:VEVENT
UID:35653464-3064-4862-a466-343864666333
DTSTAMP:20260422T211441Z
DESCRIPTION:11/31 Vrtule Frýdlant\, z.s. - Tělovýchovná jednota Lokomotiva 
 Liberec I\, z.s. 1:3 (23\,-10\,-19\,-20)
DTSTART;TZID=Europe/Berlin:20250125T100000
DTEND;TZID=Europe/Berlin:20250125T120000
LOCATION:Střední škola hospodářská a lesnická \, Bělíkova 1387 Frýdlant
SUMMARY:LIB-M-1: Vrtule Frýdlant\, z.s.-Tělovýchovná jednota Lokomotiva Lib
 erec I\, z.s.
END:VEVENT
BEGIN:VEVENT
UID:30653339-6265-4237-b739-616537396534
DTSTAMP:20260422T211441Z
DESCRIPTION:11/32 Tělovýchovná jednota Bižuterie\, z.s. - TJ Zákupy\, z.s. 
 3:0 (18\,23\,21)
DTSTART;TZID=Europe/Berlin:20250125T110000
DTEND;TZID=Europe/Berlin:20250125T130000
LOCATION:Městská sportovní hala\, U Přehrady 4747 Jablonec nad Nisou
SUMMARY:LIB-M-1: Tělovýchovná jednota Bižuterie\, z.s.-TJ Zákupy\, z.s.
END:VEVENT
BEGIN:VEVENT
UID:39353435-3733-4264-b332-383739623364
DTSTAMP:20260422T211441Z
DESCRIPTION:11/33 Tělovýchovná jednota Spartak Smržovka\, z.s. - VK Malá Sk
 ála B 3:0 (22\,17\,23)
DTSTART;TZID=Europe/Berlin:20250125T100000
DTEND;TZID=Europe/Berlin:20250125T120000
LOCATION:Sportovní hala\, Tyršova 1369 Smržovka
SUMMARY:LIB-M-1: Tělovýchovná jednota Spartak Smržovka\, z.s.-VK Malá Skála
  B
END:VEVENT
BEGIN:VEVENT
UID:65633962-6533-4238-b161-383462386338
DTSTAMP:20260422T211441Z
DESCRIPTION:12/34 Vrtule Frýdlant\, z.s. - Tělovýchovná jednota Lokomotiva 
 Liberec I\, z.s. 3:0 (28\,18\,17)
DTSTART;TZID=Europe/Berlin:20250125T130000
DTEND;TZID=Europe/Berlin:20250125T150000
LOCATION:Střední škola hospodářská a lesnická \, Bělíkova 1387 Frýdlant
SUMMARY:LIB-M-1: Vrtule Frýdlant\, z.s.-Tělovýchovná jednota Lokomotiva Lib
 erec I\, z.s.
END:VEVENT
BEGIN:VEVENT
UID:66303330-6639-4535-b461-356562613339
DTSTAMP:20260422T211441Z
DESCRIPTION:12/35 Tělovýchovná jednota Bižuterie\, z.s. - TJ Zákupy\, z.s. 
 1:3 (-22\,22\,-17\,-21)
DTSTART;TZID=Europe/Berlin:20250125T140000
DTEND;TZID=Europe/Berlin:20250125T160000
LOCATION:Městská sportovní hala\, U Přehrady 4747 Jablonec nad Nisou
SUMMARY:LIB-M-1: Tělovýchovná jednota Bižuterie\, z.s.-TJ Zákupy\, z.s.
END:VEVENT
BEGIN:VEVENT
UID:33636438-3239-4262-b661-643831386430
DTSTAMP:20260422T211441Z
DESCRIPTION:12/36 Tělovýchovná jednota Spartak Smržovka\, z.s. - VK Malá Sk
 ála B 3:0 (23\,24\,17)
DTSTART;TZID=Europe/Berlin:20250125T130000
DTEND;TZID=Europe/Berlin:20250125T150000
LOCATION:Sportovní hala\, Tyršova 1369 Smržovka
SUMMARY:LIB-M-1: Tělovýchovná jednota Spartak Smržovka\, z.s.-VK Malá Skála
  B
END:VEVENT
BEGIN:VEVENT
UID:32626462-3836-4531-b561-643030373266
DTSTAMP:20260422T211441Z
DESCRIPTION:13/37 Vrtule Frýdlant\, z.s. - TJ Zákupy\, z.s. 3:1 (19\,-19\,1
 9\,20)\nzměna pořadatele
DTSTART;TZID=Europe/Berlin:20250201T100000
DTEND;TZID=Europe/Berlin:20250201T120000
LOCATION:Střední škola hospodářská a lesnická \, Bělíkova 1387 Frýdlant
SUMMARY:LIB-M-1: Vrtule Frýdlant\, z.s.-TJ Zákupy\, z.s.
END:VEVENT
BEGIN:VEVENT
UID:36633435-6166-4933-b636-626364313239
DTSTAMP:20260422T211441Z
DESCRIPTION:13/38 Tělovýchovná jednota Lokomotiva Liberec I\, z.s. - Tělový
 chovná jednota Spartak Smržovka\, z.s. 1:3 (16\,-23\,-17\,-28)
DTSTART;TZID=Europe/Berlin:20250201T100000
DTEND;TZID=Europe/Berlin:20250201T120000
LOCATION:TJ Lokomotiva Liberec 1.\, z.s.\, Jablonecká 562 Liberec - Liberec
  I-Staré Město
SUMMARY:LIB-M-1: Tělovýchovná jednota Lokomotiva Liberec I\, z.s.-Tělovýcho
 vná jednota Spartak Smržovka\, z.s.
END:VEVENT
BEGIN:VEVENT
UID:32663561-3335-4736-b633-366562313930
DTSTAMP:20260422T211441Z
DESCRIPTION:13/39 VK Malá Skála B - Tělovýchovná jednota Bižuterie\, z.s. 0
 :3 (-18\,-15\,-23)\nzměna termínu a času
DTSTART;TZID=Europe/Berlin:20250301T110000
DTEND;TZID=Europe/Berlin:20250301T130000
LOCATION:tělocvična ZŠ\,  Malá Skála - Vranové 1.díl60
SUMMARY:LIB-M-1: VK Malá Skála B-Tělovýchovná jednota Bižuterie\, z.s.
END:VEVENT
BEGIN:VEVENT
UID:33623564-3464-4133-b032-623063343162
DTSTAMP:20260422T211441Z
DESCRIPTION:14/40 Vrtule Frýdlant\, z.s. - TJ Zákupy\, z.s. 2:3 (-15\,-19\,
 23\,21\,-20)\nzměna pořadatele
DTSTART;TZID=Europe/Berlin:20250201T130000
DTEND;TZID=Europe/Berlin:20250201T150000
LOCATION:Střední škola hospodářská a lesnická \, Bělíkova 1387 Frýdlant
SUMMARY:LIB-M-1: Vrtule Frýdlant\, z.s.-TJ Zákupy\, z.s.
END:VEVENT
BEGIN:VEVENT
UID:32343236-6261-4038-b032-643937366239
DTSTAMP:20260422T211441Z
DESCRIPTION:14/41 Tělovýchovná jednota Lokomotiva Liberec I\, z.s. - Tělový
 chovná jednota Spartak Smržovka\, z.s. 0:3 (-10\,-28\,-21)
DTSTART;TZID=Europe/Berlin:20250201T130000
DTEND;TZID=Europe/Berlin:20250201T150000
LOCATION:TJ Lokomotiva Liberec 1.\, z.s.\, Jablonecká 562 Liberec - Liberec
  I-Staré Město
SUMMARY:LIB-M-1: Tělovýchovná jednota Lokomotiva Liberec I\, z.s.-Tělovýcho
 vná jednota Spartak Smržovka\, z.s.
END:VEVENT
BEGIN:VEVENT
UID:65386131-6461-4437-b934-373033626133
DTSTAMP:20260422T211441Z
DESCRIPTION:14/42 VK Malá Skála B - Tělovýchovná jednota Bižuterie\, z.s. 2
 :3 (24\,20\,-20\,-22\,-9)\nzměna termínu a času
DTSTART;TZID=Europe/Berlin:20250301T150000
DTEND;TZID=Europe/Berlin:20250301T170000
LOCATION:tělocvična ZŠ\,  Malá Skála - Vranové 1.díl60
SUMMARY:LIB-M-1: VK Malá Skála B-Tělovýchovná jednota Bižuterie\, z.s.
END:VEVENT
BEGIN:VEVENT
UID:34336638-6432-4134-b934-326661373231
DTSTAMP:20260422T211441Z
DESCRIPTION:15/43 Vrtule Frýdlant\, z.s. - Tělovýchovná jednota Spartak Smr
 žovka\, z.s. 1:3 (-15\,24\,-17\,-19)
DTSTART;TZID=Europe/Berlin:20250208T100000
DTEND;TZID=Europe/Berlin:20250208T120000
LOCATION:Střední škola hospodářská a lesnická \, Bělíkova 1387 Frýdlant
SUMMARY:LIB-M-1: Vrtule Frýdlant\, z.s.-Tělovýchovná jednota Spartak Smržov
 ka\, z.s.
END:VEVENT
BEGIN:VEVENT
UID:39363434-6266-4461-b535-346337393831
DTSTAMP:20260422T211441Z
DESCRIPTION:15/44 TJ Zákupy\, z.s. - VK Malá Skála B 3:0 (13\,13\,15)
DTSTART;TZID=Europe/Berlin:20250208T100000
DTEND;TZID=Europe/Berlin:20250208T120000
LOCATION:Hala ZŠ Zákupy\, Školní 347 Zákupy
SUMMARY:LIB-M-1: TJ Zákupy\, z.s.-VK Malá Skála B
END:VEVENT
BEGIN:VEVENT
UID:39396361-6264-4337-b964-383733653934
DTSTAMP:20260422T211441Z
DESCRIPTION:15/45 Tělovýchovná jednota Bižuterie\, z.s. - Tělovýchovná jedn
 ota Lokomotiva Liberec I\, z.s. 3:0 (22\,17\,26)\nzměna času
DTSTART;TZID=Europe/Berlin:20250208T110000
DTEND;TZID=Europe/Berlin:20250208T130000
LOCATION:Městská sportovní hala\, U Přehrady 4747 Jablonec nad Nisou
SUMMARY:LIB-M-1: Tělovýchovná jednota Bižuterie\, z.s.-Tělovýchovná jednota
  Lokomotiva Liberec I\, z.s.
END:VEVENT
BEGIN:VEVENT
UID:66376134-6632-4564-b664-316239616635
DTSTAMP:20260422T211441Z
DESCRIPTION:16/46 Vrtule Frýdlant\, z.s. - Tělovýchovná jednota Spartak Smr
 žovka\, z.s. 2:3 (-23\,-22\,17\,22\,-11)
DTSTART;TZID=Europe/Berlin:20250208T130000
DTEND;TZID=Europe/Berlin:20250208T150000
LOCATION:Střední škola hospodářská a lesnická \, Bělíkova 1387 Frýdlant
SUMMARY:LIB-M-1: Vrtule Frýdlant\, z.s.-Tělovýchovná jednota Spartak Smržov
 ka\, z.s.
END:VEVENT
BEGIN:VEVENT
UID:61343730-3931-4431-b465-323434373163
DTSTAMP:20260422T211441Z
DESCRIPTION:16/47 TJ Zákupy\, z.s. - VK Malá Skála B 3:0 (18\,14\,14)
DTSTART;TZID=Europe/Berlin:20250208T130000
DTEND;TZID=Europe/Berlin:20250208T150000
LOCATION:Hala ZŠ Zákupy\, Školní 347 Zákupy
SUMMARY:LIB-M-1: TJ Zákupy\, z.s.-VK Malá Skála B
END:VEVENT
BEGIN:VEVENT
UID:36303937-3633-4262-b130-353639363536
DTSTAMP:20260422T211441Z
DESCRIPTION:16/48 Tělovýchovná jednota Bižuterie\, z.s. - Tělovýchovná jedn
 ota Lokomotiva Liberec I\, z.s. 2:3 (-22\,-22\,17\,20\,-13)\nzměna času
DTSTART;TZID=Europe/Berlin:20250208T140000
DTEND;TZID=Europe/Berlin:20250208T160000
LOCATION:Městská sportovní hala\, U Přehrady 4747 Jablonec nad Nisou
SUMMARY:LIB-M-1: Tělovýchovná jednota Bižuterie\, z.s.-Tělovýchovná jednota
  Lokomotiva Liberec I\, z.s.
END:VEVENT
BEGIN:VEVENT
UID:61336236-3466-4634-a130-333435646631
DTSTAMP:20260422T211441Z
DESCRIPTION:17/49 VK Malá Skála B - Vrtule Frýdlant\, z.s. 1:3 (-21\,-17\,2
 2\,-21)
DTSTART;TZID=Europe/Berlin:20250215T100000
DTEND;TZID=Europe/Berlin:20250215T120000
LOCATION:tělocvična ZŠ\,  Malá Skála - Vranové 1.díl60
SUMMARY:LIB-M-1: VK Malá Skála B-Vrtule Frýdlant\, z.s.
END:VEVENT
BEGIN:VEVENT
UID:66313734-3339-4638-b935-626634646532
DTSTAMP:20260422T211441Z
DESCRIPTION:17/50 Tělovýchovná jednota Spartak Smržovka\, z.s. - Tělovýchov
 ná jednota Bižuterie\, z.s. 1:3 (-13\,25\,-20\,-23)
DTSTART;TZID=Europe/Berlin:20250215T100000
DTEND;TZID=Europe/Berlin:20250215T120000
LOCATION:Sportovní hala\, Tyršova 1369 Smržovka
SUMMARY:LIB-M-1: Tělovýchovná jednota Spartak Smržovka\, z.s.-Tělovýchovná 
 jednota Bižuterie\, z.s.
END:VEVENT
BEGIN:VEVENT
UID:30353339-3466-4666-b863-393566376138
DTSTAMP:20260422T211441Z
DESCRIPTION:17/51 Tělovýchovná jednota Lokomotiva Liberec I\, z.s. - TJ Zák
 upy\, z.s. 0:3 (-17\,-20\,-23)\nzměna času
DTSTART;TZID=Europe/Berlin:20250215T110000
DTEND;TZID=Europe/Berlin:20250215T130000
LOCATION:TJ Lokomotiva Liberec 1.\, z.s.\, Jablonecká 562 Liberec - Liberec
  I-Staré Město
SUMMARY:LIB-M-1: Tělovýchovná jednota Lokomotiva Liberec I\, z.s.-TJ Zákupy
 \, z.s.
END:VEVENT
BEGIN:VEVENT
UID:38616137-6537-4937-b464-626132393735
DTSTAMP:20260422T211441Z
DESCRIPTION:18/52 VK Malá Skála B - Vrtule Frýdlant\, z.s. 1:3 (-15\,-22\,2
 1\,-22)
DTSTART;TZID=Europe/Berlin:20250215T130000
DTEND;TZID=Europe/Berlin:20250215T150000
LOCATION:tělocvična ZŠ\,  Malá Skála - Vranové 1.díl60
SUMMARY:LIB-M-1: VK Malá Skála B-Vrtule Frýdlant\, z.s.
END:VEVENT
BEGIN:VEVENT
UID:36633363-6234-4461-b936-626430386136
DTSTAMP:20260422T211441Z
DESCRIPTION:18/53 Tělovýchovná jednota Spartak Smržovka\, z.s. - Tělovýchov
 ná jednota Bižuterie\, z.s. 3:1 (-19\,17\,19\,26)
DTSTART;TZID=Europe/Berlin:20250215T130000
DTEND;TZID=Europe/Berlin:20250215T150000
LOCATION:Sportovní hala\, Tyršova 1369 Smržovka
SUMMARY:LIB-M-1: Tělovýchovná jednota Spartak Smržovka\, z.s.-Tělovýchovná 
 jednota Bižuterie\, z.s.
END:VEVENT
BEGIN:VEVENT
UID:32323430-6637-4630-a664-323732663034
DTSTAMP:20260422T211441Z
DESCRIPTION:18/54 Tělovýchovná jednota Lokomotiva Liberec I\, z.s. - TJ Zák
 upy\, z.s. 0:3 (-18\,-15\,-17)\nzměna času
DTSTART;TZID=Europe/Berlin:20250215T150000
DTEND;TZID=Europe/Berlin:20250215T170000
LOCATION:TJ Lokomotiva Liberec 1.\, z.s.\, Jablonecká 562 Liberec - Liberec
  I-Staré Město
SUMMARY:LIB-M-1: Tělovýchovná jednota Lokomotiva Liberec I\, z.s.-TJ Zákupy
 \, z.s.
END:VEVENT
BEGIN:VEVENT
UID:31316232-6532-4135-b231-316237353334
DTSTAMP:20260422T211441Z
DESCRIPTION:19/55 Tělovýchovná jednota Bižuterie\, z.s. - Vrtule Frýdlant\,
  z.s. 3:2 (-17\,22\,-22\,22\,12)\nzměna pořadatele a času
DTSTART;TZID=Europe/Berlin:20250222T110000
DTEND;TZID=Europe/Berlin:20250222T130000
LOCATION:Městská sportovní hala\, U Přehrady 4747 Jablonec nad Nisou
SUMMARY:LIB-M-1: Tělovýchovná jednota Bižuterie\, z.s.-Vrtule Frýdlant\, z.
 s.
END:VEVENT
BEGIN:VEVENT
UID:37663035-3738-4364-b865-336161353437
DTSTAMP:20260422T211441Z
DESCRIPTION:19/56 VK Malá Skála B - Tělovýchovná jednota Lokomotiva Liberec
  I\, z.s. 3:1 (15\,-20\,21\,8)
DTSTART;TZID=Europe/Berlin:20241116T090000
DTEND;TZID=Europe/Berlin:20241116T110000
LOCATION:tělocvična ZŠ\,  Malá Skála - Vranové 1.díl60
SUMMARY:LIB-M-1: VK Malá Skála B-Tělovýchovná jednota Lokomotiva Liberec I\
 , z.s.
END:VEVENT
BEGIN:VEVENT
UID:36323238-3137-4735-b139-333137343138
DTSTAMP:20260422T211441Z
DESCRIPTION:19/57 TJ Zákupy\, z.s. - Tělovýchovná jednota Spartak Smržovka\
 , z.s. 3:0 (22\,21\,23)
DTSTART;TZID=Europe/Berlin:20250222T100000
DTEND;TZID=Europe/Berlin:20250222T120000
LOCATION:Hala ZŠ Zákupy\, Školní 347 Zákupy
SUMMARY:LIB-M-1: TJ Zákupy\, z.s.-Tělovýchovná jednota Spartak Smržovka\, z
 .s.
END:VEVENT
BEGIN:VEVENT
UID:35636632-6263-4934-b065-346634643066
DTSTAMP:20260422T211441Z
DESCRIPTION:20/58 Tělovýchovná jednota Bižuterie\, z.s. - Vrtule Frýdlant\,
  z.s. 3:1 (-21\,16\,12\,22)\nzměna pořadatele a času
DTSTART;TZID=Europe/Berlin:20250222T140000
DTEND;TZID=Europe/Berlin:20250222T160000
LOCATION:Městská sportovní hala\, U Přehrady 4747 Jablonec nad Nisou
SUMMARY:LIB-M-1: Tělovýchovná jednota Bižuterie\, z.s.-Vrtule Frýdlant\, z.
 s.
END:VEVENT
BEGIN:VEVENT
UID:35623762-3462-4132-b539-353933393763
DTSTAMP:20260422T211441Z
DESCRIPTION:20/59 VK Malá Skála B - Tělovýchovná jednota Lokomotiva Liberec
  I\, z.s. 3:0 (15\,22\,21)
DTSTART;TZID=Europe/Berlin:20241116T130000
DTEND;TZID=Europe/Berlin:20241116T150000
LOCATION:tělocvična ZŠ\,  Malá Skála - Vranové 1.díl60
SUMMARY:LIB-M-1: VK Malá Skála B-Tělovýchovná jednota Lokomotiva Liberec I\
 , z.s.
END:VEVENT
BEGIN:VEVENT
UID:35663034-3733-4763-a162-356461306663
DTSTAMP:20260422T211441Z
DESCRIPTION:20/60 TJ Zákupy\, z.s. - Tělovýchovná jednota Spartak Smržovka\
 , z.s. 3:1 (21\,18\,-23\,20)
DTSTART;TZID=Europe/Berlin:20250222T130000
DTEND;TZID=Europe/Berlin:20250222T150000
LOCATION:Hala ZŠ Zákupy\, Školní 347 Zákupy
SUMMARY:LIB-M-1: TJ Zákupy\, z.s.-Tělovýchovná jednota Spartak Smržovka\, z
 .s.
END:VEVENT
END:VCALENDAR
