BEGIN:VCALENDAR
VERSION:2.0
PRODID:-//1-M-A//NONSGML kigkonsult.se iCalcreator 2.41.80//
CALSCALE:GREGORIAN
UID:65653863-6634-4332-b566-373339343236
BEGIN:VEVENT
UID:65613134-3464-4662-b132-333939356237
DTSTAMP:20260424T233445Z
DESCRIPTION:1/12001 Lvi Praha B - České Budějovice B 3:1 (21\,24\,-23\,19)
DTSTART;TZID=Europe/Berlin:20240920T180000
DTEND;TZID=Europe/Berlin:20240920T200000
LOCATION:Sportovní hala Lužiny\, Bellušova 1877 Praha - Stodůlky
SUMMARY:1-M-A: Lvi Praha B-České Budějovice B
END:VEVENT
BEGIN:VEVENT
UID:33613337-6539-4363-b439-616638316163
DTSTAMP:20260424T233445Z
DESCRIPTION:1/12003 Kolín - ČZU Praha 3:2 (-20\,22\,-21\,24\,12)
DTSTART;TZID=Europe/Berlin:20240920T180000
DTEND;TZID=Europe/Berlin:20240920T200000
LOCATION:Sportovní hala Borky\, Brankovická 1216 Kolín - Kolín V
SUMMARY:1-M-A: Kolín-ČZU Praha
END:VEVENT
BEGIN:VEVENT
UID:66623837-3331-4334-b932-356232633135
DTSTAMP:20260424T233445Z
DESCRIPTION:1/12004 Dobřichovice - MFF Praha 3:2 (-25\,-23\,22\,19\,12)
DTSTART;TZID=Europe/Berlin:20240920T190000
DTEND;TZID=Europe/Berlin:20240920T210000
LOCATION:BIOS\, Pražská 375 Dobřichovice
SUMMARY:1-M-A: Dobřichovice-MFF Praha
END:VEVENT
BEGIN:VEVENT
UID:31393834-3636-4230-b039-393836386238
DTSTAMP:20260424T233445Z
DESCRIPTION:2/12005 České Budějovice B - MFF Praha 3:0 (20\,19\,23)
DTSTART;TZID=Europe/Berlin:20240927T190000
DTEND;TZID=Europe/Berlin:20240927T210000
LOCATION:ZŠ Oskara Nedbala České Budějovice\, O. Nedbala 882 České Budějovi
 ce - České Budějovice 2
SUMMARY:1-M-A: České Budějovice B-MFF Praha
END:VEVENT
BEGIN:VEVENT
UID:36316231-6137-4430-b330-643463343862
DTSTAMP:20260424T233445Z
DESCRIPTION:2/12006 ČZU Praha - Dobřichovice 2:3 (19\,20\,-16\,-18\,-9)
DTSTART;TZID=Europe/Berlin:20241002T190000
DTEND;TZID=Europe/Berlin:20241002T210000
LOCATION:Sportcentrum Suchdol ČZU\, Sídlištní 1167 Praha - Suchdol
SUMMARY:1-M-A: ČZU Praha-Dobřichovice
END:VEVENT
BEGIN:VEVENT
UID:31613135-3939-4034-b462-633561343332
DTSTAMP:20260424T233445Z
DESCRIPTION:2/12007 Liberec B - Kolín 1:3 (21\,-12\,-26\,-18)
DTSTART;TZID=Europe/Berlin:20240927T190000
DTEND;TZID=Europe/Berlin:20240927T210000
LOCATION:Dukla Liberec\, Jeronýmova 558 Liberec - Liberec VII-Horní Růžodol
SUMMARY:1-M-A: Liberec B-Kolín
END:VEVENT
BEGIN:VEVENT
UID:33623636-3563-4530-a432-613933353265
DTSTAMP:20260424T233445Z
DESCRIPTION:3/12010 Kolín - Lvi Praha B 2:3 (13\,-18\,23\,-14\,-12)
DTSTART;TZID=Europe/Berlin:20241004T180000
DTEND;TZID=Europe/Berlin:20241004T200000
LOCATION:Sportovní hala Borky\, Brankovická 1216 Kolín - Kolín V
SUMMARY:1-M-A: Kolín-Lvi Praha B
END:VEVENT
BEGIN:VEVENT
UID:38373232-6238-4930-b637-663333633239
DTSTAMP:20260424T233445Z
DESCRIPTION:3/12011 Dobřichovice - Liberec B 3:2 (16\,-23\,15\,-20\,15)
DTSTART;TZID=Europe/Berlin:20241004T190000
DTEND;TZID=Europe/Berlin:20241004T210000
LOCATION:BIOS\, Pražská 375 Dobřichovice
SUMMARY:1-M-A: Dobřichovice-Liberec B
END:VEVENT
BEGIN:VEVENT
UID:34353166-6561-4231-b964-366265626536
DTSTAMP:20260424T233445Z
DESCRIPTION:3/12012 MFF Praha - ČZU Praha 2:3 (21\,-23\,22\,-22\,-10)
DTSTART;TZID=Europe/Berlin:20241004T190000
DTEND;TZID=Europe/Berlin:20241004T210000
LOCATION:Sportovní centrum UK\, Bruslařská 1132 Praha - Hostivař
SUMMARY:1-M-A: MFF Praha-ČZU Praha
END:VEVENT
BEGIN:VEVENT
UID:36663661-3361-4731-b136-653032333832
DTSTAMP:20260424T233445Z
DESCRIPTION:4/12013 České Budějovice B - ČZU Praha 3:0 (15\,19\,21)
DTSTART;TZID=Europe/Berlin:20241011T190000
DTEND;TZID=Europe/Berlin:20241011T210000
LOCATION:ZŠ Oskara Nedbala České Budějovice\, O. Nedbala 882 České Budějovi
 ce - České Budějovice 2
SUMMARY:1-M-A: České Budějovice B-ČZU Praha
END:VEVENT
BEGIN:VEVENT
UID:39623236-6235-4336-b338-363832346236
DTSTAMP:20260424T233445Z
DESCRIPTION:4/12014 Liberec B - MFF Praha 3:1 (20\,18\,-22\,23)
DTSTART;TZID=Europe/Berlin:20241011T190000
DTEND;TZID=Europe/Berlin:20241011T210000
LOCATION:Dukla Liberec\, Jeronýmova 558 Liberec - Liberec VII-Horní Růžodol
SUMMARY:1-M-A: Liberec B-MFF Praha
END:VEVENT
BEGIN:VEVENT
UID:33383132-3636-4635-b439-623235393963
DTSTAMP:20260424T233445Z
DESCRIPTION:4/12015 Lvi Praha B - Dobřichovice 3:1 (-20\,31\,19\,21)
DTSTART;TZID=Europe/Berlin:20241011T180000
DTEND;TZID=Europe/Berlin:20241011T200000
LOCATION:Sportovní hala Lužiny\, Bellušova 1877 Praha - Stodůlky
SUMMARY:1-M-A: Lvi Praha B-Dobřichovice
END:VEVENT
BEGIN:VEVENT
UID:61363364-3762-4330-a263-396433316165
DTSTAMP:20260424T233445Z
DESCRIPTION:5/12017 Kolín - České Budějovice B 0:3 (-18\,-18\,-23)
DTSTART;TZID=Europe/Berlin:20241012T170000
DTEND;TZID=Europe/Berlin:20241012T190000
LOCATION:Sportovní hala Borky\, Brankovická 1216 Kolín - Kolín V
SUMMARY:1-M-A: Kolín-České Budějovice B
END:VEVENT
BEGIN:VEVENT
UID:65653663-3532-4165-b062-393531343232
DTSTAMP:20260424T233445Z
DESCRIPTION:5/12019 MFF Praha - Lvi Praha B 3:1 (-19\,19\,22\,25)
DTSTART;TZID=Europe/Berlin:20241012T180000
DTEND;TZID=Europe/Berlin:20241012T200000
LOCATION:Sportovní centrum UK\, Bruslařská 1132 Praha - Hostivař
SUMMARY:1-M-A: MFF Praha-Lvi Praha B
END:VEVENT
BEGIN:VEVENT
UID:61343032-6630-4533-b163-306338313130
DTSTAMP:20260424T233445Z
DESCRIPTION:5/12020 ČZU Praha - Liberec B 3:0 (16\,21\,15)
DTSTART;TZID=Europe/Berlin:20241012T160000
DTEND;TZID=Europe/Berlin:20241012T180000
LOCATION:Sportcentrum Suchdol ČZU\, Sídlištní 1167 Praha - Suchdol
SUMMARY:1-M-A: ČZU Praha-Liberec B
END:VEVENT
BEGIN:VEVENT
UID:35363836-3231-4735-b537-643031333032
DTSTAMP:20260424T233445Z
DESCRIPTION:6/12021 České Budějovice B - Liberec B 3:1 (25\,19\,-16\,20)
DTSTART;TZID=Europe/Berlin:20241018T190000
DTEND;TZID=Europe/Berlin:20241018T210000
LOCATION:ZŠ Oskara Nedbala České Budějovice\, O. Nedbala 882 České Budějovi
 ce - České Budějovice 2
SUMMARY:1-M-A: České Budějovice B-Liberec B
END:VEVENT
BEGIN:VEVENT
UID:39363338-3661-4664-a530-626165396638
DTSTAMP:20260424T233445Z
DESCRIPTION:6/12022 Lvi Praha B - ČZU Praha 2:3 (27\,-15\,22\,-19\,-11)
DTSTART;TZID=Europe/Berlin:20241018T180000
DTEND;TZID=Europe/Berlin:20241018T200000
LOCATION:Sportovní hala Lužiny\, Bellušova 1877 Praha - Stodůlky
SUMMARY:1-M-A: Lvi Praha B-ČZU Praha
END:VEVENT
BEGIN:VEVENT
UID:30313331-3431-4464-b461-353762313437
DTSTAMP:20260424T233445Z
DESCRIPTION:6/12024 Kolín - Dobřichovice 0:3 (-32\,-17\,-23)
DTSTART;TZID=Europe/Berlin:20241018T180000
DTEND;TZID=Europe/Berlin:20241018T200000
LOCATION:Sportovní hala Borky\, Brankovická 1216 Kolín - Kolín V
SUMMARY:1-M-A: Kolín-Dobřichovice
END:VEVENT
BEGIN:VEVENT
UID:65393430-3161-4135-b236-353166616332
DTSTAMP:20260424T233445Z
DESCRIPTION:7/12025 Dobřichovice - České Budějovice B 3:0 (20\,19\,14)
DTSTART;TZID=Europe/Berlin:20241025T190000
DTEND;TZID=Europe/Berlin:20241025T210000
LOCATION:BIOS\, Pražská 375 Dobřichovice
SUMMARY:1-M-A: Dobřichovice-České Budějovice B
END:VEVENT
BEGIN:VEVENT
UID:35616238-3562-4734-a133-373239623863
DTSTAMP:20260424T233445Z
DESCRIPTION:7/12026 MFF Praha - Kolín 1:3 (-26\,24\,-22\,-17)
DTSTART;TZID=Europe/Berlin:20241025T190000
DTEND;TZID=Europe/Berlin:20241025T210000
LOCATION:Sportovní centrum UK\, Bruslařská 1132 Praha - Hostivař
SUMMARY:1-M-A: MFF Praha-Kolín
END:VEVENT
BEGIN:VEVENT
UID:64616165-3730-4333-b539-393030646463
DTSTAMP:20260424T233445Z
DESCRIPTION:7/12028 Liberec B - Lvi Praha B 3:0 (23\,21\,23)
DTSTART;TZID=Europe/Berlin:20241025T190000
DTEND;TZID=Europe/Berlin:20241025T210000
LOCATION:Dukla Liberec\, Jeronýmova 558 Liberec - Liberec VII-Horní Růžodol
SUMMARY:1-M-A: Liberec B-Lvi Praha B
END:VEVENT
BEGIN:VEVENT
UID:62623634-3632-4332-b731-363434656230
DTSTAMP:20260424T233445Z
DESCRIPTION:8/12029 České Budějovice B - Lvi Praha B 3:0 (23\,22\,14)
DTSTART;TZID=Europe/Berlin:20241026T130000
DTEND;TZID=Europe/Berlin:20241026T150000
LOCATION:ZŠ Oskara Nedbala České Budějovice\, O. Nedbala 882 České Budějovi
 ce - České Budějovice 2
SUMMARY:1-M-A: České Budějovice B-Lvi Praha B
END:VEVENT
BEGIN:VEVENT
UID:31663332-3065-4138-a537-356233613134
DTSTAMP:20260424T233445Z
DESCRIPTION:8/12031 ČZU Praha - Kolín 3:1 (-27\,19\,21\,13)
DTSTART;TZID=Europe/Berlin:20241016T190000
DTEND;TZID=Europe/Berlin:20241016T210000
LOCATION:Sportcentrum Suchdol ČZU\, Sídlištní 1167 Praha - Suchdol
SUMMARY:1-M-A: ČZU Praha-Kolín
END:VEVENT
BEGIN:VEVENT
UID:34313730-3135-4565-a666-613336346130
DTSTAMP:20260424T233445Z
DESCRIPTION:8/12032 MFF Praha - Dobřichovice 0:3 (-18\,-13\,-21)
DTSTART;TZID=Europe/Berlin:20241030T200000
DTEND;TZID=Europe/Berlin:20241030T220000
LOCATION:Sportovní centrum UK\, Bruslařská 1132 Praha - Hostivař
SUMMARY:1-M-A: MFF Praha-Dobřichovice
END:VEVENT
BEGIN:VEVENT
UID:38343665-6635-4364-b338-613939623333
DTSTAMP:20260424T233445Z
DESCRIPTION:9/12033 MFF Praha - České Budějovice B 0:3 (-21\,-23\,-16)
DTSTART;TZID=Europe/Berlin:20241101T190000
DTEND;TZID=Europe/Berlin:20241101T210000
LOCATION:Sportovní centrum UK\, Bruslařská 1132 Praha - Hostivař
SUMMARY:1-M-A: MFF Praha-České Budějovice B
END:VEVENT
BEGIN:VEVENT
UID:62366262-3437-4634-b531-663137343366
DTSTAMP:20260424T233445Z
DESCRIPTION:9/12034 Dobřichovice - ČZU Praha 1:3 (19\,-21\,-16\,-28)
DTSTART;TZID=Europe/Berlin:20241101T190000
DTEND;TZID=Europe/Berlin:20241101T210000
LOCATION:BIOS\, Pražská 375 Dobřichovice
SUMMARY:1-M-A: Dobřichovice-ČZU Praha
END:VEVENT
BEGIN:VEVENT
UID:31383666-3864-4339-b466-383164316533
DTSTAMP:20260424T233445Z
DESCRIPTION:9/12035 Kolín - Liberec B 2:3 (-26\,18\,21\,-22\,-6)
DTSTART;TZID=Europe/Berlin:20241101T180000
DTEND;TZID=Europe/Berlin:20241101T200000
LOCATION:Sportovní hala Borky\, Brankovická 1216 Kolín - Kolín V
SUMMARY:1-M-A: Kolín-Liberec B
END:VEVENT
BEGIN:VEVENT
UID:66316262-3931-4233-a565-663839396536
DTSTAMP:20260424T233445Z
DESCRIPTION:10/12038 Lvi Praha B - Kolín 0:3 (-20\,-17\,-15)
DTSTART;TZID=Europe/Berlin:20241108T180000
DTEND;TZID=Europe/Berlin:20241108T200000
LOCATION:Sportovní hala Lužiny\, Bellušova 1877 Praha - Stodůlky
SUMMARY:1-M-A: Lvi Praha B-Kolín
END:VEVENT
BEGIN:VEVENT
UID:39386365-3966-4165-b131-656263626566
DTSTAMP:20260424T233445Z
DESCRIPTION:10/12039 Liberec B - Dobřichovice 1:3 (-15\,-14\,23\,-23)
DTSTART;TZID=Europe/Berlin:20241108T190000
DTEND;TZID=Europe/Berlin:20241108T210000
LOCATION:Dukla Liberec\, Jeronýmova 558 Liberec - Liberec VII-Horní Růžodol
SUMMARY:1-M-A: Liberec B-Dobřichovice
END:VEVENT
BEGIN:VEVENT
UID:39643636-3138-4061-b539-323265646338
DTSTAMP:20260424T233445Z
DESCRIPTION:10/12040 ČZU Praha - MFF Praha 3:1 (-22\,7\,13\,15)
DTSTART;TZID=Europe/Berlin:20241102T160000
DTEND;TZID=Europe/Berlin:20241102T180000
LOCATION:Sportcentrum Suchdol ČZU\, Sídlištní 1167 Praha - Suchdol
SUMMARY:1-M-A: ČZU Praha-MFF Praha
END:VEVENT
BEGIN:VEVENT
UID:38313737-3062-4331-a638-396566636261
DTSTAMP:20260424T233445Z
DESCRIPTION:11/12041 ČZU Praha - České Budějovice B 2:3 (-20\,-22\,19\,15\,
 -8)
DTSTART;TZID=Europe/Berlin:20241115T190000
DTEND;TZID=Europe/Berlin:20241115T210000
LOCATION:Sportcentrum Suchdol ČZU\, Sídlištní 1167 Praha - Suchdol
SUMMARY:1-M-A: ČZU Praha-České Budějovice B
END:VEVENT
BEGIN:VEVENT
UID:36333234-6531-4763-a663-626639343137
DTSTAMP:20260424T233445Z
DESCRIPTION:11/12042 MFF Praha - Liberec B 0:3 (-22\,-23\,-22)
DTSTART;TZID=Europe/Berlin:20241115T190000
DTEND;TZID=Europe/Berlin:20241115T210000
LOCATION:Sportovní centrum UK\, Bruslařská 1132 Praha - Hostivař
SUMMARY:1-M-A: MFF Praha-Liberec B
END:VEVENT
BEGIN:VEVENT
UID:65626261-6538-4536-a564-643634373264
DTSTAMP:20260424T233445Z
DESCRIPTION:11/12043 Dobřichovice - Lvi Praha B 3:0 (20\,25\,21)
DTSTART;TZID=Europe/Berlin:20241115T190000
DTEND;TZID=Europe/Berlin:20241115T210000
LOCATION:BIOS\, Pražská 375 Dobřichovice
SUMMARY:1-M-A: Dobřichovice-Lvi Praha B
END:VEVENT
BEGIN:VEVENT
UID:65363565-3134-4061-b761-643663663131
DTSTAMP:20260424T233445Z
DESCRIPTION:12/12045 České Budějovice B - Kolín 3:0 (19\,21\,18)
DTSTART;TZID=Europe/Berlin:20241116T130000
DTEND;TZID=Europe/Berlin:20241116T150000
LOCATION:ZŠ Oskara Nedbala České Budějovice\, O. Nedbala 882 České Budějovi
 ce - České Budějovice 2
SUMMARY:1-M-A: České Budějovice B-Kolín
END:VEVENT
BEGIN:VEVENT
UID:61623233-6165-4265-a530-353435396633
DTSTAMP:20260424T233445Z
DESCRIPTION:12/12047 Lvi Praha B - MFF Praha 2:3 (18\,-19\,23\,-15\,-11)
DTSTART;TZID=Europe/Berlin:20241116T130000
DTEND;TZID=Europe/Berlin:20241116T150000
LOCATION:Sportovní hala Lužiny\, Bellušova 1877 Praha - Stodůlky
SUMMARY:1-M-A: Lvi Praha B-MFF Praha
END:VEVENT
BEGIN:VEVENT
UID:39626333-3737-4062-b533-393764363336
DTSTAMP:20260424T233445Z
DESCRIPTION:12/12048 Liberec B - ČZU Praha 1:3 (-20\,24\,-19\,-19)
DTSTART;TZID=Europe/Berlin:20241116T123000
DTEND;TZID=Europe/Berlin:20241116T143000
LOCATION:Dukla Liberec\, Jeronýmova 558 Liberec - Liberec VII-Horní Růžodol
SUMMARY:1-M-A: Liberec B-ČZU Praha
END:VEVENT
BEGIN:VEVENT
UID:35636239-3333-4565-b337-353537343438
DTSTAMP:20260424T233445Z
DESCRIPTION:13/12049 Liberec B - České Budějovice B 3:1 (-19\,19\,19\,20)
DTSTART;TZID=Europe/Berlin:20241122T190000
DTEND;TZID=Europe/Berlin:20241122T210000
LOCATION:Dukla Liberec\, Jeronýmova 558 Liberec - Liberec VII-Horní Růžodol
SUMMARY:1-M-A: Liberec B-České Budějovice B
END:VEVENT
BEGIN:VEVENT
UID:64633233-3463-4531-a531-376431373730
DTSTAMP:20260424T233445Z
DESCRIPTION:13/12050 ČZU Praha - Lvi Praha B 0:3 (-24\,-23\,-21)
DTSTART;TZID=Europe/Berlin:20241122T190000
DTEND;TZID=Europe/Berlin:20241122T210000
LOCATION:Sportcentrum Suchdol ČZU\, Sídlištní 1167 Praha - Suchdol
SUMMARY:1-M-A: ČZU Praha-Lvi Praha B
END:VEVENT
BEGIN:VEVENT
UID:63653531-6434-4038-b239-383834613835
DTSTAMP:20260424T233445Z
DESCRIPTION:13/12052 Dobřichovice - Kolín 3:0 (19\,15\,20)
DTSTART;TZID=Europe/Berlin:20241123T170000
DTEND;TZID=Europe/Berlin:20241123T190000
LOCATION:BIOS\, Pražská 375 Dobřichovice
SUMMARY:1-M-A: Dobřichovice-Kolín
END:VEVENT
BEGIN:VEVENT
UID:32633563-6336-4636-b536-653532306532
DTSTAMP:20260424T233445Z
DESCRIPTION:14/12053 České Budějovice B - Dobřichovice 3:2 (-20\,20\,-20\,2
 1\,13)
DTSTART;TZID=Europe/Berlin:20241129T190000
DTEND;TZID=Europe/Berlin:20241129T210000
LOCATION:ZŠ Oskara Nedbala České Budějovice\, O. Nedbala 882 České Budějovi
 ce - České Budějovice 2
SUMMARY:1-M-A: České Budějovice B-Dobřichovice
END:VEVENT
BEGIN:VEVENT
UID:62316564-3730-4564-b130-353231303764
DTSTAMP:20260424T233445Z
DESCRIPTION:14/12054 Kolín - MFF Praha 3:0 (22\,22\,21)
DTSTART;TZID=Europe/Berlin:20241129T180000
DTEND;TZID=Europe/Berlin:20241129T200000
LOCATION:Sportovní hala Borky\, Brankovická 1216 Kolín - Kolín V
SUMMARY:1-M-A: Kolín-MFF Praha
END:VEVENT
BEGIN:VEVENT
UID:61343538-6265-4138-a437-653938323538
DTSTAMP:20260424T233445Z
DESCRIPTION:14/12056 Lvi Praha B - Liberec B 1:3 (23\,-21\,-26\,-21)
DTSTART;TZID=Europe/Berlin:20241129T180000
DTEND;TZID=Europe/Berlin:20241129T200000
LOCATION:Sportovní hala Lužiny\, Bellušova 1877 Praha - Stodůlky
SUMMARY:1-M-A: Lvi Praha B-Liberec B
END:VEVENT
END:VCALENDAR
