BEGIN:VCALENDAR
VERSION:2.0
PRODID:-//1-U22M-C//NONSGML kigkonsult.se iCalcreator 2.41.80//
CALSCALE:GREGORIAN
UID:33623838-3134-4633-a637-633337356562
BEGIN:VEVENT
UID:35343330-6433-4662-b564-366535376434
DTSTAMP:20260424T063252Z
DESCRIPTION:1/1 Šlapanice - Havířov 3:0 (21\,15\,23)
DTSTART;TZID=Europe/Berlin:20241019T100000
DTEND;TZID=Europe/Berlin:20241019T120000
LOCATION:ZŠ Na Zahrádkách \, Na Zahrádkách 1716 Šlapanice
SUMMARY:1-U22M-C: Šlapanice-Havířov
END:VEVENT
BEGIN:VEVENT
UID:35613366-3938-4137-b435-343038353731
DTSTAMP:20260424T063252Z
DESCRIPTION:1/3 Green F-M - Red Frýdlant n/O. 3:1 (-16\,23\,20\,26)
DTSTART;TZID=Europe/Berlin:20241001T163000
DTEND;TZID=Europe/Berlin:20241001T183000
LOCATION:Hala SPŠ\, 28. října 1639 Frýdek-Místek - Místek
SUMMARY:1-U22M-C: Green F-M-Red Frýdlant n/O.
END:VEVENT
BEGIN:VEVENT
UID:66653631-3337-4462-b039-363931303738
DTSTAMP:20260424T063252Z
DESCRIPTION:2/4 Šlapanice - Havířov 3:0 (9\,17\,18)
DTSTART;TZID=Europe/Berlin:20241019T130000
DTEND;TZID=Europe/Berlin:20241019T150000
LOCATION:ZŠ Na Zahrádkách \, Na Zahrádkách 1716 Šlapanice
SUMMARY:1-U22M-C: Šlapanice-Havířov
END:VEVENT
BEGIN:VEVENT
UID:37356364-6231-4237-b761-666337323434
DTSTAMP:20260424T063252Z
DESCRIPTION:2/6 Green F-M - Red Frýdlant n/O. 1:3 (-17\,-21\,21\,-22)
DTSTART;TZID=Europe/Berlin:20241001T190000
DTEND;TZID=Europe/Berlin:20241001T210000
LOCATION:Hala SPŠ\, 28. října 1639 Frýdek-Místek - Místek
SUMMARY:1-U22M-C: Green F-M-Red Frýdlant n/O.
END:VEVENT
BEGIN:VEVENT
UID:66383863-3932-4265-a437-636332373434
DTSTAMP:20260424T063252Z
DESCRIPTION:3/7 Havířov - Red Frýdlant n/O. 2:3 (-20\,23\,23\,-13\,-11)
DTSTART;TZID=Europe/Berlin:20240929T100000
DTEND;TZID=Europe/Berlin:20240929T120000
LOCATION:hala SPŠE\, Makarenkova 513 Havířov - Město
SUMMARY:1-U22M-C: Havířov-Red Frýdlant n/O.
END:VEVENT
BEGIN:VEVENT
UID:37393761-3638-4361-a332-326631326164
DTSTAMP:20260424T063252Z
DESCRIPTION:3/9 Šlapanice - Blue Ostrava B 3:0 (19\,14\,14)
DTSTART;TZID=Europe/Berlin:20241109T110000
DTEND;TZID=Europe/Berlin:20241109T130000
LOCATION:ZŠ Na Zahrádkách \, Na Zahrádkách 1716 Šlapanice
SUMMARY:1-U22M-C: Šlapanice-Blue Ostrava B
END:VEVENT
BEGIN:VEVENT
UID:31396466-3763-4165-a466-326138663265
DTSTAMP:20260424T063252Z
DESCRIPTION:4/10 Havířov - Red Frýdlant n/O. 2:3 (-19\,14\,-13\,22\,-13)
DTSTART;TZID=Europe/Berlin:20240929T140000
DTEND;TZID=Europe/Berlin:20240929T160000
LOCATION:hala SPŠE\, Makarenkova 513 Havířov - Město
SUMMARY:1-U22M-C: Havířov-Red Frýdlant n/O.
END:VEVENT
BEGIN:VEVENT
UID:61336663-3961-4239-b563-646436323363
DTSTAMP:20260424T063252Z
DESCRIPTION:4/12 Šlapanice - Blue Ostrava B 3:0 (17\,17\,18)
DTSTART;TZID=Europe/Berlin:20241109T150000
DTEND;TZID=Europe/Berlin:20241109T170000
LOCATION:ZŠ Na Zahrádkách \, Na Zahrádkách 1716 Šlapanice
SUMMARY:1-U22M-C: Šlapanice-Blue Ostrava B
END:VEVENT
BEGIN:VEVENT
UID:63396235-3665-4261-a266-303662306537
DTSTAMP:20260424T063252Z
DESCRIPTION:5/13 Blue Ostrava B - Havířov 3:1 (-19\,20\,21\,24)
DTSTART;TZID=Europe/Berlin:20241026T090000
DTEND;TZID=Europe/Berlin:20241026T110000
LOCATION:Sportovní hala Ostrava -Třebovice\, 5. května 5649 Ostrava - Třebo
 vice
SUMMARY:1-U22M-C: Blue Ostrava B-Havířov
END:VEVENT
BEGIN:VEVENT
UID:63366332-6233-4030-a231-383534386161
DTSTAMP:20260424T063252Z
DESCRIPTION:5/14 Green F-M - Šlapanice 1:3 (-20\,-17\,22\,-16)
DTSTART;TZID=Europe/Berlin:20241026T100000
DTEND;TZID=Europe/Berlin:20241026T120000
LOCATION:Hala SPŠ\, 28. října 1639 Frýdek-Místek - Místek
SUMMARY:1-U22M-C: Green F-M-Šlapanice
END:VEVENT
BEGIN:VEVENT
UID:64626139-6637-4464-a337-383335383863
DTSTAMP:20260424T063252Z
DESCRIPTION:6/16 Blue Ostrava B - Havířov 3:1 (21\,-15\,18\,22)
DTSTART;TZID=Europe/Berlin:20241026T123000
DTEND;TZID=Europe/Berlin:20241026T143000
LOCATION:Sportovní hala Ostrava -Třebovice\, 5. května 5649 Ostrava - Třebo
 vice
SUMMARY:1-U22M-C: Blue Ostrava B-Havířov
END:VEVENT
BEGIN:VEVENT
UID:32363032-3538-4364-a564-363133636535
DTSTAMP:20260424T063252Z
DESCRIPTION:6/17 Green F-M - Šlapanice 1:3 (-16\,-23\,21\,-21)
DTSTART;TZID=Europe/Berlin:20241026T140000
DTEND;TZID=Europe/Berlin:20241026T160000
LOCATION:Hala SPŠ\, 28. října 1639 Frýdek-Místek - Místek
SUMMARY:1-U22M-C: Green F-M-Šlapanice
END:VEVENT
BEGIN:VEVENT
UID:65353863-6537-4664-a230-313364353964
DTSTAMP:20260424T063252Z
DESCRIPTION:7/20 Šlapanice - Red Frýdlant n/O. 3:0 (12\,12\,26)
DTSTART;TZID=Europe/Berlin:20241027T100000
DTEND;TZID=Europe/Berlin:20241027T120000
LOCATION:ZŠ Na Zahrádkách \, Na Zahrádkách 1716 Šlapanice
SUMMARY:1-U22M-C: Šlapanice-Red Frýdlant n/O.
END:VEVENT
BEGIN:VEVENT
UID:36326664-6331-4761-b565-656230656139
DTSTAMP:20260424T063252Z
DESCRIPTION:7/21 Blue Ostrava B - Green F-M 1:3 (-20\,25\,-23\,-24)
DTSTART;TZID=Europe/Berlin:20241031T163000
DTEND;TZID=Europe/Berlin:20241031T183000
LOCATION:Hala SPŠ\, 28. října 1639 Frýdek-Místek - Místek
SUMMARY:1-U22M-C: Blue Ostrava B-Green F-M
END:VEVENT
BEGIN:VEVENT
UID:32333962-3333-4130-b565-623165376439
DTSTAMP:20260424T063252Z
DESCRIPTION:8/23 Šlapanice - Red Frýdlant n/O. 3:0 (16\,18\,14)
DTSTART;TZID=Europe/Berlin:20241027T140000
DTEND;TZID=Europe/Berlin:20241027T160000
LOCATION:ZŠ Na Zahrádkách \, Na Zahrádkách 1716 Šlapanice
SUMMARY:1-U22M-C: Šlapanice-Red Frýdlant n/O.
END:VEVENT
BEGIN:VEVENT
UID:61386630-3339-4434-a138-313134393761
DTSTAMP:20260424T063252Z
DESCRIPTION:8/24 Blue Ostrava B - Green F-M 1:3 (16\,-23\,-22\,-19)
DTSTART;TZID=Europe/Berlin:20241031T190000
DTEND;TZID=Europe/Berlin:20241031T210000
LOCATION:Hala SPŠ\, 28. října 1639 Frýdek-Místek - Místek
SUMMARY:1-U22M-C: Blue Ostrava B-Green F-M
END:VEVENT
BEGIN:VEVENT
UID:30666137-6166-4030-b765-393430333539
DTSTAMP:20260424T063252Z
DESCRIPTION:9/25 Green F-M - Havířov 3:0 (18\,19\,19)
DTSTART;TZID=Europe/Berlin:20241109T090000
DTEND;TZID=Europe/Berlin:20241109T110000
LOCATION:Hala SPŠ\, 28. října 1639 Frýdek-Místek - Místek
SUMMARY:1-U22M-C: Green F-M-Havířov
END:VEVENT
BEGIN:VEVENT
UID:62663131-6638-4634-a161-323764383037
DTSTAMP:20260424T063252Z
DESCRIPTION:9/26 Red Frýdlant n/O. - Blue Ostrava B 3:0 (23\,24\,21)
DTSTART;TZID=Europe/Berlin:20241106T160000
DTEND;TZID=Europe/Berlin:20241106T180000
LOCATION:Komenského\, Komenského 420 Frýdlant nad Ostravicí - Frýdlant
SUMMARY:1-U22M-C: Red Frýdlant n/O.-Blue Ostrava B
END:VEVENT
BEGIN:VEVENT
UID:30386337-6334-4833-a635-323338336435
DTSTAMP:20260424T063252Z
DESCRIPTION:10/28 Green F-M - Havířov 3:0 (19\,21\,16)
DTSTART;TZID=Europe/Berlin:20241109T130000
DTEND;TZID=Europe/Berlin:20241109T150000
LOCATION:Hala SPŠ\, 28. října 1639 Frýdek-Místek - Místek
SUMMARY:1-U22M-C: Green F-M-Havířov
END:VEVENT
BEGIN:VEVENT
UID:31393366-6533-4039-b461-323965663961
DTSTAMP:20260424T063252Z
DESCRIPTION:10/29 Red Frýdlant n/O. - Blue Ostrava B 1:3 (22\,-22\,-22\,-16
 )
DTSTART;TZID=Europe/Berlin:20241106T180000
DTEND;TZID=Europe/Berlin:20241106T200000
LOCATION:Komenského\, Komenského 420 Frýdlant nad Ostravicí - Frýdlant
SUMMARY:1-U22M-C: Red Frýdlant n/O.-Blue Ostrava B
END:VEVENT
BEGIN:VEVENT
UID:63633137-3437-4430-b734-383232323835
DTSTAMP:20260424T063252Z
DESCRIPTION:11/31 Havířov - Šlapanice 0:3 (-15\,-20\,-19)
DTSTART;TZID=Europe/Berlin:20241110T100000
DTEND;TZID=Europe/Berlin:20241110T120000
LOCATION:hala SPŠE\, Makarenkova 513 Havířov - Město
SUMMARY:1-U22M-C: Havířov-Šlapanice
END:VEVENT
BEGIN:VEVENT
UID:63396538-3463-4138-b130-393430393939
DTSTAMP:20260424T063252Z
DESCRIPTION:11/33 Red Frýdlant n/O. - Green F-M 3:0 (22\,19\,19)
DTSTART;TZID=Europe/Berlin:20241113T160000
DTEND;TZID=Europe/Berlin:20241113T180000
LOCATION:Komenského\, Komenského 420 Frýdlant nad Ostravicí - Frýdlant
SUMMARY:1-U22M-C: Red Frýdlant n/O.-Green F-M
END:VEVENT
BEGIN:VEVENT
UID:65633435-6633-4062-a363-663166616163
DTSTAMP:20260424T063252Z
DESCRIPTION:12/34 Havířov - Šlapanice 0:3 (-18\,-19\,-17)
DTSTART;TZID=Europe/Berlin:20241110T140000
DTEND;TZID=Europe/Berlin:20241110T160000
LOCATION:hala SPŠE\, Makarenkova 513 Havířov - Město
SUMMARY:1-U22M-C: Havířov-Šlapanice
END:VEVENT
BEGIN:VEVENT
UID:31353962-3362-4934-b161-626563356361
DTSTAMP:20260424T063252Z
DESCRIPTION:12/36 Red Frýdlant n/O. - Green F-M 3:2 (-15\,24\,16\,-21\,11)
DTSTART;TZID=Europe/Berlin:20241113T180000
DTEND;TZID=Europe/Berlin:20241113T200000
LOCATION:Komenského\, Komenského 420 Frýdlant nad Ostravicí - Frýdlant
SUMMARY:1-U22M-C: Red Frýdlant n/O.-Green F-M
END:VEVENT
BEGIN:VEVENT
UID:32613563-6235-4435-b635-663062366431
DTSTAMP:20260424T063252Z
DESCRIPTION:13/37 Red Frýdlant n/O. - Havířov 3:0 (14\,19\,22)
DTSTART;TZID=Europe/Berlin:20241123T100000
DTEND;TZID=Europe/Berlin:20241123T120000
LOCATION:Komenského\, Komenského 420 Frýdlant nad Ostravicí - Frýdlant
SUMMARY:1-U22M-C: Red Frýdlant n/O.-Havířov
END:VEVENT
BEGIN:VEVENT
UID:34643238-3633-4464-a466-666365336462
DTSTAMP:20260424T063252Z
DESCRIPTION:13/39 Blue Ostrava B - Šlapanice 1:3 (-19\,16\,-21\,-25)
DTSTART;TZID=Europe/Berlin:20241123T100000
DTEND;TZID=Europe/Berlin:20241123T120000
LOCATION:Sportovní hala Ostrava -Třebovice\, 5. května 5649 Ostrava - Třebo
 vice
SUMMARY:1-U22M-C: Blue Ostrava B-Šlapanice
END:VEVENT
BEGIN:VEVENT
UID:35643433-6364-4766-a438-623566363532
DTSTAMP:20260424T063252Z
DESCRIPTION:14/40 Red Frýdlant n/O. - Havířov 3:0 (23\,21\,23)
DTSTART;TZID=Europe/Berlin:20241123T140000
DTEND;TZID=Europe/Berlin:20241123T160000
LOCATION:Komenského\, Komenského 420 Frýdlant nad Ostravicí - Frýdlant
SUMMARY:1-U22M-C: Red Frýdlant n/O.-Havířov
END:VEVENT
BEGIN:VEVENT
UID:32323238-6662-4265-a665-303564643966
DTSTAMP:20260424T063252Z
DESCRIPTION:14/42 Blue Ostrava B - Šlapanice 0:3 (-14\,-14\,-19)
DTSTART;TZID=Europe/Berlin:20241123T140000
DTEND;TZID=Europe/Berlin:20241123T160000
LOCATION:Sportovní hala Ostrava -Třebovice\, 5. května 5649 Ostrava - Třebo
 vice
SUMMARY:1-U22M-C: Blue Ostrava B-Šlapanice
END:VEVENT
BEGIN:VEVENT
UID:62633466-6335-4338-b065-653762616233
DTSTAMP:20260424T063252Z
DESCRIPTION:15/43 Havířov - Blue Ostrava B 0:3 (-19\,-16\,-10)
DTSTART;TZID=Europe/Berlin:20241124T100000
DTEND;TZID=Europe/Berlin:20241124T120000
LOCATION:hala SPŠE\, Makarenkova 513 Havířov - Město
SUMMARY:1-U22M-C: Havířov-Blue Ostrava B
END:VEVENT
BEGIN:VEVENT
UID:33323562-3632-4163-b566-376233366563
DTSTAMP:20260424T063252Z
DESCRIPTION:15/44 Šlapanice - Green F-M 3:0 (7\,18\,24)
DTSTART;TZID=Europe/Berlin:20241124T100000
DTEND;TZID=Europe/Berlin:20241124T120000
LOCATION:ZŠ Na Zahrádkách \, Na Zahrádkách 1716 Šlapanice
SUMMARY:1-U22M-C: Šlapanice-Green F-M
END:VEVENT
BEGIN:VEVENT
UID:62616235-6166-4363-a333-333134373036
DTSTAMP:20260424T063252Z
DESCRIPTION:16/46 Havířov - Blue Ostrava B 0:3 (-21\,-21\,-13)
DTSTART;TZID=Europe/Berlin:20241124T140000
DTEND;TZID=Europe/Berlin:20241124T160000
LOCATION:hala SPŠE\, Makarenkova 513 Havířov - Město
SUMMARY:1-U22M-C: Havířov-Blue Ostrava B
END:VEVENT
BEGIN:VEVENT
UID:62396639-3833-4163-b638-656634613632
DTSTAMP:20260424T063252Z
DESCRIPTION:16/47 Šlapanice - Green F-M 3:1 (22\,18\,-20\,18)
DTSTART;TZID=Europe/Berlin:20241124T140000
DTEND;TZID=Europe/Berlin:20241124T160000
LOCATION:ZŠ Na Zahrádkách \, Na Zahrádkách 1716 Šlapanice
SUMMARY:1-U22M-C: Šlapanice-Green F-M
END:VEVENT
BEGIN:VEVENT
UID:66653766-6538-4461-a536-666464373732
DTSTAMP:20260424T063252Z
DESCRIPTION:17/50 Red Frýdlant n/O. - Šlapanice 0:3 (-23\,-14\,-14)
DTSTART;TZID=Europe/Berlin:20241215T100000
DTEND;TZID=Europe/Berlin:20241215T120000
LOCATION:Komenského\, Komenského 420 Frýdlant nad Ostravicí - Frýdlant
SUMMARY:1-U22M-C: Red Frýdlant n/O.-Šlapanice
END:VEVENT
BEGIN:VEVENT
UID:33613832-3437-4431-a430-363664653262
DTSTAMP:20260424T063252Z
DESCRIPTION:17/51 Green F-M - Blue Ostrava B 2:3 (24\,22\,-21\,-22\,-13)
DTSTART;TZID=Europe/Berlin:20241210T163000
DTEND;TZID=Europe/Berlin:20241210T183000
LOCATION:Hala SPŠ\, 28. října 1639 Frýdek-Místek - Místek
SUMMARY:1-U22M-C: Green F-M-Blue Ostrava B
END:VEVENT
BEGIN:VEVENT
UID:30383636-3062-4562-b437-316631656663
DTSTAMP:20260424T063252Z
DESCRIPTION:18/53 Red Frýdlant n/O. - Šlapanice 0:3 (-17\,-23\,-26)
DTSTART;TZID=Europe/Berlin:20241215T140000
DTEND;TZID=Europe/Berlin:20241215T160000
LOCATION:Komenského\, Komenského 420 Frýdlant nad Ostravicí - Frýdlant
SUMMARY:1-U22M-C: Red Frýdlant n/O.-Šlapanice
END:VEVENT
BEGIN:VEVENT
UID:64373362-3238-4132-b931-656237393862
DTSTAMP:20260424T063252Z
DESCRIPTION:18/54 Green F-M - Blue Ostrava B 3:1 (20\,23\,-20\,21)
DTSTART;TZID=Europe/Berlin:20241210T190000
DTEND;TZID=Europe/Berlin:20241210T210000
LOCATION:Hala SPŠ\, 28. října 1639 Frýdek-Místek - Místek
SUMMARY:1-U22M-C: Green F-M-Blue Ostrava B
END:VEVENT
BEGIN:VEVENT
UID:38303565-3432-4139-a463-643033376430
DTSTAMP:20260424T063252Z
DESCRIPTION:19/55 Havířov - Green F-M 3:2 (20\,-23\,-14\,23\,10)
DTSTART;TZID=Europe/Berlin:20241208T100000
DTEND;TZID=Europe/Berlin:20241208T120000
LOCATION:Hala ZŠ Šenov\, Radniční náměstí 1040 Šenov
SUMMARY:1-U22M-C: Havířov-Green F-M
END:VEVENT
BEGIN:VEVENT
UID:30333465-3665-4665-b433-633237313738
DTSTAMP:20260424T063252Z
DESCRIPTION:19/56 Blue Ostrava B - Red Frýdlant n/O. 3:1 (17\,18\,-18\,16)
DTSTART;TZID=Europe/Berlin:20241204T160000
DTEND;TZID=Europe/Berlin:20241204T180000
LOCATION:Komenského\, Komenského 420 Frýdlant nad Ostravicí - Frýdlant
SUMMARY:1-U22M-C: Blue Ostrava B-Red Frýdlant n/O.
END:VEVENT
BEGIN:VEVENT
UID:30633235-3463-4364-b033-613437656535
DTSTAMP:20260424T063252Z
DESCRIPTION:20/58 Havířov - Green F-M 3:2 (-22\,25\,-6\,23\,13)
DTSTART;TZID=Europe/Berlin:20241208T140000
DTEND;TZID=Europe/Berlin:20241208T160000
LOCATION:Hala ZŠ Šenov\, Radniční náměstí 1040 Šenov
SUMMARY:1-U22M-C: Havířov-Green F-M
END:VEVENT
BEGIN:VEVENT
UID:38313239-6164-4965-a666-303433333930
DTSTAMP:20260424T063252Z
DESCRIPTION:20/59 Blue Ostrava B - Red Frýdlant n/O. 2:3 (-23\,22\,-21\,19\
 ,-13)
DTSTART;TZID=Europe/Berlin:20241204T180000
DTEND;TZID=Europe/Berlin:20241204T200000
LOCATION:Komenského\, Komenského 420 Frýdlant nad Ostravicí - Frýdlant
SUMMARY:1-U22M-C: Blue Ostrava B-Red Frýdlant n/O.
END:VEVENT
BEGIN:VEVENT
UID:64613232-3836-4634-a262-306331386239
DTSTAMP:20260424T063252Z
DESCRIPTION:21/61 Havířov - Šlapanice 1:3 (22\,-16\,-18\,-20)
DTSTART;TZID=Europe/Berlin:20250126T100000
DTEND;TZID=Europe/Berlin:20250126T120000
LOCATION:hala SPŠE\, Makarenkova 513 Havířov - Město
SUMMARY:1-U22M-C: Havířov-Šlapanice
END:VEVENT
BEGIN:VEVENT
UID:31333630-6336-4430-a536-356131373165
DTSTAMP:20260424T063252Z
DESCRIPTION:21/63 Red Frýdlant n/O. - Green F-M 2:3 (21\,-21\,-14\,25\,-4)
DTSTART;TZID=Europe/Berlin:20250115T160000
DTEND;TZID=Europe/Berlin:20250115T180000
LOCATION:Komenského\, Komenského 420 Frýdlant nad Ostravicí - Frýdlant
SUMMARY:1-U22M-C: Red Frýdlant n/O.-Green F-M
END:VEVENT
BEGIN:VEVENT
UID:63386333-6366-4536-b335-643035383862
DTSTAMP:20260424T063252Z
DESCRIPTION:22/64 Havířov - Šlapanice 0:3 (-14\,-14\,-21)
DTSTART;TZID=Europe/Berlin:20250126T140000
DTEND;TZID=Europe/Berlin:20250126T160000
LOCATION:hala SPŠE\, Makarenkova 513 Havířov - Město
SUMMARY:1-U22M-C: Havířov-Šlapanice
END:VEVENT
BEGIN:VEVENT
UID:64613231-6535-4638-a232-303930663962
DTSTAMP:20260424T063252Z
DESCRIPTION:22/66 Red Frýdlant n/O. - Green F-M 0:3 (-12\,-15\,-11)
DTSTART;TZID=Europe/Berlin:20250115T180000
DTEND;TZID=Europe/Berlin:20250115T200000
LOCATION:Komenského\, Komenského 420 Frýdlant nad Ostravicí - Frýdlant
SUMMARY:1-U22M-C: Red Frýdlant n/O.-Green F-M
END:VEVENT
BEGIN:VEVENT
UID:62653464-3633-4630-a263-326637656665
DTSTAMP:20260424T063252Z
DESCRIPTION:23/67 Havířov - Red Frýdlant n/O. 0:3 (-17\,-20\,-19)
DTSTART;TZID=Europe/Berlin:20250112T130000
DTEND;TZID=Europe/Berlin:20250112T150000
LOCATION:hala SPŠE\, Makarenkova 513 Havířov - Město
SUMMARY:1-U22M-C: Havířov-Red Frýdlant n/O.
END:VEVENT
BEGIN:VEVENT
UID:30333161-6666-4539-a637-353164636164
DTSTAMP:20260424T063252Z
DESCRIPTION:23/69 Šlapanice - Blue Ostrava B 3:2 (21\,17\,-21\,-22\,11)
DTSTART;TZID=Europe/Berlin:20250112T100000
DTEND;TZID=Europe/Berlin:20250112T120000
LOCATION:ZŠ Na Zahrádkách \, Na Zahrádkách 1716 Šlapanice
SUMMARY:1-U22M-C: Šlapanice-Blue Ostrava B
END:VEVENT
BEGIN:VEVENT
UID:33653032-6439-4466-a631-303231633237
DTSTAMP:20260424T063252Z
DESCRIPTION:24/70 Havířov - Red Frýdlant n/O. 1:3 (-19\,19\,-12\,-19)
DTSTART;TZID=Europe/Berlin:20250112T170000
DTEND;TZID=Europe/Berlin:20250112T190000
LOCATION:hala SPŠE\, Makarenkova 513 Havířov - Město
SUMMARY:1-U22M-C: Havířov-Red Frýdlant n/O.
END:VEVENT
BEGIN:VEVENT
UID:36373837-3231-4338-b339-616233343636
DTSTAMP:20260424T063252Z
DESCRIPTION:24/72 Šlapanice - Blue Ostrava B 3:1 (26\,22\,-21\,22)
DTSTART;TZID=Europe/Berlin:20250112T140000
DTEND;TZID=Europe/Berlin:20250112T160000
LOCATION:ZŠ Na Zahrádkách \, Na Zahrádkách 1716 Šlapanice
SUMMARY:1-U22M-C: Šlapanice-Blue Ostrava B
END:VEVENT
BEGIN:VEVENT
UID:61343864-6238-4265-b164-393564643332
DTSTAMP:20260424T063252Z
DESCRIPTION:25/73 Blue Ostrava B - Havířov 3:0 (8\,22\,19)
DTSTART;TZID=Europe/Berlin:20250208T090000
DTEND;TZID=Europe/Berlin:20250208T110000
LOCATION:Sportovní hala Nová Bělá\, Krmelínská 750 Ostrava - Nová Bělá
SUMMARY:1-U22M-C: Blue Ostrava B-Havířov
END:VEVENT
BEGIN:VEVENT
UID:33306137-6132-4361-b164-316161613433
DTSTAMP:20260424T063252Z
DESCRIPTION:25/74 Green F-M - Šlapanice 3:0 (22\,24\,14)
DTSTART;TZID=Europe/Berlin:20250118T110000
DTEND;TZID=Europe/Berlin:20250118T130000
LOCATION:Sportovní hala Ostrava -Třebovice\, 5. května 5649 Ostrava - Třebo
 vice
SUMMARY:1-U22M-C: Green F-M-Šlapanice
END:VEVENT
BEGIN:VEVENT
UID:37366437-6230-4437-b263-616637376565
DTSTAMP:20260424T063252Z
DESCRIPTION:26/76 Blue Ostrava B - Havířov 3:0 (14\,20\,20)
DTSTART;TZID=Europe/Berlin:20250208T120000
DTEND;TZID=Europe/Berlin:20250208T140000
LOCATION:Sportovní hala Nová Bělá\, Krmelínská 750 Ostrava - Nová Bělá
SUMMARY:1-U22M-C: Blue Ostrava B-Havířov
END:VEVENT
BEGIN:VEVENT
UID:61353762-3836-4366-a338-343632323266
DTSTAMP:20260424T063252Z
DESCRIPTION:26/77 Green F-M - Šlapanice 1:3 (-27\,-15\,21\,-15)
DTSTART;TZID=Europe/Berlin:20250118T150000
DTEND;TZID=Europe/Berlin:20250118T170000
LOCATION:Sportovní hala Ostrava -Třebovice\, 5. května 5649 Ostrava - Třebo
 vice
SUMMARY:1-U22M-C: Green F-M-Šlapanice
END:VEVENT
BEGIN:VEVENT
UID:63383764-6534-4835-a466-313830386632
DTSTAMP:20260424T063252Z
DESCRIPTION:27/80 Šlapanice - Red Frýdlant n/O. 3:0 (16\,18\,22)
DTSTART;TZID=Europe/Berlin:20250329T100000
DTEND;TZID=Europe/Berlin:20250329T120000
LOCATION:ZŠ Na Zahrádkách \, Na Zahrádkách 1716 Šlapanice
SUMMARY:1-U22M-C: Šlapanice-Red Frýdlant n/O.
END:VEVENT
BEGIN:VEVENT
UID:39343637-3662-4930-b763-636238376635
DTSTAMP:20260424T063252Z
DESCRIPTION:27/81 Blue Ostrava B - Green F-M 3:2 (23\,-23\,-20\,22\,12)
DTSTART;TZID=Europe/Berlin:20250121T163000
DTEND;TZID=Europe/Berlin:20250121T183000
LOCATION:Hala SPŠ\, 28. října 1639 Frýdek-Místek - Místek
SUMMARY:1-U22M-C: Blue Ostrava B-Green F-M
END:VEVENT
BEGIN:VEVENT
UID:63353435-3165-4235-a466-633863616636
DTSTAMP:20260424T063252Z
DESCRIPTION:28/83 Šlapanice - Red Frýdlant n/O. 3:0 (16\,7\,27)
DTSTART;TZID=Europe/Berlin:20250329T140000
DTEND;TZID=Europe/Berlin:20250329T160000
LOCATION:ZŠ Na Zahrádkách \, Na Zahrádkách 1716 Šlapanice
SUMMARY:1-U22M-C: Šlapanice-Red Frýdlant n/O.
END:VEVENT
BEGIN:VEVENT
UID:37626365-3230-4462-b264-333534633230
DTSTAMP:20260424T063252Z
DESCRIPTION:28/84 Blue Ostrava B - Green F-M 0:3 (-20\,-17\,-21)
DTSTART;TZID=Europe/Berlin:20250121T190000
DTEND;TZID=Europe/Berlin:20250121T210000
LOCATION:Hala SPŠ\, 28. října 1639 Frýdek-Místek - Místek
SUMMARY:1-U22M-C: Blue Ostrava B-Green F-M
END:VEVENT
BEGIN:VEVENT
UID:66333138-6562-4339-b337-356436626231
DTSTAMP:20260424T063252Z
DESCRIPTION:29/85 Green F-M - Havířov 3:0 (21\,19\,27)
DTSTART;TZID=Europe/Berlin:20250330T100000
DTEND;TZID=Europe/Berlin:20250330T120000
LOCATION:Sportovní hala Ostrava -Třebovice\, 5. května 5649 Ostrava - Třebo
 vice
SUMMARY:1-U22M-C: Green F-M-Havířov
END:VEVENT
BEGIN:VEVENT
UID:34343931-3439-4137-b131-386238623931
DTSTAMP:20260424T063252Z
DESCRIPTION:29/86 Red Frýdlant n/O. - Blue Ostrava B 0:3 (-12\,-13\,-14)
DTSTART;TZID=Europe/Berlin:20250326T160000
DTEND;TZID=Europe/Berlin:20250326T180000
LOCATION:Komenského\, Komenského 420 Frýdlant nad Ostravicí - Frýdlant
SUMMARY:1-U22M-C: Red Frýdlant n/O.-Blue Ostrava B
END:VEVENT
BEGIN:VEVENT
UID:62616236-3161-4433-b933-393465346138
DTSTAMP:20260424T063252Z
DESCRIPTION:30/88 Green F-M - Havířov 3:0 (12\,21\,20)
DTSTART;TZID=Europe/Berlin:20250330T140000
DTEND;TZID=Europe/Berlin:20250330T160000
LOCATION:Sportovní hala Ostrava -Třebovice\, 5. května 5649 Ostrava - Třebo
 vice
SUMMARY:1-U22M-C: Green F-M-Havířov
END:VEVENT
BEGIN:VEVENT
UID:35353062-3636-4632-b336-393163346630
DTSTAMP:20260424T063252Z
DESCRIPTION:30/89 Red Frýdlant n/O. - Blue Ostrava B 0:3 (-18\,-20\,-20)
DTSTART;TZID=Europe/Berlin:20250326T180000
DTEND;TZID=Europe/Berlin:20250326T200000
LOCATION:Komenského\, Komenského 420 Frýdlant nad Ostravicí - Frýdlant
SUMMARY:1-U22M-C: Red Frýdlant n/O.-Blue Ostrava B
END:VEVENT
END:VCALENDAR
