BEGIN:VCALENDAR
VERSION:2.0
PRODID:-//EX-U18M-1E//NONSGML kigkonsult.se iCalcreator 2.41.80//
CALSCALE:GREGORIAN
UID:34663232-3830-4436-a266-623761623566
BEGIN:VEVENT
UID:39376534-3832-4064-b638-396330393237
DTSTAMP:20260424T075758Z
DESCRIPTION:1/1 Prosek - Jiskra Havlíčkův Brod 3:0 (10\,22\,7)
DTSTART;TZID=Europe/Berlin:20240914T100000
DTEND;TZID=Europe/Berlin:20240914T120000
LOCATION:SH SK Prosek\, Lovosická 559 Praha - Letňany
SUMMARY:EX-U18M-1E: Prosek-Jiskra Havlíčkův Brod
END:VEVENT
BEGIN:VEVENT
UID:39643437-3033-4965-a330-303937373436
DTSTAMP:20260424T075758Z
DESCRIPTION:1/2 Velké Meziříčí - Karlovarsko 3:0 (20\,19\,16)
DTSTART;TZID=Europe/Berlin:20240914T120000
DTEND;TZID=Europe/Berlin:20240914T140000
LOCATION:SH SK Prosek\, Lovosická 559 Praha - Letňany
SUMMARY:EX-U18M-1E: Velké Meziříčí-Karlovarsko
END:VEVENT
BEGIN:VEVENT
UID:61653263-3365-4033-b766-356431323230
DTSTAMP:20260424T075758Z
DESCRIPTION:1/3 Brno - Jiskra Havlíčkův Brod 3:1 (-20\,9\,20\,19)
DTSTART;TZID=Europe/Berlin:20240914T140000
DTEND;TZID=Europe/Berlin:20240914T160000
LOCATION:SH SK Prosek\, Lovosická 559 Praha - Letňany
SUMMARY:EX-U18M-1E: Brno-Jiskra Havlíčkův Brod
END:VEVENT
BEGIN:VEVENT
UID:62326261-3162-4138-a538-613438323232
DTSTAMP:20260424T075758Z
DESCRIPTION:1/4 Prosek - Velké Meziříčí 3:2 (12\,-20\,18\,-20\,12)
DTSTART;TZID=Europe/Berlin:20240914T160000
DTEND;TZID=Europe/Berlin:20240914T180000
LOCATION:SH SK Prosek\, Lovosická 559 Praha - Letňany
SUMMARY:EX-U18M-1E: Prosek-Velké Meziříčí
END:VEVENT
BEGIN:VEVENT
UID:33366264-3633-4032-b266-363238376237
DTSTAMP:20260424T075758Z
DESCRIPTION:1/5 Brno - Karlovarsko 3:0 (21\,18\,21)
DTSTART;TZID=Europe/Berlin:20240914T180000
DTEND;TZID=Europe/Berlin:20240914T200000
LOCATION:SH SK Prosek\, Lovosická 559 Praha - Letňany
SUMMARY:EX-U18M-1E: Brno-Karlovarsko
END:VEVENT
BEGIN:VEVENT
UID:34643765-3638-4537-b138-366663626235
DTSTAMP:20260424T075758Z
DESCRIPTION:1/6 Jiskra Havlíčkův Brod - Velké Meziříčí 0:3 (-20\,-24\,-17)
DTSTART;TZID=Europe/Berlin:20240915T090000
DTEND;TZID=Europe/Berlin:20240915T110000
LOCATION:SH SK Prosek\, Lovosická 559 Praha - Letňany
SUMMARY:EX-U18M-1E: Jiskra Havlíčkův Brod-Velké Meziříčí
END:VEVENT
BEGIN:VEVENT
UID:39633563-3337-4938-b166-333432633664
DTSTAMP:20260424T075758Z
DESCRIPTION:1/7 Prosek - Brno 3:1 (-24\,19\,14\,11)
DTSTART;TZID=Europe/Berlin:20240915T110000
DTEND;TZID=Europe/Berlin:20240915T130000
LOCATION:SH SK Prosek\, Lovosická 559 Praha - Letňany
SUMMARY:EX-U18M-1E: Prosek-Brno
END:VEVENT
BEGIN:VEVENT
UID:30336237-3239-4763-b936-663135663334
DTSTAMP:20260424T075758Z
DESCRIPTION:1/8 Karlovarsko - Jiskra Havlíčkův Brod 3:0 (19\,21\,23)
DTSTART;TZID=Europe/Berlin:20240915T130000
DTEND;TZID=Europe/Berlin:20240915T150000
LOCATION:SH SK Prosek\, Lovosická 559 Praha - Letňany
SUMMARY:EX-U18M-1E: Karlovarsko-Jiskra Havlíčkův Brod
END:VEVENT
BEGIN:VEVENT
UID:62373763-3565-4461-a235-383435303337
DTSTAMP:20260424T075758Z
DESCRIPTION:1/9 Velké Meziříčí - Brno 3:1 (22\,-23\,26\,18)
DTSTART;TZID=Europe/Berlin:20240915T150000
DTEND;TZID=Europe/Berlin:20240915T170000
LOCATION:SH SK Prosek\, Lovosická 559 Praha - Letňany
SUMMARY:EX-U18M-1E: Velké Meziříčí-Brno
END:VEVENT
BEGIN:VEVENT
UID:31633865-3432-4637-b262-336361646266
DTSTAMP:20260424T075758Z
DESCRIPTION:1/10 Karlovarsko - Prosek 0:3 (-28\,-12\,-21)
DTSTART;TZID=Europe/Berlin:20240915T170000
DTEND;TZID=Europe/Berlin:20240915T190000
LOCATION:SH SK Prosek\, Lovosická 559 Praha - Letňany
SUMMARY:EX-U18M-1E: Karlovarsko-Prosek
END:VEVENT
END:VCALENDAR
