BEGIN:VCALENDAR
VERSION:2.0
PRODID:-//ST-U16Z-Q1A//NONSGML kigkonsult.se iCalcreator 2.41.80//
CALSCALE:GREGORIAN
UID:64616362-6133-4534-b065-323436393430
BEGIN:VEVENT
UID:36616430-3563-4034-a462-656266323261
DTSTAMP:20260421T210059Z
DESCRIPTION:1/1 Kolín A - Kolín B 2:0 (9\,17)\nPořadatel: SK Volejbal Kolín
DTSTART;TZID=Europe/Berlin:20240901T100000
DTEND;TZID=Europe/Berlin:20240901T120000
LOCATION:hala STAV\, SOŠ Kolín\, Brankovická 1417 Kolín - Kolín V
SUMMARY:ST-U16Z-Q1A: Kolín A-Kolín B
END:VEVENT
BEGIN:VEVENT
UID:62393534-3537-4065-b537-643066376135
DTSTAMP:20260421T210059Z
DESCRIPTION:1/2 Pečky - Kutná Hora. 2:0 (22\,9)\nPořadatel: 2 hřiště
DTSTART;TZID=Europe/Berlin:20240901T100000
DTEND;TZID=Europe/Berlin:20240901T120000
LOCATION:PARKHALA\,  Pečky1039
SUMMARY:ST-U16Z-Q1A: Pečky-Kutná Hora.
END:VEVENT
BEGIN:VEVENT
UID:63646235-3135-4361-a535-623133306533
DTSTAMP:20260421T210059Z
DESCRIPTION:1/3 Kolín B - Nymburské BOMBY 0:2 (-8\,-13)
DTSTART;TZID=Europe/Berlin:20240901T100000
DTEND;TZID=Europe/Berlin:20240901T120000
LOCATION:hala STAV\, SOŠ Kolín\, Brankovická 1417 Kolín - Kolín V
SUMMARY:ST-U16Z-Q1A: Kolín B-Nymburské BOMBY
END:VEVENT
BEGIN:VEVENT
UID:33376434-3266-4537-b665-626331313538
DTSTAMP:20260421T210059Z
DESCRIPTION:1/4 Kutná Hora. - Kolín A 0:2 (-11\,-28)
DTSTART;TZID=Europe/Berlin:20240901T100000
DTEND;TZID=Europe/Berlin:20240901T120000
LOCATION:Klimeška\, Čáslavská 274 Kutná Hora - Karlov
SUMMARY:ST-U16Z-Q1A: Kutná Hora.-Kolín A
END:VEVENT
BEGIN:VEVENT
UID:37626336-3966-4436-b563-306366346431
DTSTAMP:20260421T210059Z
DESCRIPTION:1/5 Nymburské BOMBY - Pečky 2:0 (8\,13)
DTSTART;TZID=Europe/Berlin:20240901T100000
DTEND;TZID=Europe/Berlin:20240901T120000
LOCATION:Bios\, V Kolonii 1804 Nymburk
SUMMARY:ST-U16Z-Q1A: Nymburské BOMBY-Pečky
END:VEVENT
BEGIN:VEVENT
UID:33323731-6139-4135-b931-373163386464
DTSTAMP:20260421T210059Z
DESCRIPTION:1/6 Kolín B - Kutná Hora. 2:0 (17\,10)
DTSTART;TZID=Europe/Berlin:20240901T100000
DTEND;TZID=Europe/Berlin:20240901T120000
LOCATION:hala STAV\, SOŠ Kolín\, Brankovická 1417 Kolín - Kolín V
SUMMARY:ST-U16Z-Q1A: Kolín B-Kutná Hora.
END:VEVENT
BEGIN:VEVENT
UID:62613337-3431-4434-a230-386637313632
DTSTAMP:20260421T210059Z
DESCRIPTION:1/7 Kolín A - Pečky 2:0 (10\,16)
DTSTART;TZID=Europe/Berlin:20240901T100000
DTEND;TZID=Europe/Berlin:20240901T120000
LOCATION:hala STAV\, SOŠ Kolín\, Brankovická 1417 Kolín - Kolín V
SUMMARY:ST-U16Z-Q1A: Kolín A-Pečky
END:VEVENT
BEGIN:VEVENT
UID:34626263-6265-4333-b934-363732376434
DTSTAMP:20260421T210059Z
DESCRIPTION:1/8 Kutná Hora. - Nymburské BOMBY 0:2 (-9\,-12)
DTSTART;TZID=Europe/Berlin:20240901T100000
DTEND;TZID=Europe/Berlin:20240901T120000
LOCATION:Klimeška\, Čáslavská 274 Kutná Hora - Karlov
SUMMARY:ST-U16Z-Q1A: Kutná Hora.-Nymburské BOMBY
END:VEVENT
BEGIN:VEVENT
UID:61616365-3932-4531-b139-353463623631
DTSTAMP:20260421T210059Z
DESCRIPTION:1/9 Pečky - Kolín B 2:0 (14\,23)
DTSTART;TZID=Europe/Berlin:20240901T100000
DTEND;TZID=Europe/Berlin:20240901T120000
LOCATION:PARKHALA\,  Pečky1039
SUMMARY:ST-U16Z-Q1A: Pečky-Kolín B
END:VEVENT
BEGIN:VEVENT
UID:61323533-3030-4062-b933-643464363236
DTSTAMP:20260421T210059Z
DESCRIPTION:1/10 Nymburské BOMBY - Kolín A 2:0 (18\,11)
DTSTART;TZID=Europe/Berlin:20240901T100000
DTEND;TZID=Europe/Berlin:20240901T120000
LOCATION:Bios\, V Kolonii 1804 Nymburk
SUMMARY:ST-U16Z-Q1A: Nymburské BOMBY-Kolín A
END:VEVENT
END:VCALENDAR
